{"text_format":"2","workbook":"xlsx","n_sheets":15,"sheets":["W01","W02","W03","W04","W05","W06","W07","W08","W09","W10","W11","W12","Officer","Temp hum","Stats"],"not_rendered":{"charts":2,"images":0,"macros":0,"external_links":0,"defined_names":0,"comments":0,"pivot_tables":0},"unopened":[],"bounds":{"document_bytes":16777216,"sheet_cells":100000,"run_cost":"one","rows_first":2000,"rows_last":500,"rows_between":2000,"halvings":0,"cell_chars":16384,"cell_head_chars":4096},"cells_cut":0,"cells_raw":0,"read":"whole","date_system":"1900"}

{"sheet":"W01","index":0,"n_rows":100,"n_cols":18,"rows_kept":100,"cut":false,"hidden":false,"merged":[]}
[null,"Score sheet info (digital summary)"]
[null,"Mouse W01"]
[{"$nulls":5},"Weight",null,null,"Food",null,"Scoring"]
[null,"Experimenter","Day","Time","Age","Reference","Actual","Percentage","Offered","Consumed","Activity/behavior","Look/posture","Shit/piss","Body condition","Dehydration signs","Total","Implant","Comment"]
[null,"SR","2016-12-12","14:00:00",41,22.3,22.1,{"$f":"G5/F5","v":0.99103139013452923},null,null,0,null,null,0,null,{"$f":"SUM(K5:O5)","v":0}]
[null,"SR","2016-12-13","14:00:00",42,22.3,22.9,1.0269058295964124,null,null,0,null,null,0,null,{"$f":"SUM(K6:O6)","v":0}]
[null,"PG","2016-12-14","18:00:00",43,22.3,21.8,0.97757847533632292,null,null,0,null,null,0,null,0]
[null,"PG","2016-12-15","15:00:00",44,22.3,22,0.98654708520179368,null,null,0,null,null,1,null,1,0,"Wet fur"]
[null,"AG,SR,PG","2016-12-16","14:30:00",45,22.3,22.8,1.0224215246636772,null,null,0,null,null,0,null,0,0]
[null,"PG","2016-12-17","14:00:00",46,22.3,23,1.0313901345291479,null,null,0,null,null,0,null,0,0]
[null,"PG","2016-12-18","14:00:00",47,22.3,23.6,1.0582959641255605,null,null,0,null,null,0,null,0,0]
[null,"SR","2016-12-19","14:00:00",48,22.3,23.3,{"$f":"G12/F12","v":1.0448430493273542},null,null,0,null,null,0,null,0,0]
[null,"PG","2016-12-20","16:00:00",49,22.3,24.3,1.0896860986547086,null,null,0,null,null,0,null,0,0]
[null,"AG","2016-12-21","14:00:00",50,22.3,23.8,1.0672645739910314,null,null,0,null,null,0,null,0,0]
[null,"AG","2016-12-22","13:45:00",51,22.3,23.4,1.0493273542600896,null,null,0,null,null,0,null,0,0]
[null,"PG","2016-12-23","13:20:00",52,22.3,24.4,1.0941704035874438,null,null,0,null,null,0,null,0,0]
[null,null,"2016-12-24",null,53]
[null,null,"2016-12-25",null,54]
[null,null,"2016-12-26",null,55]
[null,null,"2016-12-27",null,56]
[null,null,"2016-12-28",null,57]
[null,null,"2016-12-29",null,58]
[null,null,"2016-12-30",null,59]
[null,null,"2016-12-31",null,60]
[null,null,"2017-01-01",null,61]
[null,"AG PG","2017-01-02","14:00:00",62,24.9,24.9,1,2,2,0,0,0,0,0,0,1,"bit of dirt above left eye"]
[null,"AG PG","2017-01-03","14:30:00",63,24.9,21.8,0.87550200803212863,2.7,2.7,0,0,0,0,0,0,1,"bit of dirt above left eye"]
[null,"AG MH","2017-01-04","14:30:00",64,24.9,21.5,0.86345381526104426,3.3,3.3,0,0,0,0,0,0,1,"bit of dirt above left eye"]
[null,"AG PG","2017-01-05","14:00:00",65,24.9,21,0.84337349397590367,3.2,3.2,0,0,0,0,0,0,1,"bit of dirt above left eye"]
[null,"AG PG","2017-01-06","14:00:00",66,24.9,21,0.84337349397590367,3.7,3.7,0,0,0,0,0,0,1,"bit of dirt above left eye"]
[null,"PG","2017-01-07","16:00:00",67,24.9,21,0.84337349397590367,3.9,3.9,0,0,0,0,0,0,1,"bit of dirt above left eye"]
[null,"AG","2017-01-08","15:00:00",68,24.9,21.4,0.85943775100401609,3.5,3.5,0,0,0,0,0,0,1,"bit of dirt above left eye"]
[null,"MH PG","2017-01-09","15:20:00",69,24.9,21.1,0.84738955823293183,3.7,3.7,0,0,0,0,0,0,1,"bit of dirt above left eye"]
[null,"AG PG","2017-01-10","15:20:00",70,24.9,21,0.84337349397590367,3.6,3.6,0,0,0,0,0,0,1,"dirt above left eye is gone, bit of blood left"]
[null,"AG SR","2017-01-11","14:45:00",71,24.9,21.1,0.84738955823293183,3.85,3.85,0,0,0,0,0,0,1,"bit of blood left"]
[null,"SR PG","2017-01-12","15:30:00",72,24.9,21,0.84337349397590367,3.95,3.95,0,0,0,0,0,0,0,"Looks normal again"]
[null,"MH PG","2017-01-13","15:10:00",73,24.9,21.2,0.85140562248995988,3.9,3.9,0,0,0,0,0,0,0]
[null,"AG MH","2017-01-14","14:00:00",74,24.9,21.3,0.85542168674698804,4.0999999999999996,4.0999999999999996,0,0,0,0,0,0,0]
[null,"PG SR","2017-01-15","14:45:00",75,24.9,21,0.84337349397590367,4.4000000000000004,4.4000000000000004,0,0,0,0,0,0,0]
[null,"MH SR","2017-01-16","14:50:00",76,24.9,20.9,0.8393574297188755,4.55,4.55,0,0,0,0,0,0,0]
[null,"MH PG SR","2017-01-17","17:20:00",77,24.9,20.7,0.83132530120481929,5.98,5.98,0,0,0,0,0,0,0]
[null,"MH PG","2017-01-18","14:30:00",78,24.9,21.9,0.87951807228915657,5.3,5.3,0,0,0,0,0,0,0]
[null,"PG SR","2017-01-19","15:03:00",79,24.9,21.5,0.86345381526104426,3.5,3.5,0,0,0,0,0,0,0]
[null,"AG PG SR","2017-01-20","14:49:00",80,24.9,21.6,0.86746987951807242,3.4,3.4,0,0,0,0,0,0,0]
[null,"MH SR","2017-01-21","14:15:00",81,24.9,22.3,0.89558232931726911,3.3,3.3,0,0,0,0,0,0,0]
[null,"MH","2017-01-22","14:35:00",82,24.9,21.8,0.87550200803212863,3.3,3.3,0,0,0,0,0,0,0]
[null,"AG PG","2017-01-23","14:38:00",83,24.9,21.7,0.87148594377510047,3.3,3.3,0,0,0,0,0,0,0]
[null,"PG SR","2017-01-24","15:18:00",84,24.9,21.9,0.87951807228915657,3.25,3.25,0,0,0,0,0,0,0]
[null,"AG SR","2017-01-25","14:31:00",85,24.9,22.2,0.89156626506024095,3.15,3.15,0,0,0,0,0,0,0]
[null,"AG SR","2017-01-26","14:37:00",86,24.9,21.9,0.87951807228915657,3.1,3.1,0,0,0,0,0,0,0]
[null,"MH PG","2017-01-27","14:47:00",87,24.9,21.9,0.87951807228915657,3,3,0,0,0,0,0,0,0]
[null,"MH PG","2017-01-28","14:28:00",88,24.9,21.9,0.87951807228915657,2.9,2.9,0,0,0,0,0,0,0]
[null,"PG","2017-01-29","14:45:00",89,24.9,21.8,0.87550200803212863,2.8,2.8,0,0,0,0,0,0,0]
[null,"AG PG SR","2017-01-30","14:39:00",90,24.9,21.4,0.85943775100401609,2.85,2.85,0,0,0,0,0,0,0]
[null,"AG PG","2017-01-31","14:25:00",91,24.9,21.5,0.86345381526104426,2.8,2.8,0,0,0,0,0,0,0]
[null,"PG SR","2017-02-01","14:51:00",92,24.9,21.2,0.85140562248995988,2.85,2.85,0,0,0,0,0,0,0]
[null,"AG PG","2017-02-02","14:26:00",93,24.9,21,0.84337349397590367,2.85,2.85,0,0,0,0,0,0,0]
[null,"PG SR","2017-02-03","14:02:00",94,24.9,20.7,0.83132530120481929,2.9,2.9,0,0,0,0,0,0,0]
[null,"AG PG","2017-02-04","14:19:00",95,24.9,20.7,0.83132530120481929,2.95,2.95,0,0,0,0,0,0,0]
[null,"SR","2017-02-05","15:35:00",96,24.9,20.5,0.82329317269076308,3.05,3.05,0,0,0,0,0,0,0]
[null,"AG PG","2017-02-06","14:23:00",97,24.9,20.7,0.83132530120481929,3.05,3.05,0,0,0,0,0,0,0]
[null,"PG SR","2017-02-07","14:34:00",98,24.9,20.6,0.82730923694779124,3.15,3.15,0,0,0,0,0,0,0]
[null,"MH PG","2017-02-08","14:33:00",99,24.9,20.7,0.83132530120481929,3.15,3.15,0,0,0,0,0,0,0]
[null,"AG PG","2017-02-09","14:24:00",100,24.9,20.3,0.81526104417670686,3.25,3.25,0,0,0,0,1,1,0]
[null,"PG SR","2017-02-10","14:10:00",101,24.9,20.9,0.8393574297188755,3.2,3.2,0,0,0,0,0,0,0]
[null,"PG SR","2017-02-11","14:32:00",102,24.9,21,0.84337349397590367,3.2,3.2,0,0,0,0,0,0,0]
[null,"PG SR","2017-02-12","14:30:00",103,24.9,21.3,0.85542168674698804,3.15,3.15,0,0,0,0,0,0,0]
[null,"MH PG","2017-02-13","14:25:00",104,24.9,21.4,0.85943775100401609,3.1,3.1,0,0,0,0,0,0,0]
[null,"PG SR","2017-02-14","14:53:00",105,24.9,21.3,0.85542168674698804,3.1,3.1,0,0,0,0,0,0,0]
[null,"MH PG","2017-02-15","14:20:00",106,24.9,21.4,{"$f":"G70/F70","v":0.85943775100401609},3.1,3.1,0,0,0,0,0,{"$f":"SUM(K70:O70)","v":0},0]
[null,"PG SR","2017-02-16","14:46:00",107,24.9,21.7,0.87148594377510047,2.9,2.9,0,0,0,0,0,0,0]
[null,"AG PG","2017-02-17","14:47:00",108,24.9,21.6,0.86746987951807242,2.8,2.8,0,0,0,0,0,0,0]
[null,"PG SR","2017-02-18","14:39:00",109,24.9,21.5,0.86345381526104426,2.8,2.8,0,0,0,0,0,0,0]
[null,"MH","2017-02-19","14:28:00",110,24.9,21.2,0.85140562248995988,2.85,2.85,0,0,0,0,0,0,0]
[null,"PG SR","2017-02-20","14:52:00",111,24.9,21.2,0.85140562248995988,2.85,2.85,0,0,0,0,0,0,0]
[null,"AG PG","2017-02-21","14:50:00",112,24.9,21.5,0.86345381526104426,2.8,2.8,0,0,0,0,0,0,0]
[null,"PG MH","2017-02-22","14:30:00",113,24.9,21.5,0.86345381526104426,2.75,2.75,0,0,0,0,0,0,0]
[null,"AG PG","2017-02-23","14:28:00",114,24.9,20.6,0.82730923694779124,3.1,3.1,0,0,0,0,0,0,0]
[null,"MH PG","2017-02-24","14:18:00",115,24.9,21.5,0.86345381526104426,2.75,2.75,0,0,0,0,0,0,0]
[null,"AG PG","2017-02-25","14:19:00",116,24.9,21.1,0.84738955823293183,2.85,2.85,0,0,0,0,0,0,0]
[null,"AG","2017-02-26","15:22:00",117,24.9,21.2,0.85140562248995988,2.85,2.85,0,0,0,0,0,0,0]
[null,"MH PG","2017-02-27","14:24:00",118,24.9,21,0.84337349397590367,2.9,2.9,0,0,0,0,0,0,0]
[null,"AG PG","2017-02-28","14:29:00",119,24.9,21.4,0.85943775100401609,2.85,2.85,0,0,0,0,0,0,0]
[null,"MH PG","2017-03-01","14:22:00",120,24.9,20.5,{"$f":"G84/F84","v":0.82329317269076308},3,3,0,0,0,0,0,{"$f":"SUM(K84:O84)","v":0},0]
[null,"AG PG","2017-03-02","14:33:00",121,24.9,21.1,0.84738955823293183,2.9,2.9,0,0,0,0,0,0,0]
[null,"PG SR","2017-03-03","14:41:00",122,24.9,21.1,0.84738955823293183,2.9,2.9,0,0,0,0,0,0,0]
[null,"PG","2017-03-04","17:06:00",123,24.9,20.7,0.83132530120481929,3,3,0,0,0,0,0,0,0]
[null,"SR","2017-03-05","17:11:00",124,24.9,20.9,0.8393574297188755,3,3,0,0,0,0,0,0,0]
[null,"PG SR","2017-03-06","14:40:00",125,24.9,21.3,0.85542168674698804,2.9,2.9,0,0,0,0,0,0,0]
[null,"PG SR","2017-03-07","14:59:00",126,24.9,21.7,0.87148594377510047,"ad lib","ad lib",0,0,0,0,0,0,0]
[null,"PG SR","2017-03-08","16:00:00",127,24.9,26.6,1.0682730923694781,null,null,0,0,0,0,0,0,0]
[null,"PG SR","2017-03-09","14:43:00",128,24.9,26.9,1.0803212851405624,null,null,0,0,0,0,0,0,0]
[null,"PG SR","2017-03-10","14:11:00",129,24.9,28.1,1.1285140562248996,null,null,0,0,0,0,0,0,0]
[null,null,"2017-03-11",null,130]
[null,null,"2017-03-12",null,131]
[null,"AG","2017-03-13","15:00:00",132,24.9,27.4,{"$f":"G96/F96","v":1.1004016064257027},null,null,0,0,0,0,0,0,0]
[null,null,"2017-03-14",null,133]
[null,"MH PG","2017-03-15","14:45:00",134,24.9,27.4,1.1004016064257027,null,null,0,0,0,0,0,{"$f":"SUM(K98:O98)","v":0},0]
[null,null,"2017-03-16",null,135]
[null,null,"2017-03-17",null,136,24.9,null,{"$f":"G100/F100","v":0},{"$nulls":7},{"$f":"SUM(K100:O100)","v":0}]

{"sheet":"W02","index":1,"n_rows":100,"n_cols":18,"rows_kept":100,"cut":false,"hidden":false,"merged":[]}
[null,"Score sheet info (digital summary)"]
[null,"Mouse W02"]
[{"$nulls":5},"Weight",null,null,"Water",null,"Scoring"]
[null,"Experimenter","Day","Time","Age","Reference","Actual","Percentage","Offered","Consumed","Activity/behavior","Look/posture","Shit/piss","Body condition","Dehydration signs","Total","Implant","Comment"]
[null,"SR","2016-12-12","14:00:00",41,22.5,23,{"$f":"G5/F5","v":1.0222222222222221},null,null,0,null,null,0,null,{"$f":"SUM(K5:O5)","v":0}]
[null,"SR","2016-12-13","14:00:00",42,22.5,23,{"$f":"G6/F6","v":1.0222222222222221},null,null,0,null,null,0,null,{"$f":"SUM(K6:O6)","v":0}]
[null,"PG","2016-12-14","18:00:00",43,22.5,21.6,0.96000000000000008,null,null,0,null,null,0,null,0]
[null,"PG","2016-12-15","15:00:00",44,22.5,21.7,0.96444444444444444,null,null,0,null,null,1,null,1,0,"Wet fur"]
[null,"AG,SR,PG","2016-12-16","14:30:00",45,22.5,22.9,1.0177777777777777,null,null,0,null,null,0,null,0,0]
[null,"PG","2016-12-17","14:00:00",46,22.5,23.1,1.0266666666666668,null,null,0,null,null,0,null,0,0]
[null,"PG","2016-12-18","14:00:00",47,22.5,23.5,1.0444444444444445,null,null,0,null,null,0,null,0,0]
[null,"SR","2016-12-19","14:00:00",48,22.5,24.1,1.0711111111111111,null,null,0,null,null,0,null,0,0]
[null,"PG","2016-12-20","16:00:00",49,22.5,24.4,1.0844444444444443,null,null,0,null,null,0,null,0,0]
[null,"AG","2016-12-21","14:00:00",50,22.5,24.6,1.0933333333333335,null,null,0,null,null,0,null,0,0]
[null,"AG","2016-12-22","13:45:00",51,22.5,24.4,1.0844444444444443,null,null,0,null,null,0,null,0,0]
[null,"PG","2016-12-23","13:20:00",52,22.5,24.9,1.1066666666666667,null,null,0,null,null,0,null,0,0]
[null,null,"2016-12-24",null,53]
[null,null,"2016-12-25",null,54]
[null,null,"2016-12-26",null,55]
[null,null,"2016-12-27",null,56]
[null,null,"2016-12-28",null,57]
[null,null,"2016-12-29",null,58]
[null,null,"2016-12-30",null,59]
[null,null,"2016-12-31",null,60]
[null,null,"2017-01-01",null,61]
[null,"AG PG","2017-01-02","14:00:00",62,25.7,25.7,1,1.57,1.57,0,0,0,0,0,0,0]
[null,"AG PG","2017-01-03","14:30:00",63,25.7,23.2,0.90272373540856032,1.57,1.57,0,0,0,0,0,0,0]
[null,"AG MH","2017-01-04","14:30:00",64,25.7,22.9,0.89105058365758749,1.5,1.5,0,0,0,0,0,0,0]
[null,"AG PG","2017-01-05","14:00:00",65,25.7,22.4,0.87159533073929962,1.5,1.5,0,0,0,0,0,0,0]
[null,"AG PG","2017-01-06","14:00:00",66,25.7,22,0.85603112840466933,1.57,1.57,0,0,0,0,0,0,0]
[null,"PG","2017-01-07","16:00:00",67,25.7,22.1,0.8599221789883269,1.57,1.57,0,0,0,0,0,0,0]
[null,"ag","2017-01-08","15:00:00",68,25.7,22,0.85603112840466933,1.6,1.6,0,0,0,0,0,0,0]
[null,"MH PG","2017-01-09","14:50:00",69,25.7,22.6,0.87937743190661488,1.57,1.57,0,0,0,0,0,0,0]
[null,"AG PG","2017-01-10","14:30:00",70,25.7,22.9,0.89105058365758749,1.4,1.4,0,0,0,0,0,0,0]
[null,"AG SR","2017-01-11","14:56:00",71,25.7,22.9,0.89105058365758749,1.3,1.3,0,0,0,0,0,0,0]
[null,"SR PG","2017-01-12","14:50:00",72,25.7,22.6,0.87937743190661488,1.4,1.4,0,0,0,0,0,0,0]
[null,"MH PG","2017-01-13","14:35:00",73,25.7,23,0.89494163424124518,1.3,1.3,0,0,0,0,0,0,0]
[null,"AG MH","2017-01-14","14:00:00",74,25.7,22.8,0.88715953307393003,1.3,1.3,0,0,0,0,0,0,0]
[null,"PG SR","2017-01-15","14:20:00",75,25.7,22.8,0.88715953307393003,1.3,1.3,0,0,0,0,0,0,0]
[null,"MH SR","2017-01-16","14:20:00",76,25.7,22.7,0.88326848249027234,1.3,1.3,0,0,0,0,0,0,0]
[null,"MH PG SR","2017-01-17","17:20:00",77,25.7,22.5,0.8754863813229572,1.31,1.31,0,0,0,0,0,{"$f":"SUM(K41:O41)","v":0},0]
[null,"MH PG","2017-01-18","14:40:00",78,25.7,22.5,0.8754863813229572,1.25,1.25,0,0,0,0,0,{"$f":"SUM(K42:O42)","v":0},0]
[null,"PG SR","2017-01-19","15:04:00",79,25.7,22.4,0.87159533073929962,1.2,1.2,0,0,0,0,0,0,0]
[null,"AG PG SR","2017-01-20","14:54:00",80,25.7,22.4,0.87159533073929962,1.1000000000000001,1.1000000000000001,0,0,0,0,0,0,0]
[null,"MH SR","2017-01-21","14:20:00",81,25.7,22.1,0.8599221789883269,1.1000000000000001,1.1000000000000001,0,0,0,0,0,0,0]
[null,"MH","2017-01-22","14:05:00",82,25.7,22,0.85603112840466933,1.1000000000000001,1.1000000000000001,0,0,0,0,0,0,0]
[null,"AG PG","2017-01-23","14:39:00",83,25.7,21.8,0.84824902723735418,1.2,1.2,0,0,0,0,0,0,0]
[null,"PG SR","2017-01-24","15:24:00",84,25.7,21.6,0.84046692607003903,1.25,1.25,0,0,0,0,1,1,0]
[null,"AG SR","2017-01-25","14:34:00",85,25.7,21.6,0.84046692607003903,1.35,1.35,0,0,0,0,1,0,0]
[null,"AG SR","2017-01-26","14:37:00",86,25.7,21.6,0.84046692607003903,1.4,1.4,0,0,0,0,0,0,0]
[null,"MH PG","2017-01-27","14:50:00",87,25.7,21.9,0.85214007782101164,1.35,1.35,0,0,0,0,1,1,1,"Little rim with blood crust visible"]
[null,"MH PG","2017-01-28","15:00:00",88,25.7,21.6,0.84046692607003903,1.4,1.4,0,0,0,0,0,0,1,"Little rim with blood crust visible"]
[null,"PG","2017-01-29","14:45:00",89,25.7,21.5,0.83657587548638135,1.4,1.4,0,0,0,0,0,0,1,"Little rim with blood crust visible"]
[null,"AG PG SR","2017-01-30","14:40:00",90,25.7,21.9,0.85214007782101164,1.4,1.4,0,0,0,0,0,0,1,"Little rim with blood crust visible"]
[null,"AG PG","2017-01-31","14:27:00",91,25.7,21.8,0.84824902723735418,1.4,1.4,0,0,0,0,0,0,1,"Little rim with blood crust visible"]
[null,"PG SR","2017-02-01","14:55:00",92,25.7,21.6,0.84046692607003903,1.68,1.68,0,0,0,0,0,0,1,"Little rim with blood crust visible"]
[null,"AG PG","2017-02-02","14:27:00",93,25.7,21.7,0.8443579766536965,1.4,1.4,0,0,0,0,0,0,1,"Little rim with blood crust visible"]
[null,"PG SR","2017-02-03","14:03:00",94,25.7,21.6,0.84046692607003903,1.45,1.45,0,0,0,0,0,0,0]
[null,"AG PG","2017-02-04","14:20:00",95,25.7,21.6,0.84046692607003903,1.45,1.45,0,0,0,0,0,0,0]
[null,"SR","2017-02-05","15:36:00",96,25.7,21.8,0.84824902723735418,1.45,1.45,0,0,0,0,0,0,0]
[null,"AG PG","2017-02-06","14:25:00",97,25.7,22.2,0.86381322957198448,1.4,1.4,0,0,0,0,0,0,1,"Little rim with blood crust visible"]
[null,"PG SR","2017-02-07","14:37:00",98,25.7,22.3,0.86770428015564205,1.35,1.35,0,0,0,0,0,0,1,"Little rim with blood crust visible"]
[null,"MH PG","2017-02-08","14:33:00",99,25.7,22.1,0.8599221789883269,1.35,1.35,0,0,0,0,0,0,1,"Little rim with blood crust visible"]
[null,"AG PG","2017-02-09","14:25:00",100,25.7,21.9,0.85214007782101164,1.35,1.35,0,0,0,0,0,0,1,"Little rim with blood crust visible"]
[null,"PG SR","2017-02-10","14:11:00",101,25.7,21.6,0.84046692607003903,1.4,1.4,0,1,0,0,0,1,1,"Little rim with blood crust visible"]
[null,"PG SR","2017-02-11","14:34:00",102,25.7,21.4,0.83268482490272366,1.5,1.5,0,0,0,0,1,1,1,"Little rim with blood crust visible"]
[null,"PG SR","2017-02-12","14:31:00",103,25.7,21.2,0.82490272373540852,1.6,1.6,0,1,0,0,0,1,1,"Little rim with blood crust visible"]
[null,"MH PG","2017-02-13","14:25:00",104,25.7,21.2,0.82490272373540852,1.8,1.8,0,0,0,0,1,1,1,"Little rim with blood crust visible"]
[null,"PG SR","2017-02-14","14:54:00",105,25.7,21.4,0.83268482490272366,1.95,1.95,0,1,0,0,0,1,1,"Little rim with blood crust visible"]
[null,"MH PG","2017-02-15","14:23:00",106,25.7,21.6,{"$f":"G70/F70","v":0.84046692607003903},1.95,1.95,0,1,0,0,0,{"$f":"SUM(K70:O70)","v":1},1,"Little rim with blood crust visible"]
[null,"PG SR","2017-02-16","14:46:00",107,25.7,22.1,0.8599221789883269,1.9,1.9,0,0,0,0,0,0,1,"Little rim with blood crust visible"]
[null,"AG PG","2017-02-17","14:48:00",108,25.7,22.3,0.86770428015564205,1.85,1.85,0,1,0,0,0,1,1,"Little rim with blood crust visible"]
[null,"PG SR","2017-02-18","14:40:00",109,25.7,22.3,0.86770428015564205,1.8,1.8,0,0,0,0,0,0,1,"Little rim with blood crust visible"]
[null,"MH","2017-02-19","15:50:00",110,25.7,22.4,0.87159533073929962,1.7,1.7,0,1,0,0,0,1,1,"Little rim with blood crust visible"]
[null,"PG SR","2017-02-20","14:54:00",111,25.7,22.9,0.89105058365758749,1.6,1.6,0,0,0,0,1,1,1,"Right eye was closed, reopened it by brushing lightly with saline. Used a little histoacryl to fix skin to implant."]
[null,"AG PG","2017-02-21","14:51:00",112,25.7,22.8,0.88715953307393003,1.55,1.55,0,0,0,0,0,0,1,"Little rim with blood crust visible"]
[null,"PG MH","2017-02-22","14:33:00",113,25.7,22.9,0.89105058365758749,1.45,1.45,0,0,0,0,1,1,1,"Little rim with blood crust visible"]
[null,"AG PG","2017-02-23","14:27:00",114,25.7,22.6,0.87937743190661488,1.45,1.45,0,0,0,0,1,1,1,"Little rim with blood crust visible"]
[null,"MH PG","2017-02-24","14:20:00",115,25.7,22.5,0.8754863813229572,1.4,1.4,0,0,0,0,1,1,1,"Little rim with blood crust visible"]
[null,"AG PG","2017-02-25","14:20:00",116,25.7,22.4,0.87159533073929962,1.32,1.32,0,0,0,0,1,1,1,"Little rim with blood crust visible"]
[null,"AG","2017-02-26","15:40:00",117,25.7,22,0.85603112840466933,1.35,1.35,0,0,0,0,1,1,1,"Little rim with blood crust visible"]
[null,"MH PG","2017-02-27","14:25:00",118,25.7,22.4,0.87159533073929962,1.3,1.3,0,0,0,0,1,1,1,"Little rim with blood crust visible"]
[null,"AG PG","2017-02-28","14:30:00",119,25.7,22.2,0.86381322957198448,1.55,1.55,0,0,0,0,1,1,1,"Little rim with blood crust visible"]
[null,"MH PG","2017-03-01","14:25:00",120,25.7,22,{"$f":"G84/F84","v":0.85603112840466933},1.47,1.47,0,0,0,0,1,{"$f":"SUM(K84:O84)","v":1},1,"Little rim with blood crust visible"]
[null,"AG PG","2017-03-02","14:34:00",121,25.7,21.7,0.8443579766536965,1.44,1.44,0,0,0,0,1,1,1,"Little rim with blood crust visible"]
[null,"PG SR","2017-03-03","14:42:00",122,25.7,21.7,0.8443579766536965,1.45,1.45,0,0,0,0,1,1,1,"Little rim with blood crust visible"]
[null,"PG","2017-03-04","17:08:00",123,25.7,21.5,0.83657587548638135,1.5,1.5,0,0,0,0,1,1,1,"Little rim with blood crust visible"]
[null,"SR","2017-03-05","17:13:00",124,25.7,21.9,0.85214007782101164,1.45,1.45,0,0,0,0,1,1,1,"Little rim with blood crust visible"]
[null,"PG SR","2017-03-06","14:55:00",125,25.7,22.4,0.87159533073929962,1.2,1.2,0,1,0,0,0,1,1,"Little rim with blood crust visible"]
[null,"PG SR","2017-03-07","15:00:00",126,25.7,21.9,0.85214007782101164,1.45,1.45,0,1,0,0,0,1,1,"Little rim with blood crust visible"]
[null,"PG SR","2017-03-08","16:06:00",127,25.7,22.2,0.86381322957198448,1.99,1.99,0,1,0,0,0,1,1,"Little rim with blood crust visible"]
[null,"PG SR","2017-03-09","14:44:00",128,25.7,21.9,0.85214007782101164,"ad lib","ad lib",0,1,0,0,0,1,1,"Little rim with blood crust visible"]
[null,"PG SR","2017-03-10","14:12:00",129,25.7,26.2,1.0194552529182879,null,null,0,0,0,0,0,0,1,"Little rim with blood crust visible"]
[null,null,"2017-03-11",null,130]
[null,null,"2017-03-12",null,131]
[null,"AG","2017-03-13","15:00:00",132,25.7,27.8,{"$f":"G96/F96","v":1.0817120622568095},null,null,0,0,0,0,0,0,1,"Little rim with blood crust visible"]
[null,null,"2017-03-14",null,133]
[null,"MH PG","2017-03-15","14:47:00",134,25.7,28,1.0894941634241246,null,null,0,0,0,0,0,{"$f":"SUM(K98:O98)","v":0},1,"Little rim with blood crust visible"]
[null,null,"2017-03-16",null,135]
[null,null,"2017-03-17",null,136,25.7,null,{"$f":"G100/F100","v":0},{"$nulls":7},{"$f":"SUM(K100:O100)","v":0}]

{"sheet":"W03","index":2,"n_rows":100,"n_cols":18,"rows_kept":100,"cut":false,"hidden":false,"merged":[]}
[null,"Score sheet info (digital summary)"]
[null,"Mouse W03"]
[{"$nulls":5},"Weight",null,null,"Food",null,"Scoring"]
[null,"Experimenter","Day","Time","Age","Reference","Actual","Percentage","Offered","Consumed","Activity/behavior","Look/posture","Shit/piss","Body condition","Dehydration signs","Total","Implant","Comment"]
[null,"SR","2016-12-12","14:00:00",41,23,22.9,{"$f":"G5/F5","v":0.99565217391304339},null,null,0,null,null,0,null,{"$f":"SUM(K5:O5)","v":0}]
[null,"SR","2016-12-13","14:00:00",42,23,23.5,{"$f":"G6/F6","v":1.0217391304347827},null,null,0,null,null,0,null,{"$f":"SUM(K6:O6)","v":0}]
[null,"PG","2016-12-14","18:00:00",43,23,22.7,0.9869565217391304,null,null,0,null,null,0,null,0]
[null,"PG","2016-12-15","15:00:00",44,23,20.8,0.90434782608695652,null,null,0,null,null,1,null,1,0,"Wet fur"]
[null,"AG,SR,PG","2016-12-16","14:30:00",45,23,22.1,0.96086956521739142,null,null,0,null,null,0,null,0,0]
[null,"PG","2016-12-17","14:00:00",46,23,23.1,1.0043478260869565,null,null,0,null,null,0,null,0,0]
[null,"PG","2016-12-18","14:00:00",47,23,23.5,1.0217391304347827,null,null,0,null,null,0,null,0,0]
[null,"SR","2016-12-19","14:00:00",48,23,23.4,1.017391304347826,null,null,0,null,null,0,null,0,0]
[null,"PG","2016-12-20","16:00:00",49,23,23.8,1.0347826086956522,null,null,0,null,null,0,null,0,0]
[null,"AG","2016-12-21","14:00:00",50,23,24.1,1.0478260869565219,null,null,0,null,null,0,null,0,0]
[null,"AG","2016-12-22","13:45:00",51,23,23.5,1.0217391304347827,null,null,0,null,null,0,null,0,0]
[null,"PG","2016-12-23","13:20:00",52,23,23.8,1.0347826086956522,null,null,0,null,null,0,null,0,0]
[null,null,"2016-12-24",null,53]
[null,null,"2016-12-25",null,54]
[null,null,"2016-12-26",null,55]
[null,null,"2016-12-27",null,56]
[null,null,"2016-12-28",null,57]
[null,null,"2016-12-29",null,58]
[null,null,"2016-12-30",null,59]
[null,null,"2016-12-31",null,60]
[null,null,"2017-01-01",null,61]
[null,"AG PG","2017-01-02","14:00:00",62,24.6,24.6,1,2,2,0,0,0,0,0,0,0]
[null,"AG PG","2017-01-03","14:30:00",63,24.6,21.3,0.86585365853658536,3,3,0,0,0,0,0,0,0]
[null,"AG MH","2017-01-04","14:30:00",64,24.6,20.9,0.84959349593495925,3.1,3.1,0,0,0,0,0,0,1,"bit of dirt above left eye"]
[null,"AG PG","2017-01-05","14:00:00",65,24.6,20.9,0.84959349593495925,3.4,3.4,0,0,0,0,0,0,1,"bit of dirt above left eye"]
[null,"AG PG","2017-01-06","14:00:00",66,24.6,20.9,0.84959349593495925,3.5,3.5,0,0,0,0,0,0,1,"bit of dirt above left eye"]
[null,"PG","2017-01-07","16:00:00",67,24.6,20.2,0.82113821138211374,4.3,4.3,0,0,0,0,0,0,1,"bit of dirt above left eye"]
[null,"AG","2017-01-08","15:00:00",68,24.6,20.9,0.84959349593495925,3,3,0,0,0,0,0,0,1,"bit of dirt above left eye"]
[null,"MH PG","2017-01-09","15:10:00",69,24.6,20.6,0.83739837398373984,3.7,3.7,0,0,0,0,0,0,1,"bit of dirt above left eye"]
[null,"AG PG","2017-01-10","15:00:00",70,24.6,20.8,0.84552845528455278,3.64,3.64,0,0,0,0,0,0,1,"bit of dirt above left eye"]
[null,"AG SR","2017-01-11","14:45:00",71,24.6,20.7,0.84146341463414631,3.9,3.9,0,0,0,0,0,0,1,"bit of dirt above left eye"]
[null,"SR PG","2017-01-12","15:20:00",72,24.6,20.9,0.84959349593495925,3.68,3.68,0,0,0,0,0,0,1,"bit of dirt above left eye"]
[null,"MH PG","2017-01-13","15:15:00",73,24.6,20.7,0.84146341463414631,3.8,3.8,0,0,0,0,0,0,1,"bit of dirt above left eye"]
[null,"AG MH","2017-01-14","14:00:00",74,24.6,20.3,0.82520325203252032,4.9000000000000004,4.9000000000000004,0,0,0,0,0,0,1,"bit of dirt above left eye"]
[null,"PG SR","2017-01-15","14:45:00",75,24.6,20.9,0.84959349593495925,4.9000000000000004,4.9000000000000004,0,0,0,0,0,0,1,"bit of dirt above left eye"]
[null,"MH SR","2017-01-16","15:05:00",76,24.6,20.8,0.84552845528455278,5.0999999999999996,5.0999999999999996,0,0,0,0,0,0,1,"bit of dirt above left eye"]
[null,"MH PG SR","2017-01-17","17:29:00",77,24.6,20.8,0.84552845528455278,6.1,6.1,0,0,0,0,0,0,1,"bit of dirt above left eye"]
[null,"MH PG","2017-01-18","14:40:00",78,24.6,21.5,0.8739837398373983,5.08,5.08,0,0,0,0,0,0,1,"bit of dirt above left eye"]
[null,"PG SR","2017-01-19","15:05:00",79,24.6,21.3,0.86585365853658536,3.4,3.4,0,0,0,0,0,0,1,"bit of dirt above left eye"]
[null,"AG PG SR","2017-01-20","14:58:00",80,24.6,21,0.85365853658536583,3.5,3.5,0,0,0,0,0,0,1,"bit of dirt above left eye"]
[null,"MH SR","2017-01-21","14:38:00",81,24.6,21.2,0.86178861788617878,3.4,3.4,0,0,0,0,0,0,1,"bit of dirt above left eye"]
[null,"MH","2017-01-22","14:45:00",82,24.6,21.1,0.85772357723577242,3.4,3.4,0,0,0,0,0,0,1,"bit of dirt above left eye"]
[null,"AG PG","2017-01-23","14:40:00",83,24.6,21.3,0.86585365853658536,3.4,3.4,0,0,0,0,1,1,1,"bit of dirt above left eye"]
[null,"PG SR","2017-01-24","15:25:00",84,24.6,21,0.85365853658536583,3.4,3.4,0,0,0,0,0,0,1,"bit of dirt above left eye"]
[null,"AG SR","2017-01-25","14:39:00",85,24.6,21.2,0.86178861788617878,3.4,3.4,0,0,0,0,0,0,1,"bit of dirt above left eye"]
[null,"AG SR","2017-01-26","14:41:00",86,24.6,21.3,0.86585365853658536,3.4,3.4,0,0,0,0,0,0,1,"bit of dirt above left eye"]
[null,"MH PG","2017-01-27","14:56:00",87,24.6,21.2,0.86178861788617878,3.4,3.4,0,0,0,0,0,0,1,"bit of dirt above left eye"]
[null,"MH PG","2017-01-28","14:58:00",88,24.6,21.5,0.8739837398373983,3.3,3.3,0,0,0,0,0,0,1,"bit of dirt above left eye"]
[null,"PG","2017-01-29","14:50:00",89,24.6,21.5,0.8739837398373983,3.2,3.2,0,0,0,0,0,0,1,"bit of dirt above left eye"]
[null,"AG PG SR","2017-01-30","14:42:00",90,24.6,21.1,0.85772357723577242,3.3,3.3,0,0,0,0,0,0,1,"bit of dirt above left eye"]
[null,"AG PG","2017-01-31","14:26:00",91,24.6,21.5,0.8739837398373983,3.2,3.2,0,0,0,0,0,0,1,"bit of dirt above left eye"]
[null,"PG SR","2017-02-01","14:53:00",92,24.6,21.1,0.85772357723577242,3.25,3.25,0,0,0,0,0,0,1,"bit of dirt above left eye"]
[null,"AG PG","2017-02-02","14:29:00",93,24.6,21,0.85365853658536583,3.25,3.25,0,0,0,0,0,0,1,"bit of dirt above left eye"]
[null,"PG SR","2017-02-03","14:04:00",94,24.6,21.2,0.86178861788617878,3.2,3.2,0,0,0,0,1,1,1,"bit of dirt above left eye"]
[null,"AG PG","2017-02-04","14:21:00",95,24.6,21,0.85365853658536583,3.2,3.2,0,0,0,0,0,0,1,"bit of dirt above left eye"]
[null,"SR","2017-02-05","15:37:00",96,24.6,21.1,0.85772357723577242,3.2,3.2,0,0,0,0,0,0,1,"bit of dirt above left eye"]
[null,"AG PG","2017-02-06","14:26:00",97,24.6,21.1,0.85772357723577242,3.2,3.2,0,0,0,0,0,0,1,"bit of dirt above left eye"]
[null,"PG SR","2017-02-07","14:39:00",98,24.6,21,0.85365853658536583,3.2,3.2,0,0,0,0,0,0,1,"bit of dirt above left eye"]
[null,"MH PG","2017-02-08","14:36:00",99,24.6,20.9,0.84959349593495925,3.2,3.2,0,0,0,0,0,0,1,"bit of dirt above left eye"]
[null,"AG PG","2017-02-09","14:38:00",100,24.6,21,0.85365853658536583,3.2,3.2,0,0,0,0,0,0,1,"bit of dirt above left eye"]
[null,"PG SR","2017-02-10","14:12:00",101,24.6,20.8,0.84552845528455278,3.2,3.2,0,0,0,0,0,0,1,"bit of dirt above left eye"]
[null,"PG SR","2017-02-11","14:34:00",102,24.6,20.8,0.84552845528455278,3.2,3.2,0,0,0,0,0,0,1,"bit of dirt above left eye"]
[null,"PG SR","2017-02-12","14:32:00",103,24.6,20.9,0.84959349593495925,3.2,3.2,0,0,0,0,0,0,1,"bit of dirt above left eye"]
[null,"MH PG","2017-02-13","14:27:00",104,24.6,21.1,0.85772357723577242,3.2,3.2,0,0,0,0,0,0,1,"bit of dirt above left eye"]
[null,"PG SR","2017-02-14","14:56:00",105,24.6,20.9,0.84959349593495925,3.2,3.2,0,0,0,0,1,1,1,"bit of dirt above left eye"]
[null,"MH PG","2017-02-15","14:25:00",106,24.6,20.9,{"$f":"G70/F70","v":0.84959349593495925},3.2,3.2,0,0,0,0,0,{"$f":"SUM(K70:O70)","v":0},1,"bit of dirt above left eye"]
[null,"PG SR","2017-02-16","14:48:00",107,24.6,20.9,0.84959349593495925,3.2,3.2,0,0,0,0,0,0,1,"bit of dirt above left eye"]
[null,"AG PG","2017-02-17","14:49:00",108,24.6,21,0.85365853658536583,3.2,3.2,0,0,0,0,0,0,1,"bit of dirt above left eye"]
[null,"PG SR","2017-02-18","14:41:00",109,24.6,21,0.85365853658536583,3.2,3.2,0,0,0,0,0,0,1,"bit of dirt above left eye"]
[null,"MH ","2017-02-19","16:34:00",110,24.6,20.5,0.83333333333333326,3.3,3.3,0,0,0,0,0,0,1,"bit of dirt above left eye"]
[null,"PG SR","2017-02-20","14:55:00",111,24.6,20.6,0.83739837398373984,3.4,3.4,0,0,0,0,0,0,1,"bit of dirt above left eye"]
[null,"AG PG","2017-02-21","14:53:00",112,24.6,20.8,0.84552845528455278,3.4,3.4,0,0,0,0,0,0,1,"bit of dirt above left eye"]
[null,"PG MH","2017-02-22","14:35:00",113,24.6,20.9,0.84959349593495925,3.4,3.4,0,1,0,0,0,1,1,"bit of dirt above left eye"]
[null,"AG PG","2017-02-23","14:30:00",114,24.6,20.8,0.84552845528455278,3.4,3.4,0,0,0,0,0,0,1,"bit of dirt above left eye"]
[null,"MH PG","2017-02-24","14:22:00",115,24.6,21.4,0.86991869918699172,3.3,3.3,0,0,0,0,0,0,1,"bit of dirt above left eye"]
[null,"AG PG","2017-02-25","14:21:00",116,24.6,20.8,0.84552845528455278,3.4,3.4,0,0,0,0,0,0,1,"bit of dirt above left eye"]
[null,"AG","2017-02-26","15:23:00",117,24.6,20.9,0.84959349593495925,3.4,3.4,0,0,0,0,0,0,1,"bit of dirt above left eye"]
[null,"MH PG","2017-02-27","14:27:00",118,24.6,21,0.85365853658536583,3.35,3.35,0,0,0,0,0,0,1,"bit of dirt above left eye"]
[null,"AG PG","2017-02-28","14:31:00",119,24.6,21.1,0.85772357723577242,3.3,3.3,0,0,0,0,0,0,1,"bit of dirt above left eye"]
[null,"MH PG","2017-03-01","14:27:00",120,24.6,21,{"$f":"G84/F84","v":0.85365853658536583},3.3,3.3,0,0,0,0,0,{"$f":"SUM(K84:O84)","v":0},1,"bit of dirt above left eye"]
[null,"AG PG","2017-03-02","14:35:00",121,24.6,20.7,0.84146341463414631,3.35,3.35,0,0,0,0,0,0,1,"bit of dirt above left eye"]
[null,"PG SR","2017-03-03","14:44:00",122,24.6,20.8,0.84552845528455278,3.35,3.35,0,0,0,0,0,0,1,"bit of dirt above left eye"]
[null,"PG","2017-03-04","17:10:00",123,24.6,20.3,0.82520325203252032,3.5,3.5,0,0,0,0,0,0,1,"bit of dirt above left eye"]
[null,"SR","2017-03-05","17:16:00",124,24.6,20.399999999999999,0.82926829268292668,3.5,3.5,0,0,0,0,0,0,1,"bit of dirt above left eye"]
[null,"PG SR","2017-03-06","15:27:00",125,24.6,20.5,0.83333333333333326,3.5,3.5,0,0,0,0,0,0,1,"bit of dirt above left eye"]
[null,"PG SR","2017-03-07","15:01:00",126,24.6,20.9,0.84959349593495925,"ad lib","ad lib",0,0,0,0,0,0,1,"bit of dirt above left eye"]
[null,"PG SR","2017-03-08","16:00:00",127,24.6,25.4,1.032520325203252,null,null,0,0,0,0,0,0,1,"bit of dirt above left eye"]
[null,"PG SR","2017-03-09","14:46:00",128,24.6,27,1.097560975609756,null,null,0,0,0,0,0,0,0]
[null,"PG SR","2017-03-10","14:13:00",129,24.6,27.8,1.1300813008130082,null,null,0,0,0,0,0,0,0]
[null,null,"2017-03-11",null,130]
[null,null,"2017-03-12",null,131]
[null,"AG","2017-03-13","15:00:00",132,24.6,28,{"$f":"G96/F96","v":1.1382113821138211},null,null,0,0,0,0,0,0,0]
[null,null,"2017-03-14",null,133]
[null,"MH PG","2017-03-15","14:48:00",134,24.6,27.4,1.1138211382113821,null,null,0,0,0,0,0,{"$f":"SUM(K98:O98)","v":0},0]
[null,null,"2017-03-16",null,135]
[null,null,"2017-03-17",null,136,24.6,null,{"$f":"G100/F100","v":0},{"$nulls":7},{"$f":"SUM(K100:O100)","v":0}]

{"sheet":"W04","index":3,"n_rows":100,"n_cols":18,"rows_kept":100,"cut":false,"hidden":false,"merged":[]}
[null,"Score sheet info (digital summary)"]
[null,"Mouse W04"]
[{"$nulls":5},"Weight",null,null,"Water",null,"Scoring"]
[null,"Experimenter","Day","Time","Age","Reference","Actual","Percentage","Offered","Consumed","Activity/behavior","Look/posture","Shit/piss","Body condition","Dehydration signs","Total","Implant","Comment"]
[null,"SR","2016-12-12","14:00:00",41,21,20.8,{"$f":"G5/F5","v":0.99047619047619051},null,null,0,null,null,0,null,{"$f":"SUM(K5:O5)","v":0}]
[null,"SR","2016-12-13","14:00:00",42,21,21.6,{"$f":"G6/F6","v":1.0285714285714287},null,null,0,null,null,0,null,{"$f":"SUM(K6:O6)","v":0}]
[null,"PG","2016-12-14","18:00:00",43,21,20.7,0.98571428571428565,null,null,0,null,null,0,null,0]
[null,"PG","2016-12-15","15:00:00",44,21,19.3,0.91904761904761911,null,null,0,null,null,1,null,1,0,"Wet fur"]
[null,"AG,SR,PG","2016-12-16","14:30:00",45,21,20.6,0.98095238095238102,null,null,0,null,null,0,null,0,0]
[null,"PG","2016-12-17","14:00:00",46,21,19.8,0.94285714285714284,null,null,0,null,null,0,null,0,0]
[null,"PG","2016-12-18","14:00:00",47,21,21.5,1.0238095238095237,null,null,0,null,null,0,null,0,0]
[null,"SR","2016-12-19","14:00:00",48,21,22.8,1.0857142857142859,null,null,0,null,null,0,null,0,0]
[null,"PG","2016-12-20","16:00:00",49,21,23,1.0952380952380953,null,null,0,null,null,0,null,0,0]
[null,"AG","2016-12-21","14:00:00",50,21,23.4,1.1142857142857143,null,null,0,null,null,0,null,0,0]
[null,"AG","2016-12-22","13:45:00",51,21,23.2,1.1047619047619048,null,null,0,null,null,0,null,0,0]
[null,"PG","2016-12-23","13:20:00",52,21,23.2,1.1047619047619048,null,null,0,null,null,0,null,0,0]
[null,null,"2016-12-24",null,53]
[null,null,"2016-12-25",null,54]
[null,null,"2016-12-26",null,55]
[null,null,"2016-12-27",null,56]
[null,null,"2016-12-28",null,57]
[null,null,"2016-12-29",null,58]
[null,null,"2016-12-30",null,59]
[null,null,"2016-12-31",null,60]
[null,null,"2017-01-01",null,61]
[null,"AG PG","2017-01-02","14:00:00",62,26.2,26.2,1,1.57,1.57,0,0,0,0,0,0,0]
[null,"AG PG","2017-01-03","14:30:00",63,26.2,22.3,0.85114503816793896,2.2000000000000002,2.2000000000000002,0,0,0,0,0,0,0]
[null,"AG MH","2017-01-04","14:30:00",64,26.2,21.3,0.8129770992366413,2.4,2.4,0,0,0,0,0,0,0]
[null,"AG PG","2017-01-05","14:00:00",65,26.2,21,0.80152671755725191,2.85,2.85,0,0,0,0,0,0,0]
[null,"AG PG","2017-01-06","14:00:00",66,26.2,21.7,0.8282442748091603,2.8,2.8,0,0,0,0,0,0,0]
[null,"PG","2017-01-07","16:00:00",67,26.2,21.7,0.8282442748091603,3,3,0,0,0,0,0,0,0]
[null,"AG","2017-01-08","15:00:00",68,26.2,22.2,0.84732824427480913,2.2999999999999998,2.2999999999999998,0,0,0,0,0,0,0]
[null,"MH PG","2017-01-09","14:50:00",69,26.2,21.7,0.8282442748091603,2.57,2.57,0,0,0,0,0,0,0]
[null,"AG PG","2017-01-10","14:30:00",70,26.2,22,0.83969465648854968,3,3,0,0,0,0,0,0,0]
[null,"AG SR","2017-01-11","14:45:00",71,26.2,21.9,0.83587786259541985,3.5,3.5,0,0,0,0,0,0,0]
[null,"SR PG","2017-01-12","15:50:00",72,26.2,22.4,0.85496183206106868,2.8,2.8,0,0,0,0,0,0,0]
[null,"MH PG","2017-01-13","14:55:00",73,26.2,22.4,0.85496183206106868,2.8,2.8,0,0,0,0,0,0,0]
[null,"AG MH","2017-01-14","14:00:00",74,26.2,22.8,0.87022900763358779,2.8,2.8,0,0,0,0,0,0,0]
[null,"PG SR","2017-01-15","14:20:00",75,26.2,22.7,0.86641221374045796,2.8,2.8,0,0,0,0,0,0,0]
[null,"MH SR","2017-01-16","14:05:00",76,26.2,22.5,0.85877862595419852,2.8,2.8,0,0,0,0,0,0,0]
[null,"MH PG SR","2017-01-17","17:30:00",77,26.2,22.2,0.84732824427480913,2.8,2.8,0,0,0,0,0,0,0]
[null,"MH PG","2017-01-18","14:45:00",78,26.2,22.7,0.86641221374045796,2.7,2.7,0,0,0,0,0,0,0]
[null,"PG SR","2017-01-19","15:06:00",79,26.2,22.7,0.86641221374045796,2.5,2.5,0,0,0,0,0,0,0]
[null,"AG PG SR","2017-01-20","15:01:00",80,26.2,21.3,0.8129770992366413,2.8,2.8,0,0,0,0,0,0,0]
[null,"MH SR","2017-01-21","14:40:00",81,26.2,22.3,0.85114503816793896,2.7,2.7,0,0,0,0,0,0,0]
[null,"MH","2017-01-22","14:10:00",82,26.2,22.2,0.84732824427480913,2.7,2.7,0,0,0,0,0,0,0]
[null,"AG PG","2017-01-23","14:43:00",83,26.2,22.3,0.85114503816793896,1.53,1.53,0,0,0,0,0,0,0]
[null,"PG SR","2017-01-24","15:28:00",84,26.2,21.3,0.8129770992366413,3,3,0,0,0,0,0,0,0]
[null,"AG SR","2017-01-25","14:44:00",85,26.2,22.2,0.84732824427480913,2.8,2.8,0,0,0,0,0,0,0]
[null,"AG SR","2017-01-26","14:44:00",86,26.2,22.6,0.86259541984732835,2.7,2.7,0,0,0,0,0,0,0]
[null,"MH PG","2017-01-27","15:02:00",87,26.2,22.7,0.86641221374045796,2.6,2.6,0,0,0,0,0,0,0]
[null,"MH PG","2017-01-28","15:02:00",88,26.2,22.4,0.85496183206106868,2.65,2.5,0,0,0,0,0,0,0]
[null,"PG","2017-01-29","14:50:00",89,26.2,23,0.87786259541984735,2.65,2.65,0,0,0,0,0,0,0]
[null,"AG PG SR","2017-01-30","14:44:00",90,26.2,22.5,0.85877862595419852,2.5499999999999998,2.5499999999999998,0,0,0,0,0,0,0]
[null,"AG PG","2017-01-31","14:29:00",91,26.2,22.7,0.86641221374045796,2.5,2.5,0,0,0,0,0,0,0]
[null,"PG SR","2017-02-01","14:57:00",92,26.2,22.8,0.87022900763358779,2.4,2.4,0,0,0,0,0,0,0]
[null,"AG PG","2017-02-02","14:30:00",93,26.2,22.5,0.85877862595419852,2.4,2.4,0,0,0,0,0,0,0]
[null,"PG SR","2017-02-03","14:05:00",94,26.2,22.9,0.87404580152671751,2.2999999999999998,2.2999999999999998,0,0,0,0,1,1,0]
[null,"AG PG","2017-02-04","14:22:00",95,26.2,23,0.87786259541984735,2.2000000000000002,2.2000000000000002,0,0,0,0,0,0,0]
[null,"SR","2017-02-05","15:37:00",96,26.2,22.9,0.87404580152671751,2.15,2.15,0,0,0,0,0,0,0]
[null,"AG PG","2017-02-06","14:27:00",97,26.2,22.7,0.86641221374045796,2.1,2.1,0,0,0,0,0,0,0]
[null,"PG SR","2017-02-07","14:40:00",98,26.2,22.6,0.86259541984732835,2.1,2.1,0,0,0,0,0,0,0]
[null,"MH PG","2017-02-08","14:38:00",99,26.2,22.1,0.84351145038167952,2.2000000000000002,2.2000000000000002,0,0,0,0,0,0,0]
[null,"AG PG","2017-02-09","14:28:00",100,26.2,22.1,0.84351145038167952,2.2000000000000002,2.2000000000000002,0,0,0,0,0,0,0]
[null,"PG SR","2017-02-10","14:14:00",101,26.2,22.5,0.85877862595419852,2.15,2.15,0,0,0,0,0,0,0]
[null,"PG SR","2017-02-11","14:36:00",102,26.2,22.4,0.85496183206106868,2.15,2.15,0,0,0,0,0,0,0]
[null,"PG SR","2017-02-12","14:33:00",103,26.2,22.5,0.85877862595419852,2.1,2.1,0,0,0,0,0,0,0]
[null,"MH PG","2017-02-13","14:28:00",104,26.2,22.4,0.85496183206106868,2.1,2.1,0,0,0,0,0,0,0]
[null,"PG SR","2017-02-14","14:58:00",105,26.2,21.9,0.83587786259541985,2.2999999999999998,2.4,0,0,0,0,1,1,0]
[null,"MH PG","2017-02-15","14:27:00",106,26.2,21.9,{"$f":"G70/F70","v":0.83587786259541985},2.4,2.4,0,0,0,0,0,{"$f":"SUM(K70:O70)","v":0},0]
[null,"PG SR","2017-02-16","14:49:00",107,26.2,22.3,0.85114503816793896,2.2999999999999998,2.2999999999999998,0,0,0,0,0,0,0]
[null,"AG PG","2017-02-17","14:50:00",108,26.2,22.3,0.85114503816793896,2.2999999999999998,2.2999999999999998,0,0,0,0,0,0,0]
[null,"PG SR","2017-02-18","14:42:00",109,26.2,22,0.83969465648854968,2.4,2.4,0,0,0,0,1,1,0]
[null,"MH ","2017-02-19","15:55:00",110,26.2,21.8,0.83206106870229013,2.5,2.5,0,0,0,0,0,0,0]
[null,"PG SR","2017-02-20","14:57:00",111,26.2,22.2,0.84732824427480913,2.4500000000000002,2.4500000000000002,0,0,0,0,1,1,0]
[null,"AG PG","2017-02-21","14:54:00",112,26.2,22.3,0.85114503816793896,2.4500000000000002,2.4500000000000002,0,0,0,0,0,0,0]
[null,"PG MH","2017-02-22","14:32:00",113,26.2,22.3,0.85114503816793896,2.4500000000000002,2.4500000000000002,0,0,0,0,0,0,0]
[null,"AG PG","2017-02-23","14:31:00",114,26.2,22.1,0.84351145038167952,2.4500000000000002,2.4500000000000002,0,0,0,0,0,0,0]
[null,"MH PG","2017-02-24","14:24:00",115,26.2,22.1,0.84351145038167952,2.4500000000000002,2.4500000000000002,0,0,0,0,1,1,0]
[null,"AG PG","2017-02-25","14:22:00",116,26.2,22.1,0.84351145038167952,2.4500000000000002,2.4500000000000002,0,0,0,0,0,0,0]
[null,"AG","2017-02-26","15:43:00",117,26.2,22,0.83969465648854968,2.5,2.5,0,0,0,0,1,1,0]
[null,"MH PG","2017-02-27","14:28:00",118,26.2,22.8,0.87022900763358779,2.4,2.4,0,0,0,0,0,0,0]
[null,"AG PG","2017-02-28","14:32:00",119,26.2,22,0.83969465648854968,2.4500000000000002,2.4500000000000002,0,0,0,0,0,0,0]
[null,"MH PG","2017-03-01","14:28:00",120,26.2,23.2,{"$f":"G84/F84","v":0.8854961832061069},2.2999999999999998,2.2999999999999998,0,0,0,0,0,{"$f":"SUM(K84:O84)","v":0},0]
[null,"AG PG","2017-03-02","14:36:00",121,26.2,23.1,0.88167938931297718,2.2999999999999998,2.2999999999999998,0,0,0,0,0,0,0]
[null,"PG SR","2017-03-03","14:45:00",122,26.2,22.8,0.87022900763358779,2.2999999999999998,2.2999999999999998,0,0,0,0,0,0,0]
[null,"PG","2017-03-04","17:10:00",123,26.2,22.6,0.86259541984732835,2.2999999999999998,2.2999999999999998,0,0,0,0,0,0,0]
[null,"SR","2017-03-05","17:18:00",124,26.2,23.1,0.88167938931297718,2.2000000000000002,2.2000000000000002,0,0,0,0,0,0,0]
[null,"PG SR","2017-03-06","14:55:00",125,26.2,23,0.87786259541984735,2.1,2.1,0,0,0,0,0,0,0]
[null,"PG SR","2017-03-07","15:04:00",126,26.2,23.2,0.8854961832061069,1.8,1.8,0,0,0,0,0,0,0]
[null,"PG SR","2017-03-08","16:06:00",127,26.2,22.4,0.85496183206106868,2,2,0,0,0,0,0,0,0]
[null,"PG SR","2017-03-09","14:48:00",128,26.2,22.6,0.86259541984732835,"ad lib","ad lib",0,0,0,0,0,0,0]
[null,"PG SR","2017-03-10","14:13:00",129,26.2,24.6,0.93893129770992378,null,null,0,0,0,0,0,0,0]
[null,null,"2017-03-11",null,130]
[null,null,"2017-03-12",null,131]
[null,"AG ","2017-03-13","15:00:00",132,26.2,27,{"$f":"G96/F96","v":1.0305343511450382},null,null,0,0,0,0,0,0,0]
[null,null,"2017-03-14",null,133]
[null,"MH PG","2017-03-15","14:50:00",134,26.2,27.2,1.0381679389312977,null,null,0,0,0,0,0,{"$f":"SUM(K98:O98)","v":0},0]
[null,null,"2017-03-16",null,135]
[null,null,"2017-03-17",null,136,26.2,null,{"$f":"G100/F100","v":0},{"$nulls":7},{"$f":"SUM(K100:O100)","v":0}]

{"sheet":"W05","index":4,"n_rows":100,"n_cols":18,"rows_kept":100,"cut":false,"hidden":false,"merged":[]}
[null,"Score sheet info (digital summary)"]
[null,"Mouse W05"]
[{"$nulls":5},"Weight",null,null,"Food",null,"Scoring"]
[null,"Experimenter","Day","Time","Age","Reference","Actual","Percentage","Offered","Consumed","Activity/behavior","Look/posture","Shit/piss","Body condition","Dehydration signs","Total","Implant","Comment"]
[null,"SR","2016-12-12","14:00:00",41,22.3,22.2,{"$f":"G5/F5","v":0.99551569506726456},null,null,0,null,null,0,null,{"$f":"SUM(K5:O5)","v":0}]
[null,"SR","2016-12-13","14:00:00",42,22.3,22.7,{"$f":"G6/F6","v":1.0179372197309415},null,null,0,null,null,0,null,{"$f":"SUM(K6:O6)","v":0}]
[null,"PG","2016-12-14","18:00:00",43,22.3,22.1,0.99103139013452923,null,null,0,null,null,0,null,0]
[null,"PG","2016-12-15","15:00:00",44,22.3,21.3,0.95515695067264572,null,null,0,null,null,1,null,1,0,"Wet fur"]
[null,"AG,SR,PG","2016-12-16","14:30:00",45,22.3,21.5,0.9641255605381166,null,null,0,null,null,0,null,0,0]
[null,"PG","2016-12-17","14:00:00",46,22.3,22.6,1.0134529147982063,null,null,0,null,null,0,null,0,0]
[null,"PG","2016-12-18","14:00:00",47,22.3,23.1,1.0358744394618835,null,null,0,null,null,0,null,0,0]
[null,"SR","2016-12-19","14:00:00",48,22.3,24.2,1.0852017937219731,null,null,0,null,null,0,null,0,0]
[null,"PG","2016-12-20","16:00:00",49,22.3,24.1,1.0807174887892377,null,null,0,null,null,0,null,0,0]
[null,"AG","2016-12-21","14:00:00",50,22.3,24.6,1.1031390134529149,null,null,0,null,null,0,null,0,0]
[null,"AG","2016-12-22","13:45:00",51,22.3,22.9,1.0269058295964124,null,null,0,null,null,0,null,0,0,"lost some weight but behavior and body look fine"]
[null,"PG","2016-12-23","13:20:00",52,22.3,21.8,0.97757847533632292,null,null,1,null,null,0,null,1,0,"Lost more weight … looks fine .. Strange"]
[null,"PG","2016-12-24","12:00:00",53,22.3,24.1,1.0807174887892377,null,null,0,null,null,0,null,0]
[null,null,"2016-12-25",null,54]
[null,null,"2016-12-26",null,55]
[null,null,"2016-12-27",null,56]
[null,null,"2016-12-28",null,57]
[null,null,"2016-12-29",null,58]
[null,null,"2016-12-30",null,59]
[null,null,"2016-12-31",null,60]
[null,null,"2017-01-01",null,61]
[null,"AG PG","2017-01-02","14:00:00",62,25.9,25.9,1,2,2,0,0,0,0,0,0,0]
[null,"AG PG","2017-01-03","14:30:00",63,25.9,22.5,0.86872586872586877,3,3,0,0,0,0,0,0,0]
[null,"AG MH","2017-01-04","14:30:00",64,25.9,22.4,0.86486486486486491,2.8,2.8,0,0,0,0,0,0,0]
[null,"AG PG","2017-01-05","14:00:00",65,25.9,21.6,0.83397683397683409,3.5,3.5,0,0,0,0,0,0,0]
[null,"AG PG","2017-01-06","14:00:00",66,25.9,22,0.8494208494208495,3.8,3.8,0,0,0,0,0,0,0]
[null,"PG","2017-01-07","16:00:00",67,25.9,21.6,0.83397683397683409,4,4,0,0,0,0,0,0,0]
[null,"AG","2017-01-08","15:00:00",68,25.9,22.6,0.87258687258687273,3,3,0,0,0,0,0,0,0]
[null,"MH PG","2017-01-09","15:20:00",69,25.9,21.9,0.84555984555984554,3.7,3.7,0,0,0,0,0,0,0]
[null,"AG PG","2017-01-10","14:30:00",70,25.9,22.3,0.86100386100386106,3.66,3.66,0,0,0,0,0,0,0]
[null,"AG SR","2017-01-11","14:45:00",71,25.9,22,0.8494208494208495,3.75,3.75,0,0,0,0,0,0,0]
[null,"SR PG","2017-01-12","15:00:00",72,25.9,22,0.8494208494208495,3.75,3.75,0,0,0,0,0,0,0]
[null,"MH PG","2017-01-13","15:25:00",73,25.9,22.5,0.86872586872586877,3.5,3.5,0,0,0,0,0,0,0]
[null,"AG MH","2017-01-14","14:30:00",74,25.9,22,0.8494208494208495,4.0999999999999996,4.0999999999999996,0,0,0,0,0,0,0]
[null,"PG SR","2017-01-15","15:00:00",75,25.9,22.2,0.85714285714285721,4.2,4.2,0,0,0,0,0,0,0]
[null,"MH SR","2017-01-16","14:30:00",76,25.9,22.1,0.85328185328185335,4.3,4.3,0,0,0,0,0,0,0]
[null,"MH PG SR","2017-01-17","17:55:00",77,25.9,21.9,0.84555984555984554,4.5,4.5,0,0,0,0,0,0,0]
[null,"MH PG","2017-01-18","15:50:00",78,25.9,22,0.8494208494208495,5.23,5.23,0,0,0,0,0,0,0]
[null,"PG SR","2017-01-19","15:40:00",79,25.9,21.6,0.83397683397683409,3.1,3.1,0,0,0,0,0,0,0]
[null,"AG PG SR","2017-01-20","15:27:00",80,25.9,22.1,0.85328185328185335,3,3,0,0,0,0,0,0,0]
[null,"MH SR","2017-01-21","15:10:00",81,25.9,21.8,0.84169884169884179,3.09,3.09,0,0,0,0,0,0,0]
[null,"MH","2017-01-22","14:48:00",82,25.9,21.8,0.84169884169884179,3.1,3.1,0,0,0,0,0,0,0]
[null,"AG PG","2017-01-23","15:14:00",83,25.9,21.8,0.84169884169884179,3.2,3.2,0,0,0,0,0,0,0]
[null,"PG SR","2017-01-24","16:01:00",84,25.9,21.8,0.84169884169884179,3.25,3.25,0,0,0,0,0,0,0]
[null,"AG SR","2017-01-25","15:09:00",85,25.9,22.2,0.85714285714285721,3.2,3.2,0,0,0,0,0,0,0]
[null,"AG SR","2017-01-26","15:13:00",86,25.9,22,0.8494208494208495,3.25,3.25,0,0,0,0,0,0,0]
[null,"MH PG","2017-01-27","15:30:00",87,25.9,22.2,0.85714285714285721,3.25,3.25,0,0,0,0,0,0,0]
[null,"MH PG","2017-01-28","15:20:00",88,25.9,22.3,0.86100386100386106,3.2,3.2,0,0,0,0,0,0,0]
[null,"PG","2017-01-29","14:55:00",89,25.9,22.7,0.87644787644787647,3.1,3.1,0,0,0,0,0,0,0]
[null,"AG SR PG","2017-01-30","15:32:00",90,25.9,22.2,0.85714285714285721,3.15,3.15,0,0,0,0,0,0,0]
[null,"AG PG","2017-01-31","15:12:00",91,25.9,23,0.88803088803088803,3.05,3.05,0,0,0,0,0,0,0]
[null,"PG SR","2017-02-01","15:40:00",92,25.9,22.7,0.87644787644787647,3.05,3.05,0,0,0,0,0,0,0]
[null,"AG PG","2017-02-02","15:17:00",93,25.9,22.6,0.87258687258687273,3,3,0,0,0,0,0,0,0]
[null,"PG SR","2017-02-03","14:47:00",94,25.9,22.7,0.87644787644787647,2.9,2.9,0,0,0,0,0,0,0]
[null,"AG PG","2017-02-04","15:10:00",95,25.9,22.6,0.87258687258687273,2.8,2.8,0,0,0,0,0,0,0]
[null,"SR","2017-02-05","15:39:00",96,25.9,22,0.8494208494208495,2.9,2.9,0,0,0,0,0,0,0]
[null,"AG PG","2017-02-06","15:10:00",97,25.9,21.9,0.84555984555984554,2.95,2.95,0,0,0,0,0,0,0]
[null,"PG SR","2017-02-07","15:25:00",98,25.9,21.7,0.83783783783783783,3.05,3.05,0,0,0,0,0,0,0]
[null,"MH PG","2017-02-08","15:20:00",99,25.9,21.8,0.84169884169884179,3.05,3.05,0,0,0,0,0,0,0]
[null,"AG PG","2017-02-09","15:11:00",100,25.9,21.7,0.83783783783783783,3.1,3.1,0,0,0,0,0,0,0]
[null,"PG SR","2017-02-10","14:51:00",101,25.9,22.1,0.85328185328185335,3.05,3.05,0,0,0,0,0,0,0]
[null,"PG SR","2017-02-11","15:18:00",102,25.9,22.4,0.86486486486486491,3,3,0,0,0,0,0,0,0]
[null,"PG SR","2017-02-12","15:17:00",103,25.9,22.3,0.86100386100386106,3,3,0,0,0,0,1,1,0]
[null,"MH PG","2017-02-13","15:03:00",104,25.9,22.3,0.86100386100386106,2.95,2.95,0,0,0,0,0,0,0]
[null,"PG SR","2017-02-14","15:26:00",105,25.9,22,0.8494208494208495,3,3,0,0,0,0,0,0,0]
[null,"MH PG","2017-02-15","15:19:00",106,25.9,21.9,{"$f":"G70/F70","v":0.84555984555984554},3.05,3.05,0,0,0,0,0,0,0]
[null,"PG SR","2017-02-16","15:32:00",107,25.9,22,0.8494208494208495,3.05,3.05,0,0,0,0,0,0,0]
[null,"AG PG","2017-02-17","15:36:00",108,25.9,22.3,0.86100386100386106,3,3,0,0,0,0,0,0,0]
[null,"PG SR","2017-02-18","15:24:00",109,25.9,22.2,0.85714285714285721,3,3,0,0,0,0,0,{"$f":"SUM(K73:O73)","v":0},0]
[null,"MH","2017-02-19","16:40:00",110,25.9,22.1,0.85328185328185335,3,3,0,0,0,0,0,0,0]
[null,"PG SR","2017-02-20","15:38:00",111,25.9,22.3,0.86100386100386106,2.9,2.9,0,0,0,0,0,0,0]
[null,"AG PG","2017-02-21","15:37:00",112,25.9,22.2,0.85714285714285721,2.9,2.9,0,0,0,0,0,0,0]
[null,"PG MH","2017-02-22","15:23:00",113,25.9,22.5,0.86872586872586877,2.8,2.8,0,0,0,0,0,0,0]
[null,"AG PG","2017-02-23","15:17:00",114,25.9,22.1,0.85328185328185335,2.85,2.85,0,0,0,0,0,0,0]
[null,"MH PG","2017-02-24","15:13:00",115,25.9,22.2,0.85714285714285721,2.8,2.8,0,0,0,0,0,0,0]
[null,"AG PG","2017-02-25","15:06:00",116,25.9,22.2,0.85714285714285721,2.75,2.75,0,0,0,0,0,0,0]
[null,"AG","2017-02-26","15:26:00",117,25.9,22,0.8494208494208495,2.75,2.75,0,0,0,0,0,0,0]
[null,"MH PG","2017-02-27","15:12:00",118,25.9,21.8,0.84169884169884179,2.8,2.8,0,0,0,0,0,0,0]
[null,"AG PG","2017-02-28","15:16:00",119,25.9,21.6,0.83397683397683409,2.9,2.9,0,0,0,0,0,0,0]
[null,"MH PG","2017-03-01","15:19:00",120,25.9,21.8,{"$f":"G84/F84","v":0.84169884169884179},2.9,2.9,0,0,0,0,0,{"$f":"SUM(K84:O84)","v":0},0]
[null,"AG PG","2017-03-02","15:22:00",121,25.9,21.8,0.84169884169884179,2.9,2.9,0,0,0,0,0,0,0]
[null,"PG SR","2017-03-03","15:28:00",122,25.9,22,0.8494208494208495,2.85,2.85,0,0,0,0,0,0,0]
[null,"PG","2017-03-04","17:12:00",123,25.9,21.8,0.84169884169884179,2.9,2.9,0,0,0,0,0,0,0]
[null,"SR","2017-03-05","17:20:00",124,25.9,21.8,0.84169884169884179,2.9,2.9,0,0,0,0,0,0,1,"bit of dried blood above eye"]
[null,"PG SR","2017-03-06","14:42:00",125,25.9,22.2,0.85714285714285721,2.85,2.85,0,0,0,0,0,0,1,"bit of dried blood above eye"]
[null,"PG SR","2017-03-07","15:50:00",126,25.9,22,0.8494208494208495,"ad lib","ad lib",0,0,0,0,0,0,1,"bit of dried blood above eye"]
[null,"PG SR","2017-03-08","16:01:00",127,25.9,26.2,1.0115830115830116,null,null,0,0,0,0,0,0,1,"bit of dried blood above eye"]
[null,"PG SR","2017-03-09","16:07:00",128,25.9,27.3,1.0540540540540542,null,null,0,0,0,0,0,0,0]
[null,"PG SR","2017-03-10","14:13:00",129,25.9,27.1,1.0463320463320465,null,null,0,0,0,0,0,0,1,"bit of dried blood above eye"]
[null,null,"2017-03-11",null,130]
[null,null,"2017-03-12",null,131]
[null,"AG","2017-03-13","15:00:00",132,25.9,27.5,{"$f":"G96/F96","v":1.0617760617760619},null,null,0,0,0,0,0,0,1,"bit of dried blood above eye"]
[null,null,"2017-03-14",null,133]
[null,"MH PG","2017-03-15","14:50:00",134,25.9,27.7,1.0694980694980696,null,null,0,0,0,0,0,{"$f":"SUM(K98:O98)","v":0},1,"bit of dried blood above eye"]
[null,null,"2017-03-16",null,135]
[null,null,"2017-03-17",null,136,25.9,null,{"$f":"G100/F100","v":0},{"$nulls":7},{"$f":"SUM(K100:O100)","v":0}]

{"sheet":"W06","index":5,"n_rows":100,"n_cols":18,"rows_kept":100,"cut":false,"hidden":false,"merged":[]}
[null,"Score sheet info (digital summary)"]
[null,"Mouse W06"]
[{"$nulls":5},"Weight",null,null,"Water",null,"Scoring"]
[null,"Experimenter","Day","Time","Age","Reference","Actual","Percentage","Offered","Consumed","Activity/behavior","Look/posture","Shit/piss","Body condition","Dehydration signs","Total","Implant","Comment"]
[null,"SR","2016-12-12","14:00:00",41,22.2,22.2,{"$f":"G5/F5","v":1},null,null,0,null,null,0,null,{"$f":"SUM(K5:O5)","v":0}]
[null,"SR","2016-12-13","14:00:00",42,22.2,22.7,{"$f":"G6/F6","v":1.0225225225225225},null,null,0,null,null,0,null,{"$f":"SUM(K6:O6)","v":0}]
[null,"PG","2016-12-14","18:00:00",43,22.2,21.7,0.97747747747747749,null,null,0,null,null,0,null,0]
[null,"PG","2016-12-15","15:00:00",44,22.2,20.7,0.93243243243243246,null,null,0,null,null,1,null,1,0,"Wet fur"]
[null,"AG,SR,PG","2016-12-16","14:30:00",45,22.2,21.5,0.96846846846846846,null,null,0,null,null,0,null,0,0]
[null,"PG","2016-12-17","14:00:00",46,22.2,21.6,0.97297297297297303,null,null,0,null,null,0,null,0,0]
[null,"PG","2016-12-18","14:00:00",47,22.2,21.8,0.98198198198198205,null,null,1,null,null,0,null,1,0,"Bald spot next to right eye, little bit dried blood, evidence of scratching?"]
[null,"SR","2016-12-19","14:00:00",48,22.2,22.2,1,null,null,1,null,null,0,null,1,0,"Bald spot next to right eye, something on eye lid?"]
[null,"PG","2016-12-20","16:00:00",49,22.2,23.8,1.0720720720720722,null,null,0,null,null,0,null,0,0,"Still bald spot, but hair is growing back"]
[null,"AG","2016-12-21","14:00:00",50,22.2,23,1.0360360360360361,null,null,0,null,null,0,null,0,0,"bald spot looks fine"]
[null,"AG","2016-12-22","13:45:00",51,22.2,22.8,1.0270270270270272,null,null,0,null,null,0,null,0,0,"bald spot looks fine"]
[null,"PG","2016-12-23","13:20:00",52,22.2,23.3,1.0495495495495497,null,null,0,null,null,0,null,0,0]
[null,null,"2016-12-24",null,53]
[null,null,"2016-12-25",null,54]
[null,null,"2016-12-26",null,55]
[null,null,"2016-12-27",null,56]
[null,null,"2016-12-28",null,57]
[null,null,"2016-12-29",null,58]
[null,null,"2016-12-30",null,59]
[null,null,"2016-12-31",null,60]
[null,null,"2017-01-01",null,61]
[null,"AG PG","2017-01-02","14:00:00",62,24.9,24.9,1,1.57,1.57,0,0,0,0,0,0,0,"bald spot gone"]
[null,"AG PG","2017-01-03","14:30:00",63,24.9,22.6,0.90763052208835349,1.57,1.57,0,0,0,0,0,0,0]
[null,"AG MH","2017-01-04","14:30:00",64,24.9,22.2,0.89156626506024095,1.5,1.5,0,0,0,0,0,0,0]
[null,"AG PG","2017-01-05","14:00:00",65,24.9,21.8,0.87550200803212863,1.57,1.57,0,0,0,0,0,0,0]
[null,"AG PG","2017-01-06","14:00:00",66,24.9,21.4,0.85943775100401609,1.57,1.57,0,0,0,0,0,0,0]
[null,"PG","2017-01-07","16:00:00",67,24.9,21.5,0.86345381526104426,1.57,1.57,0,0,0,0,0,0,0]
[null,"AG","2017-01-08","15:00:00",68,24.9,21.5,0.86345381526104426,1.57,1.57,0,0,0,0,0,0,0]
[null,"MH PG","2017-01-09","14:30:00",69,24.9,21.8,0.87550200803212863,1.57,1.57,0,0,0,0,0,0,0]
[null,"AG PG","2017-01-10","14:50:00",70,24.9,21.6,0.86746987951807242,1.6,1.6,0,0,0,0,0,0,0]
[null,"AG SR","2017-01-11","14:45:00",71,24.9,21.8,0.87550200803212863,1.4,1.4,0,0,0,0,0,0,0]
[null,"SR PG","2017-01-12","14:45:00",72,24.9,21.6,0.86746987951807242,1.45,1.45,0,0,0,0,0,0,0]
[null,"MH PG","2017-01-13","14:55:00",73,24.9,21.6,0.86746987951807242,1.4,1.4,0,0,0,0,0,0,0]
[null,"AG MH","2017-01-14","14:00:00",74,24.9,21.5,0.86345381526104426,1.3,1.3,0,0,0,0,0,0,0]
[null,"PG SR","2017-01-15","14:25:00",75,24.9,21.5,0.86345381526104426,1.3,1.3,0,0,0,0,0,0,0]
[null,"MH SR","2017-01-16","14:15:00",76,24.9,21.2,0.85140562248995988,1.4,1.4,0,0,0,0,0,0,0]
[null,"MH PG SR","2017-01-17","18:06:00",77,24.9,21.2,0.85140562248995988,1.4,1.4,0,0,0,0,0,0,0]
[null,"MH PG","2017-01-18","16:00:00",78,24.9,21.2,0.85140562248995988,1.4,1.4,0,0,0,0,0,0,0]
[null,"PG SR","2017-01-19","15:42:00",79,24.9,21.4,0.85943775100401609,1.3,1.3,0,0,0,0,0,0,0]
[null,"AG PG SR","2017-01-20","15:32:00",80,24.9,20.7,0.83132530120481929,1.4,1.4,0,0,0,0,0,0,0]
[null,"MH SR","2017-01-21","15:11:00",81,24.9,21.3,0.85542168674698804,1.35,1.35,0,0,0,0,0,0,0]
[null,"MH","2017-01-22","14:15:00",82,24.9,21.5,0.86345381526104426,1.3,1.3,0,0,0,0,0,0,0]
[null,"AG PG","2017-01-23","15:19:00",83,24.9,21.5,0.86345381526104426,1.3,1.3,0,0,0,0,1,1,0]
[null,"PG SR","2017-01-24","16:05:00",84,24.9,21.5,0.86345381526104426,1.25,1.25,0,0,0,0,1,1,0]
[null,"AG SR","2017-01-25","15:13:00",85,24.9,21.8,0.87550200803212863,1.2,1.25,0,0,0,0,0,0,0]
[null,"AG SR","2017-01-26","15:21:00",86,24.9,21.7,0.87148594377510047,1.1499999999999999,1.1499999999999999,0,0,0,0,0,0,0]
[null,"MH PG","2017-01-27","15:33:00",87,24.9,21.5,0.86345381526104426,1.1000000000000001,1.1000000000000001,0,0,0,0,1,1,0]
[null,"MH PG","2017-01-28","15:18:00",88,24.9,21,0.84337349397590367,1.2,1.2,0,0,0,0,0,0,0]
[null,"PG","2017-01-29","14:55:00",89,24.9,20.6,0.82730923694779124,1.3,1.3,0,0,0,0,1,1,0]
[null,"AG SR PG","2017-01-30","15:23:00",90,24.9,20.6,0.82730923694779124,1.4,1.4,0,1,0,0,0,1,0]
[null,"AG PG","2017-01-31","15:04:00",91,24.9,20.3,0.81526104417670686,1.6,1.6,0,1,0,0,0,1,0]
[null,"PG SR","2017-02-01","15:34:00",92,24.9,19.899999999999999,0.79919678714859432,2.38,2.38,0,1,0,0,1,2,0]
[null,"AG PG","2017-02-02","15:16:00",93,24.9,20.3,0.81526104417670686,0.89,0.89,0,1,0,0,0,0,0]
[null,"PG SR","2017-02-03","14:49:00",94,24.9,19.5,0.78313253012048201,3,3,0,1,0,0,1,2,0]
[null,"AG PG","2017-02-04","15:08:00",95,24.9,20,0.80321285140562249,3,3,0,1,0,0,1,2,0]
[null,"SR","2017-02-05","15:43:00",96,24.9,20.3,0.81526104417670686,3,3,0,1,0,0,1,2,0]
[null,"AG PG","2017-02-06","15:12:00",97,24.9,21,0.84337349397590367,1.8,1.8,0,0,0,0,1,1,0]
[null,"PG SR","2017-02-07","15:28:00",98,24.9,20.3,0.81526104417670686,2.4,2.4,0,1,0,0,0,1,0]
[null,"MH PG","2017-02-08","15:20:00",99,24.9,20.5,0.82329317269076308,2.4,2.4,0,0,0,0,1,1,0]
[null,"AG PG","2017-02-09","15:13:00",100,24.9,20.399999999999999,0.81927710843373491,2.6,2.6,0,0,0,0,0,0,0]
[null,"PG SR","2017-02-10","14:53:00",101,24.9,20.399999999999999,0.81927710843373491,2.8,2.8,0,0,0,0,0,0,0]
[null,"PG SR","2017-02-11","15:22:00",102,24.9,20.3,0.81526104417670686,3,3,0,0,0,0,0,0,0]
[null,"PG SR","2017-02-12","15:18:00",103,24.9,20.3,0.81526104417670686,3.1,3.1,0,0,0,0,1,1,0]
[null,"MH PG","2017-02-13","15:06:00",104,24.9,20.7,0.83132530120481929,3.1,3.1,0,1,0,0,1,2,0]
[null,"PG SR","2017-02-14","15:27:00",105,24.9,20.9,0.8393574297188755,3.2,3.2,0,0,0,0,1,1,0]
[null,"MH PG","2017-02-15","15:24:00",106,24.9,20.9,{"$f":"G70/F70","v":0.8393574297188755},3.3,3.3,0,0,0,0,0,{"$f":"SUM(K70:O70)","v":0},0]
[null,"PG SR","2017-02-16","15:34:00",107,24.9,20.7,0.83132530120481929,3.5,3.5,0,0,0,0,1,1,0]
[null,"AG PG","2017-02-17","15:37:00",108,24.9,20.7,0.83132530120481929,3.7,3.7,0,0,0,0,0,0,0]
[null,"PG SR","2017-02-18","15:26:00",109,24.9,21.3,0.85542168674698804,3.6,3.6,0,0,0,0,0,0,0]
[null,"MH","2017-02-19","16:05:00",110,24.9,21.2,0.85140562248995988,3.65,3.65,0,0,0,0,0,0,0]
[null,"PG SR","2017-02-20","15:42:00",111,24.9,21,0.84337349397590367,3.7,3.7,0,0,0,0,1,1,0]
[null,"AG PG","2017-02-21","15:39:00",112,24.9,21.3,0.85542168674698804,3.65,3.65,0,0,0,0,1,1,0]
[null,"PG MH","2017-02-22","15:25:00",113,24.9,21.9,0.87951807228915657,3.55,3.55,0,0,0,0,1,1,0]
[null,"AG PG","2017-02-23","15:18:00",114,24.9,21.7,0.87148594377510047,3.45,3.45,0,0,0,0,1,1,0]
[null,"MH PG","2017-02-24","15:15:00",115,24.9,21.7,0.87148594377510047,3.3,3.3,0,0,0,0,0,0,0]
[null,"AG PG","2017-02-25","15:07:00",116,24.9,21.7,0.87148594377510047,3.1,3.1,0,0,0,0,0,0,0]
[null,"AG","2017-02-26","15:45:00",117,24.9,20.9,0.8393574297188755,3.2,3.2,0,0,0,0,1,1,0]
[null,"MH PG","2017-02-27","15:14:00",118,24.9,21,0.84337349397590367,3.2,3.2,0,0,0,0,1,1,0]
[null,"AG PG","2017-02-28","15:18:00",119,24.9,20.8,0.83534136546184745,3.3,3.3,0,0,0,0,1,1,0]
[null,"MH PG","2017-03-01","15:20:00",120,24.9,20.399999999999999,{"$f":"G84/F84","v":0.81927710843373491},3.6,3.6,0,0,0,0,1,{"$f":"SUM(K84:O84)","v":1},0]
[null,"AG PG","2017-03-02","15:23:00",121,24.9,20.3,0.81526104417670686,3.8,3.8,0,0,0,0,1,1,0]
[null,"PG SR","2017-03-03","15:29:00",122,24.9,20.6,0.82730923694779124,3.8,3.8,0,0,0,0,0,0,0]
[null,"PG","2017-03-04","17:15:00",123,24.9,20.9,0.8393574297188755,3.8,3.8,0,0,0,0,1,1,0]
[null,"SR","2017-03-05","17:26:00",124,24.9,20.8,0.83534136546184745,3.8,3.8,0,0,0,0,0,0,0]
[null,"PG SR","2017-03-06","16:00:00",125,24.9,21.4,0.85943775100401609,3.7,3.7,0,0,0,0,1,1,0]
[null,"PG SR","2017-03-07","15:51:00",126,24.9,21.4,0.85943775100401609,3.6,3.6,0,0,0,0,1,1,0]
[null,"PG SR","2017-03-08","16:07:00",127,24.9,20.8,0.83534136546184745,3.7,3.7,0,0,0,0,1,1,0]
[null,"PG SR","2017-03-09","16:09:00",128,24.9,21.5,0.86345381526104426,"ad lib","ad lib",0,0,0,0,0,0,0]
[null,"PG SR","2017-03-10","14:14:00",129,24.9,24.1,0.96787148594377526,null,null,0,0,0,0,0,0,0]
[null,null,"2017-03-11",null,130,{"$nulls":10},{"$f":"SUM(K94:O94)","v":0}]
[null,null,"2017-03-12",null,131,{"$nulls":10},0]
[null,"AG","2017-03-13","15:00:00",132,24.9,25.8,{"$f":"G96/F96","v":1.036144578313253},null,null,0,0,0,0,0,0,0]
[null,null,"2017-03-14",null,133,{"$nulls":10},0]
[null,"MH PG","2017-03-15","14:51:00",134,24.9,25.8,1.036144578313253,null,null,0,0,0,0,0,0,0]
[null,null,"2017-03-16",null,135,{"$nulls":10},{"$f":"SUM(K99:O99)","v":0}]
[null,null,"2017-03-17",null,136,24.9,null,{"$f":"G100/F100","v":0},{"$nulls":7},0]

{"sheet":"W07","index":6,"n_rows":100,"n_cols":18,"rows_kept":100,"cut":false,"hidden":false,"merged":[]}
[null,"Score sheet info (digital summary)"]
[null,"Mouse W07"]
[{"$nulls":5},"Weight",null,null,"Food",null,"Scoring"]
[null,"Experimenter","Day","Time","Age","Reference","Actual","Percentage","Offered","Consumed","Activity/behavior","Look/posture","Shit/piss","Body condition","Dehydration signs","Total","Implant","Comment"]
[null,"SR","2016-12-12","14:00:00",41,22,21.3,{"$f":"G5/F5","v":0.96818181818181825},null,null,0,null,null,0,null,{"$f":"SUM(K5:O5)","v":0}]
[null,"SR","2016-12-13","14:00:00",42,22,22.4,{"$f":"G6/F6","v":1.0181818181818181},null,null,0,null,null,0,null,{"$f":"SUM(K6:O6)","v":0}]
[null,"PG","2016-12-14","18:00:00",43,22,22.9,1.0409090909090908,null,null,0,null,null,0,null,0]
[null,"PG","2016-12-15","15:00:00",44,22,21.5,0.97727272727272729,null,null,0,null,null,0,null,0]
[null,"AG,SR,PG","2016-12-16","14:30:00",45,22,20.8,0.94545454545454544,null,null,0,null,null,1,null,1,0,"Wet fur"]
[null,"PG","2016-12-17","14:00:00",46,22,21.7,0.98636363636363633,null,null,0,null,null,0,null,0,0]
[null,"PG","2016-12-18","14:00:00",47,22,22.3,1.0136363636363637,null,null,0,null,null,0,null,0,0]
[null,"SR","2016-12-19","14:00:00",48,22,23.1,1.05,null,null,0,null,null,0,null,0,0]
[null,"PG","2016-12-20","16:00:00",49,22,22.7,1.0318181818181817,null,null,0,null,null,0,null,0,0]
[null,"AG","2016-12-21","14:00:00",50,22,23.1,1.05,null,null,0,null,null,0,null,0,0]
[null,"AG","2016-12-22","13:45:00",51,22,22.7,1.0318181818181817,null,null,0,null,null,0,null,0,0]
[null,"PG","2016-12-23","13:20:00",52,22,22.9,1.0409090909090908,null,null,0,null,null,0,null,0,0]
[null,null,"2016-12-24",null,53]
[null,null,"2016-12-25",null,54]
[null,null,"2016-12-26",null,55]
[null,null,"2016-12-27",null,56]
[null,null,"2016-12-28",null,57]
[null,null,"2016-12-29",null,58]
[null,null,"2016-12-30",null,59]
[null,null,"2016-12-31",null,60]
[null,null,"2017-01-01",null,61]
[null,"AG PG","2017-01-02","14:00:00",62,23.3,23.3,1,2,2,0,0,0,0,0,0,0]
[null,"AG PG","2017-01-03","14:30:00",63,23.3,21,0.90128755364806867,2.2000000000000002,2.2000000000000002,0,0,0,0,0,0,0]
[null,"AG MH","2017-01-04","14:30:00",64,23.3,20.399999999999999,0.87553648068669521,2.7,2.7,0,0,0,0,0,0,0]
[null,"AG PG","2017-01-05","14:00:00",65,23.3,19.899999999999999,0.85407725321888406,3.3,3.3,0,1,0,0,0,1,0,"Looks a bit thin"]
[null,"AG PG","2017-01-06","14:00:00",66,23.3,20,0.85836909871244638,3.1,3.1,0,0,0,0,0,0,0]
[null,"PG","2017-01-07","16:00:00",67,23.3,19.5,0.83690987124463512,3.65,3.65,0,0,0,0,0,0,0]
[null,"AG","2017-01-08","15:00:00",68,23.3,20.6,0.88412017167381973,3,3,0,0,0,0,0,0,0]
[null,"MH PG","2017-01-09","15:00:00",69,23.3,19.8,0.84978540772532185,3.65,3.65,0,0,0,0,0,0,0]
[null,"AG PG","2017-01-10","14:50:00",70,23.3,20.2,0.86695278969957079,3.4,3.4,0,0,0,0,0,0,0]
[null,"AG SR","2017-01-11","14:45:00",71,23.3,19.899999999999999,0.85407725321888406,3.95,3.95,0,0,0,0,0,0,0]
[null,"SR PG","2017-01-12","15:30:00",72,23.3,20,0.85836909871244638,3.93,3.93,0,0,0,0,0,0,0]
[null,"MH PG","2017-01-13","15:25:00",73,23.3,20.3,0.871244635193133,3.8,3.8,0,0,0,0,0,0,0]
[null,"AG MH","2017-01-14","14:30:00",74,23.3,20.100000000000001,0.86266094420600858,4,4,0,0,0,0,0,0,0]
[null,"PG SR","2017-01-15","15:00:00",75,23.3,20.100000000000001,0.86266094420600858,4.25,4.25,0,0,0,0,0,0,0]
[null,"MH SR","2017-01-16","15:05:00",76,23.3,19.600000000000001,0.84120171673819744,4.4000000000000004,4.4000000000000004,0,0,0,0,0,0,0]
[null,"MH PG SR","2017-01-17","18:12:00",77,23.3,19.5,0.83690987124463512,5.23,5.23,0,0,0,0,0,0,0]
[null,"MH PG","2017-01-18","16:10:00",78,23.3,20.3,0.871244635193133,4.74,4.74,0,0,0,0,0,0,0]
[null,"PG SR","2017-01-19","15:44:00",79,23.3,20,0.85836909871244638,3.3,3.3,0,0,0,0,0,0,0]
[null,"AG PG SR","2017-01-20","15:35:00",80,23.3,20.3,0.871244635193133,3.2,3.2,0,0,0,0,0,0,0]
[null,"MH SR","2017-01-21","15:14:00",81,23.3,20.100000000000001,0.86266094420600858,3.2,3.2,0,0,0,0,0,0,0]
[null,"MH","2017-01-22","14:53:00",82,23.3,20.5,0.87982832618025753,3.13,3.13,0,0,0,0,0,0,0]
[null,"AG PG","2017-01-23","15:19:00",83,23.3,20.2,0.86695278969957079,3.2,3.2,0,0,0,0,0,0,0]
[null,"PG SR","2017-01-24","16:07:00",84,23.3,20.100000000000001,0.86266094420600858,3.1,3.1,0,0,0,0,0,0,0]
[null,"AG SR","2017-01-25","15:17:00",85,23.3,20.5,0.87982832618025753,3,3,0,0,0,0,0,0,0]
[null,"AG SR","2017-01-26","15:21:00",86,23.3,20.100000000000001,0.86266094420600858,3,3,0,0,0,0,0,0,0]
[null,"MH PG","2017-01-27","15:46:00",87,23.3,20.100000000000001,0.86266094420600858,2.8,2.8,0,0,0,0,0,0,0]
[null,"MH PG","2017-01-28","15:43:00",88,23.3,20.399999999999999,0.87553648068669521,2.7,2.7,0,0,0,0,1,1,0]
[null,"PG","2017-01-29","15:00:00",89,23.3,20.2,0.86695278969957079,2.7,2.7,0,0,0,0,0,0,0]
[null,"AG SR PG","2017-01-30","15:31:00",90,23.3,19.7,0.84549356223175964,2.75,2.75,0,0,0,0,0,0,0]
[null,"AG PG","2017-01-31","15:14:00",91,23.3,20.3,0.871244635193133,2.65,2.65,0,0,0,0,0,0,0]
[null,"PG SR","2017-02-01","15:42:00",92,23.3,20,0.85836909871244638,2.7,2.7,0,0,0,0,0,0,0]
[null,"AG PG","2017-02-02","15:17:00",93,23.3,20.2,0.86695278969957079,2.65,2.65,0,0,0,0,0,0,1,"rim of dirt above right eye"]
[null,"PG SR","2017-02-03","14:48:00",94,23.3,20.5,0.87982832618025753,2.5499999999999998,2.5499999999999998,0,0,0,0,0,0,1,"rim of dirt above right eye"]
[null,"AG PG","2017-02-04","15:10:00",95,23.3,20.100000000000001,0.86266094420600858,2.5499999999999998,2.5499999999999998,0,0,0,0,0,0,1,"rim of dirt above right eye"]
[null,"SR","2017-02-05","15:44:00",96,23.3,19.7,0.84549356223175964,2.6,2.6,0,0,0,0,1,1,1,"rim of dirt above right eye"]
[null,"AG PG","2017-02-06","15:14:00",97,23.3,19.8,0.84978540772532185,2.5499999999999998,2.5499999999999998,0,0,0,0,0,0,1,"rim of dirt above right eye"]
[null,"PG SR","2017-02-07","15:30:00",98,23.3,20.100000000000001,0.86266094420600858,2.5,2.4,0,0,0,0,0,0,1,"rim of dirt above right eye"]
[null,"MH PG","2017-02-08","15:23:00",99,23.3,20.3,0.871244635193133,2.4,2.4,0,0,0,0,0,0,1,"rim of dirt above right eye"]
[null,"AG PG","2017-02-09","15:15:00",100,23.3,19.899999999999999,0.85407725321888406,2.4500000000000002,2.4500000000000002,0,0,0,0,0,0,1,"rim of dirt above right eye"]
[null,"PG SR","2017-02-10","14:52:00",101,23.3,20,0.85836909871244638,2.4,2.4,0,0,0,0,0,0,0]
[null,"PG SR","2017-02-11","15:24:00",102,23.3,19.8,0.84978540772532185,2.4500000000000002,2.4500000000000002,0,0,0,0,0,0,1,"rim of dirt above right eye"]
[null,"PG SR","2017-02-12","15:20:00",103,23.3,19.899999999999999,0.85407725321888406,2.4,2.4,0,0,0,0,0,0,1,"rim of dirt above right eye"]
[null,"MH PG","2017-02-13","15:07:00",104,23.3,19.8,0.84978540772532185,2.4500000000000002,2.4500000000000002,0,0,0,0,0,0,1,"rim of dirt above right eye"]
[null,"PG SR","2017-02-14","15:29:00",105,23.3,19.899999999999999,0.85407725321888406,2.4,2.4,0,0,0,0,0,0,1,"rim of dirt above right eye"]
[null,"MH PG","2017-02-15","15:23:00",106,23.3,19.899999999999999,{"$f":"G70/F70","v":0.85407725321888406},2.4,2.4,0,0,0,0,0,{"$f":"SUM(K70:O70)","v":0},1,"rim of dirt above right eye"]
[null,"PG SR","2017-02-16","15:37:00",107,23.3,19.600000000000001,0.84120171673819744,2.4500000000000002,2.4500000000000002,0,0,0,0,0,0,1,"rim of dirt above right eye"]
[null,"AG PG","2017-02-17","15:40:00",108,23.3,19.8,0.84978540772532185,2.4500000000000002,2.4500000000000002,0,0,0,0,0,0,1,"rim of dirt above right eye"]
[null,"PG SR","2017-02-18","15:28:00",109,23.3,19.8,0.84978540772532185,2.4500000000000002,2.4500000000000002,0,0,0,0,0,0,0]
[null,"MH","2017-02-19","16:45:00",110,23.3,19.600000000000001,0.84120171673819744,2.5,2.5,0,0,0,0,0,0,0]
[null,"PG SR","2017-02-20","15:45:00",111,23.3,19.7,0.84549356223175964,2.5,2.5,0,0,0,0,0,0,1,"rim of dirt above right eye"]
[null,"AG PG","2017-02-21","15:42:00",112,23.3,20,0.85836909871244638,2.4500000000000002,2.4500000000000002,0,0,0,0,0,0,1,"rim of dirt above right eye"]
[null,"PG MH","2017-02-22","15:26:00",113,23.3,19.899999999999999,0.85407725321888406,2.4500000000000002,2.4500000000000002,0,0,0,0,0,0,0]
[null,"AG PG","2017-02-23","15:20:00",114,23.3,18.8,0.80686695278969955,2.85,2.85,0,0,0,0,1,1,0]
[null,"MH PG","2017-02-24","15:16:00",115,23.3,20,0.85836909871244638,2.4500000000000002,2.4500000000000002,0,0,0,0,0,0,0]
[null,"AG PG","2017-02-25","15:09:00",116,23.3,19.600000000000001,0.84120171673819744,2.5,2.5,0,0,0,0,0,0,0]
[null,"AG ","2017-02-26","15:29:00",117,23.3,19.600000000000001,0.84120171673819744,2.5499999999999998,2.5499999999999998,0,0,0,0,0,0,0]
[null,"MH PG","2017-02-27","15:16:00",118,23.3,19.399999999999999,0.83261802575107291,2.65,2.65,0,0,0,0,0,0,0]
[null,"AG PG","2017-02-28","15:19:00",119,23.3,20,0.85836909871244638,2.6,2.6,0,0,0,0,0,0,0]
[null,"MH PG","2017-03-01","15:22:00",120,23.3,19.7,{"$f":"G84/F84","v":0.84549356223175964},2.65,2.65,0,0,0,0,0,{"$f":"SUM(K84:O84)","v":0},0]
[null,"AG PG","2017-03-02","15:25:00",121,23.3,20.2,0.86695278969957079,2.6,2.6,0,0,0,0,0,0,0]
[null,"PG SR","2017-03-03","15:31:00",122,23.3,20.100000000000001,0.86266094420600858,2.6,2.6,0,0,0,0,0,0,0]
[null,"PG","2017-03-04","17:17:00",123,23.3,19.8,0.84978540772532185,2.6,2.6,0,0,0,0,0,0,0]
[null,"SR","2017-03-05","17:28:00",124,23.3,19.7,0.84549356223175964,2.65,2.65,0,0,0,0,0,0,0]
[null,"PG SR","2017-03-06","15:31:00",125,23.3,20.2,0.86695278969957079,2.5499999999999998,2.5499999999999998,0,0,0,0,0,0,0]
[null,"PG SR","2017-03-07","15:52:00",126,23.3,20.2,0.86695278969957079,"ad lib","ad lib",0,0,0,0,0,0,0]
[null,"PG SR","2017-03-08","16:01:00",127,23.3,24.8,1.0643776824034334,null,null,0,0,0,0,0,0,0]
[null,"PG SR","2017-03-09","16:12:00",128,23.3,25.1,1.0772532188841202,null,null,0,0,0,0,0,0,0]
[null,"PG SR","2017-03-10","14:15:00",129,23.3,25.9,1.1115879828326178,null,null,0,0,0,0,0,0,0]
[null,null,"2017-03-11",null,130]
[null,null,"2017-03-12",null,131]
[null,"AG","2017-03-13","15:00:00",132,23.3,26.8,{"$f":"G96/F96","v":1.150214592274678},null,null,0,0,0,0,0,0,0]
[null,null,"2017-03-14",null,133]
[null,"MH PG","2017-03-15","14:52:00",134,23.3,26.6,1.1416309012875536,null,null,0,0,0,0,0,{"$f":"SUM(K98:O98)","v":0},0]
[null,null,"2017-03-16",null,135]
[null,null,"2017-03-17",null,136,23.3,null,{"$f":"G100/F100","v":0},{"$nulls":7},{"$f":"SUM(K100:O100)","v":0}]

{"sheet":"W08","index":7,"n_rows":100,"n_cols":18,"rows_kept":100,"cut":false,"hidden":false,"merged":[]}
[null,"Score sheet info (digital summary)"]
[null,"Mouse W08"]
[{"$nulls":5},"Weight",null,null,"Water",null,"Scoring"]
[null,"Experimenter","Day","Time","Age","Reference","Actual","Percentage","Offered","Consumed","Activity/behavior","Look/posture","Shit/piss","Body condition","Dehydration signs","Total","Implant","Comment"]
[null,"SR","2016-12-12","14:00:00",41,21.9,21.5,{"$f":"G5/F5","v":0.98173515981735171},null,null,0,null,null,0,null,{"$f":"SUM(K5:O5)","v":0}]
[null,"SR","2016-12-13","14:00:00",42,21.9,22.1,{"$f":"G6/F6","v":1.0091324200913243},null,null,0,null,null,0,null,{"$f":"SUM(K6:O6)","v":0}]
[null,"PG","2016-12-14","18:00:00",43,21.9,22.8,1.0410958904109591,null,null,0,null,null,0,null,0]
[null,"PG","2016-12-15","15:00:00",44,21.9,21.2,0.96803652968036535,null,null,0,null,null,0,null,0]
[null,"AG,SR,PG","2016-12-16","14:30:00",45,21.9,19.600000000000001,0.89497716894977186,null,null,0,null,null,1,null,1,0,"Wet fur"]
[null,"PG","2016-12-17","14:00:00",46,21.9,21.6,0.98630136986301387,null,null,0,null,null,0,null,0,0]
[null,"PG","2016-12-18","14:00:00",47,21.9,22.8,1.0410958904109591,null,null,0,null,null,0,null,0,0]
[null,"SR","2016-12-19","14:00:00",48,21.9,23.4,1.0684931506849316,null,null,0,null,null,0,null,0,0]
[null,"PG","2016-12-20","16:00:00",49,21.9,24.1,1.1004566210045663,null,null,0,null,null,0,null,0,0]
[null,"AG","2016-12-21","14:00:00",50,21.9,24.1,1.1004566210045663,null,null,0,null,null,0,null,0,0]
[null,"AG","2016-12-22","13:45:00",51,21.9,24.1,1.1004566210045663,null,null,0,null,null,0,null,0,0]
[null,"PG","2016-12-23","13:20:00",52,21.9,23.7,1.0821917808219179,null,null,0,null,null,0,null,0,0]
[null,null,"2016-12-24",null,53]
[null,null,"2016-12-25",null,54]
[null,null,"2016-12-26",null,55]
[null,null,"2016-12-27",null,56]
[null,null,"2016-12-28",null,57]
[null,null,"2016-12-29",null,58]
[null,null,"2016-12-30",null,59]
[null,null,"2016-12-31",null,60]
[null,null,"2017-01-01",null,61]
[null,"AG PG","2017-01-02","14:00:00",62,25.7,25.7,1,1.57,1.57,0,0,0,0,0,0,0]
[null,"AG PG","2017-01-03","14:30:00",63,25.7,23.2,0.90272373540856032,1.57,1.57,0,0,0,0,0,0,0]
[null,"AG MH","2017-01-04","14:30:00",64,25.7,22.9,0.89105058365758749,1.5,1.5,0,0,0,0,0,0,0]
[null,"AG PG","2017-01-05","14:00:00",65,25.7,22.1,0.8599221789883269,1.57,1.57,0,0,0,0,0,0,0]
[null,"AG PG","2017-01-06","14:00:00",66,25.7,22.2,0.86381322957198448,1.57,1.57,0,0,0,0,0,0,0]
[null,"PG","2017-01-07","16:00:00",67,25.7,22,0.85603112840466933,1.57,1.57,0,0,0,0,0,0,0]
[null,"AG","2017-01-08","15:00:00",68,25.7,21.9,0.85214007782101164,1.57,1.57,0,0,0,0,0,0,0]
[null,"MH PG","2017-01-09","14:40:00",69,25.7,21.9,0.85214007782101164,1.57,1.57,0,0,0,0,0,0,0]
[null,"AG PG","2017-01-10","14:40:00",70,25.7,22.1,0.8599221789883269,1.5,1.5,0,0,0,0,0,0,0]
[null,"AG SR","2017-01-11","14:45:00",71,25.7,22.1,0.8599221789883269,1.5,1.5,0,0,0,0,0,0,0]
[null,"SR PG","2017-01-12","14:45:00",72,25.7,22.1,0.8599221789883269,1.5,1.5,0,0,0,0,0,0,0]
[null,"MH PG","2017-01-13","14:45:00",73,25.7,22.1,0.8599221789883269,1.45,1.45,0,0,0,0,0,0,0]
[null,"AG MH","2017-01-14","14:30:00",74,25.7,22,0.85603112840466933,1.55,1.55,0,0,0,0,0,0,0]
[null,"PG SR","2017-01-15","14:25:00",75,25.7,22.2,0.86381322957198448,1.45,1.45,0,0,0,0,0,0,0]
[null,"MH SR","2017-01-16","14:20:00",76,25.7,22.2,0.86381322957198448,1.45,1.45,0,0,0,0,0,0,0]
[null,"MH PG SR","2017-01-17","18:18:00",77,25.7,22.1,0.8599221789883269,1.45,1.45,0,0,0,0,0,0,0]
[null,"MH PG","2017-01-18","16:15:00",78,25.7,22.1,0.8599221789883269,1.4,1.4,0,0,0,0,0,0,0]
[null,"PG SR","2017-01-19","15:46:00",79,25.7,22.3,0.86770428015564205,1.3,1.3,0,0,0,0,0,0,0]
[null,"AG PG SR","2017-01-20","15:39:00",80,25.7,21.9,0.85214007782101164,1.35,1.35,0,0,0,0,0,0,0]
[null,"MH SR","2017-01-21","15:17:00",81,25.7,22.8,0.88715953307393003,1.3,1.3,0,0,0,0,0,0,0]
[null,"MH","2017-01-22","14:20:00",82,25.7,22.7,0.88326848249027234,1.25,1.25,0,0,0,0,0,0,0]
[null,"AG PG","2017-01-23","15:21:00",83,25.7,22.6,0.87937743190661488,1.25,1.25,0,0,0,0,0,0,0]
[null,"PG SR","2017-01-24","16:09:00",84,25.7,22.4,0.87159533073929962,1.25,1.25,0,0,0,0,0,0,0]
[null,"AG SR","2017-01-25","15:21:00",85,25.7,22.3,0.86770428015564205,1.25,1.25,0,0,0,0,0,0,0]
[null,"AG SR","2017-01-26","15:22:00",86,25.7,22.4,0.87159533073929962,1.2,1.2,0,0,0,0,0,0,0]
[null,"MH PG","2017-01-27","15:40:00",87,25.7,22.4,0.87159533073929962,1.1499999999999999,1.1499999999999999,0,0,0,0,1,1,0]
[null,"MH PG","2017-01-28","15:40:00",88,25.7,22,0.85603112840466933,1.2,1.2,0,0,0,0,0,0,0]
[null,"PG","2017-01-29","15:00:00",89,25.7,21.8,0.84824902723735418,1.25,1.25,0,0,0,0,0,0,0]
[null,"AG SR PG","2017-01-30","15:25:00",90,25.7,22.3,0.86770428015564205,1.73,1.73,0,0,0,0,1,1,0]
[null,"AG PG","2017-01-31","15:06:00",91,25.7,22.3,0.86770428015564205,1.23,1.23,0,0,0,0,1,1,0]
[null,"PG SR","2017-02-01","15:37:00",92,25.7,22.1,0.8599221789883269,1.62,1.62,0,0,0,0,1,1,0]
[null,"AG PG","2017-02-02","15:18:00",93,25.7,22,0.85603112840466933,3,3,0,0,0,0,1,0,0]
[null,"PG SR","2017-02-03","15:41:00",94,25.7,23.6,0.91828793774319073,1.1499999999999999,1.1499999999999999,0,0,0,0,0,0,0]
[null,"AG PG","2017-02-04","15:12:00",95,25.7,23,0.89494163424124518,1.1000000000000001,1.1000000000000001,0,0,0,0,0,0,0]
[null,"SR","2017-02-05","15:45:00",96,25.7,22.8,0.88715953307393003,1.1000000000000001,1.1000000000000001,0,0,0,0,0,0,0]
[null,"AG PG","2017-02-06","15:15:00",97,25.7,22.8,0.88715953307393003,1,1,0,0,0,0,0,0,0]
[null,"PG SR","2017-02-07","15:31:00",98,25.7,22.4,0.87159533073929962,1.17,1.3,0,0,0,0,0,0,0]
[null,"MH PG","2017-02-08","15:24:00",99,25.7,21.9,0.85214007782101164,1.3,1.3,0,0,0,0,0,0,0]
[null,"AG PG","2017-02-09","15:16:00",100,25.7,22.1,0.8599221789883269,1.25,1.25,0,0,0,0,0,0,0]
[null,"PG SR","2017-02-10","14:53:00",101,25.7,21.4,0.83268482490272366,1.3,1.3,0,0,0,0,0,0,0]
[null,"PG SR","2017-02-11","15:26:00",102,25.7,21.2,0.82490272373540852,1.44,1.44,0,0,0,0,0,0,0]
[null,"PG SR","2017-02-12","15:21:00",103,25.7,21.2,0.82490272373540852,1.51,1.51,0,0,0,0,0,0,0]
[null,"MH PG","2017-02-13","15:08:00",104,25.7,21.1,0.82101167315175105,1.7,1.7,0,1,0,0,0,1,0]
[null,"PG SR","2017-02-14","15:30:00",105,25.7,21.4,0.83268482490272366,1.8,1.8,0,0,0,0,1,1,0]
[null,"MH PG","2017-02-15","15:25:00",106,25.7,21.6,{"$f":"G70/F70","v":0.84046692607003903},1.8,1.8,0,0,0,0,0,{"$f":"SUM(K70:O70)","v":0},0]
[null,"PG SR","2017-02-16","15:38:00",107,25.7,21.9,0.85214007782101164,1.75,1.75,0,0,0,0,1,1,0]
[null,"AG PG","2017-02-17","15:40:00",108,25.7,22.1,0.8599221789883269,1.7,1.7,0,0,0,0,0,0,0]
[null,"PG SR","2017-02-18","15:30:00",109,25.7,22.3,0.86770428015564205,1.6,1.6,0,0,0,0,0,0,0]
[null,"MH","2017-02-19","16:10:00",110,25.7,22.3,0.86770428015564205,1.5,1.5,0,0,0,0,1,1,0]
[null,"PG SR","2017-02-20","15:49:00",111,25.7,22.8,0.88715953307393003,1.4,1.4,0,0,0,0,1,1,0]
[null,"AG PG","2017-02-21","15:53:00",112,25.7,22.4,0.87159533073929962,1.47,1.47,0,0,0,0,0,0,0]
[null,"PG MH","2017-02-22","15:28:00",113,25.7,22.2,0.86381322957198448,1.8,1.8,0,0,0,0,1,1,0]
[null,"AG PG","2017-02-23","15:22:00",114,25.7,22.1,0.8599221789883269,1.49,1.49,0,0,0,0,1,1,0]
[null,"MH PG","2017-02-24","15:17:00",115,25.7,22,0.85603112840466933,1.48,1.48,0,0,0,0,0,0,0]
[null,"AG PG","2017-02-25","15:10:00",116,25.7,22,0.85603112840466933,1.54,1.54,0,0,0,0,0,0,0]
[null,"AG","2017-02-26","15:50:00",117,25.7,22.1,0.8599221789883269,1.45,1.45,0,0,0,0,0,0,0]
[null,"MH PG","2017-02-27","15:18:00",118,25.7,22.6,0.87937743190661488,1.73,1.73,0,0,0,0,0,0,0]
[null,"AG PG","2017-02-28","15:21:00",119,25.7,22.5,0.8754863813229572,1.4,1.4,0,0,0,0,0,0,0]
[null,"MH PG","2017-03-01","15:23:00",120,25.7,22.3,{"$f":"G84/F84","v":0.86770428015564205},1.64,1.64,0,0,0,0,0,{"$f":"SUM(K84:O84)","v":0},0]
[null,"AG PG","2017-03-02","15:26:00",121,25.7,22.3,0.86770428015564205,1.76,1.76,0,0,0,0,0,0,0]
[null,"PG SR","2017-03-03","15:33:00",122,25.7,22.3,0.86770428015564205,1.59,1.59,0,0,0,0,0,0,0]
[null,"PG","2017-03-04","17:18:00",123,25.7,22.3,0.86770428015564205,1.4,1.4,0,0,0,0,0,0,0]
[null,"SR","2017-03-05","17:30:00",124,25.7,22.7,0.88326848249027234,1.3,1.3,0,0,0,0,1,1,0]
[null,"PG SR","2017-03-06","16:01:00",125,25.7,23,0.89494163424124518,1,1,0,1,0,0,0,1,0]
[null,"PG SR","2017-03-07","15:54:00",126,25.7,22.4,0.87159533073929962,1.51,1.51,0,0,0,0,0,0,0]
[null,"PG SR","2017-03-08","16:08:00",127,25.7,22.2,0.86381322957198448,1.5,1.5,0,1,0,0,0,1,0]
[null,"PG SR","2017-03-09","16:13:00",128,25.7,22.4,0.87159533073929962,"ad lib ","ad lib",0,0,0,0,0,0,0]
[null,"PG SR","2017-03-10","14:15:00",129,25.7,26.6,1.0350194552529184,null,null,0,0,0,0,0,0,0]
[null,null,"2017-03-11",null,130]
[null,null,"2017-03-12",null,131]
[null,"AG","2017-03-13","15:00:00",132,25.7,27.4,{"$f":"G96/F96","v":1.066147859922179},null,null,0,0,0,0,0,0,0]
[null,null,"2017-03-14",null,133]
[null,"MH PG","2017-03-15","14:53:00",134,25.7,27.7,1.0778210116731517,null,null,0,0,0,0,0,{"$f":"SUM(K98:O98)","v":0},0]
[null,null,"2017-03-16",null,135]
[null,null,"2017-03-17",null,136,25.7,null,{"$f":"G100/F100","v":0},{"$nulls":7},{"$f":"SUM(K100:O100)","v":0}]

{"sheet":"W09","index":8,"n_rows":100,"n_cols":18,"rows_kept":100,"cut":false,"hidden":false,"merged":[]}
[null,"Score sheet info (digital summary)"]
[null,"Mouse W09"]
[{"$nulls":5},"Weight",null,null,"Food",null,"Scoring"]
[null,"Experimenter","Day","Time","Age","Reference","Actual","Percentage","Offered","Consumed","Activity/behavior","Look/posture","Shit/piss","Body condition","Dehydration signs","Total","Implant","Comment"]
[null,"SR","2016-12-12","14:00:00",41,21.9,22.2,{"$f":"G5/F5","v":1.0136986301369864},null,null,0,null,null,0,null,{"$f":"SUM(K5:O5)","v":0}]
[null,"SR","2016-12-13","14:00:00",42,21.9,22.1,{"$f":"G6/F6","v":1.0091324200913243},null,null,0,null,null,0,null,{"$f":"SUM(K6:O6)","v":0}]
[null,"PG","2016-12-14","18:00:00",43,21.9,22.2,1.0136986301369864,null,null,0,null,null,0,null,0]
[null,"PG","2016-12-15","15:00:00",44,21.9,21.1,0.96347031963470331,null,null,0,null,null,0,null,0]
[null,"AG,SR,PG","2016-12-16","14:30:00",45,21.9,20,0.91324200913242015,null,null,0,null,null,1,null,1,0,"Wet fur"]
[null,"PG","2016-12-17","14:00:00",46,21.9,21.7,0.9908675799086758,null,null,0,null,null,0,null,0,0]
[null,"PG","2016-12-18","14:00:00",47,21.9,22.2,1.0136986301369864,null,null,0,null,null,0,null,0,0]
[null,"SR","2016-12-19","14:00:00",48,21.9,22.8,1.0410958904109591,null,null,0,null,null,0,null,0,0]
[null,"PG","2016-12-20","16:00:00",49,21.9,23.5,1.0730593607305936,null,null,0,null,null,0,null,0,0]
[null,"AG","2016-12-21","14:00:00",50,21.9,23.5,1.0730593607305936,null,null,0,null,null,0,null,0,0]
[null,"AG","2016-12-22","13:45:00",51,21.9,23.5,1.0730593607305936,null,null,0,null,null,0,null,0,0]
[null,"PG","2016-12-23","13:20:00",52,21.9,23.2,1.0593607305936072,null,null,0,null,null,0,null,0,0]
[null,null,"2016-12-24",null,53]
[null,null,"2016-12-25",null,54]
[null,null,"2016-12-26",null,55]
[null,null,"2016-12-27",null,56]
[null,null,"2016-12-28",null,57]
[null,null,"2016-12-29",null,58]
[null,null,"2016-12-30",null,59]
[null,null,"2016-12-31",null,60]
[null,null,"2017-01-01",null,61]
[null,"AG PG","2017-01-02","14:00:00",62,25.7,25.7,1,2,2,0,0,0,0,0,0,0]
[null,"AG PG","2017-01-03","14:30:00",63,25.7,22,0.85603112840466933,2.9,2.9,0,0,0,0,0,0,0]
[null,"AG MH","2017-01-04","14:30:00",64,25.7,22.3,0.86770428015564205,2.6,2.6,0,0,0,0,0,0,0]
[null,"AG PG","2017-01-05","14:00:00",65,25.7,21.1,0.82101167315175105,3.4,3.4,0,0,0,0,0,0,0]
[null,"AG PG","2017-01-06","14:00:00",66,25.7,21.7,0.8443579766536965,3.5449999999999999,3.55,0,0,0,0,0,0,0]
[null,"PG","2017-01-07","16:00:00",67,25.7,21.6,0.84046692607003903,3.75,3.75,0,0,0,0,0,0,0]
[null,"AG","2017-01-08","15:00:00",68,25.7,22.6,0.87937743190661488,2.7,2.7,0,0,0,0,0,0,0]
[null,"MH PG","2017-01-09","15:00:00",69,25.7,21.7,0.8443579766536965,3.3,3.3,0,0,0,0,0,0,0]
[null,"AG PG","2017-01-10","15:00:00",70,25.7,21.9,0.85214007782101164,3.1,3.1,0,0,0,0,0,0,0]
[null,"AG SR","2017-01-11","14:45:00",71,25.7,21.7,0.8443579766536965,3.45,3.45,0,0,0,0,0,0,0]
[null,"SR PG","2017-01-12","15:20:00",72,25.7,22,0.85603112840466933,3.2,3.2,0,0,0,0,0,0,0]
[null,"MH PG","2017-01-13","15:00:00",73,25.7,21.8,0.84824902723735418,3.3,3.3,0,0,0,0,0,0,0]
[null,"AG MH","2017-01-14","14:30:00",74,25.7,21.5,0.83657587548638135,4.25,4.25,0,0,0,0,0,0,0]
[null,"PG SR","2017-01-15","15:15:00",75,25.7,22,0.85603112840466933,4.5,4.5,0,0,0,0,0,0,0]
[null,"MH SR ","2017-01-16","14:45:00",76,25.7,21.9,0.85214007782101164,4.5,4.5,0,0,0,0,1,1,0]
[null,"MH PG SR","2017-01-17","18:35:00",77,25.7,21.1,0.82101167315175105,4.9400000000000004,4.9400000000000004,0,0,0,0,0,0,0]
[null,"MH PG","2017-01-18","16:33:00",78,25.7,23.2,0.90272373540856032,3.86,3.86,0,0,0,0,0,0,0]
[null,"PG SR","2017-01-19","16:16:00",79,25.7,22.7,0.88326848249027234,3.5,3.5,0,0,0,0,0,0,0]
[null,"AG PG SR","2017-01-20","16:04:00",80,25.7,23,0.89494163424124518,3.4,3.4,0,0,0,0,0,0,0]
[null,"MH SR","2017-01-21","15:44:00",81,25.7,23,0.89494163424124518,3.3,3.3,0,0,0,0,0,0,0]
[null,"MH","2017-01-22","14:57:00",82,25.7,23.3,0.9066147859922179,3.15,3.15,0,0,0,0,0,0,0]
[null,"AG MH","2017-01-23","15:51:00",83,25.7,23.1,0.89883268482490275,3.15,3.15,0,0,0,0,0,0,0]
[null,"PG SR","2017-01-24","16:40:00",84,25.7,23.2,0.90272373540856032,3,3,0,0,0,0,0,0,0]
[null,"AG SR ","2017-01-25","15:45:00",85,25.7,23.1,0.89883268482490275,3,2.9,0,0,0,0,0,0,0]
[null,"AG SR ","2017-01-26","15:53:00",86,25.7,23,0.89494163424124518,2.9,2.9,0,0,0,0,0,0,0]
[null,"MH PG","2017-01-27","16:21:00",87,25.7,22.4,0.87159533073929962,2.9,2.9,0,0,0,0,0,0,0]
[null,"MH PG","2017-01-28","16:22:00",88,25.7,22.4,0.87159533073929962,2.8,2.8,0,0,0,0,0,0,1,"Bit of crust near left eye"]
[null,"PG","2017-01-29","15:00:00",89,25.7,22.8,0.88715953307393003,2.7,2.7,0,0,0,0,0,0,1,"Bit of crust near left eye"]
[null,"AG SR PG","2017-01-30","16:21:00",90,25.7,22.1,0.8599221789883269,2.7,2.7,0,0,0,0,0,0,1,"Bit of crust near left eye"]
[null,"AG PG","2017-01-31","15:59:00",91,25.7,22.4,0.87159533073929962,2.65,2.65,0,0,0,0,0,0,1,"Bit of crust near left eye"]
[null,"PG SR","2017-02-01","16:28:00",92,25.7,21.9,0.85214007782101164,2.7,2.7,0,0,0,0,0,0,1,"Bit of crust near left eye"]
[null,"AG PG","2017-02-02","16:08:00",93,25.7,21.4,0.83268482490272366,2.8,2.8,0,0,0,0,0,0,1,"Bit of crust near left eye"]
[null,"SR PG","2017-02-03","15:37:00",94,25.7,21.5,0.83657587548638135,2.9,2.9,0,0,0,0,0,0,1,"Bit of crust near left eye"]
[null,"AG PG","2017-02-04","15:54:00",95,25.7,21.6,0.84046692607003903,2.9,2.9,0,0,0,0,0,0,1,"Bit of crust near left eye"]
[null,"SR","2017-02-05","15:46:00",96,25.7,21.3,0.8287937743190662,3,3,0,0,0,0,0,0,1,"Bit of crust near left eye"]
[null,"AG PG","2017-02-06","15:57:00",97,25.7,21.1,0.82101167315175105,3.1,3.1,0,0,0,0,0,0,1,"Bit of crust near left eye"]
[null,"PG SR","2017-02-07","16:15:00",98,25.7,21.9,0.85214007782101164,3.05,3.05,0,0,0,0,1,1,1,"Bit of crust near left eye"]
[null,"MH PG","2017-02-08","16:04:00",99,25.7,21.7,0.8443579766536965,3.08,3.08,0,0,0,0,0,0,1,"Bit of crust near left eye"]
[null,"AG PG","2017-02-09","15:59:00",100,25.7,21.8,0.84824902723735418,3.08,3.08,0,0,0,0,0,0,1,"Bit of crust near left eye"]
[null,"PG SR","2017-02-10","15:43:00",101,25.7,22,0.85603112840466933,3.05,3.05,0,0,0,0,0,0,1,"Bit of crust near left eye"]
[null,"PG SR","2017-02-11","16:09:00",102,25.7,22.1,0.8599221789883269,3,3,0,0,0,0,0,0,1,"Bit of crust near left eye"]
[null,"PG SR","2017-02-12","16:05:00",103,25.7,22.1,0.8599221789883269,2.95,2.95,0,0,0,0,0,0,1,"Bit of crust near left eye"]
[null,"MH PG","2017-02-13","15:56:00",104,25.7,22.1,0.8599221789883269,2.9,2.9,0,0,0,0,0,0,1,"Bit of crust near left eye"]
[null,"PG SR","2017-02-14","16:07:00",105,25.7,22.2,0.86381322957198448,2.85,2.85,0,0,0,0,1,1,1,"Bit of crust near left eye"]
[null,"MH PG","2017-02-15","16:04:00",106,25.7,22.3,{"$f":"G70/F70","v":0.86770428015564205},2.75,2.75,0,0,0,0,0,{"$f":"SUM(K70:O70)","v":0},1,"Bit of crust near left eye"]
[null,"PG SR","2017-02-16","16:18:00",107,25.7,22.2,0.86381322957198448,2.75,2.75,0,0,0,0,0,0,1,"Bit of crust near left eye"]
[null,"AG PG","2017-02-17","16:23:00",108,25.7,21.9,0.85214007782101164,2.75,2.75,0,0,0,0,0,0,1,"Bit of crust near left eye"]
[null,"PG SR","2017-02-18","16:12:00",109,25.7,22.2,0.86381322957198448,2.7,2.7,0,0,0,0,0,0,1,"Bit of crust near left eye"]
[null,"MH","2017-02-19","16:48:00",110,25.7,21.7,0.8443579766536965,2.75,2.75,0,0,0,0,0,0,1,"Bit of crust near left eye"]
[null,"PG SR","2017-02-20","16:26:00",111,25.7,21.8,0.84824902723735418,2.75,2.75,0,0,0,0,0,0,1,"Bit of crust near left eye"]
[null,"AG PG","2017-02-21","16:24:00",112,25.7,22,0.85603112840466933,2.75,2.75,0,0,0,0,0,0,1,"Bit of crust near left eye"]
[null,"PG MH","2017-02-22","16:14:00",113,25.7,21.9,0.85214007782101164,2.75,2.75,0,0,0,0,0,0,1,"Bit of crust near left eye"]
[null,"AG PG","2017-02-23","16:05:00",114,25.7,21.8,0.84824902723735418,2.8,2.8,0,0,0,0,0,0,1,"Bit of crust near left eye"]
[null,"MH PG","2017-02-24","15:55:00",115,25.7,21.9,0.85214007782101164,2.75,2.75,0,0,0,0,0,0,1,"Bit of crust near left eye"]
[null,"AG PG","2017-02-25","15:53:00",116,25.7,21.6,0.84046692607003903,2.8,2.8,0,0,0,0,0,0,1,"Bit of crust near left eye"]
[null,"AG","2017-02-26","15:33:00",117,25.7,21.6,0.84046692607003903,2.85,2.85,0,0,0,0,0,0,1,"Bit of crust near left eye"]
[null,"MH PG","2017-02-27","15:12:00",118,25.7,21.8,0.84824902723735418,2.8,2.8,0,0,0,0,0,0,1,"Bit of crust near left eye"]
[null,"AG PG","2017-02-28","16:05:00",119,25.7,21.9,0.85214007782101164,2.8,2.8,0,0,0,0,0,0,1,"Bit of crust near left eye"]
[null,"MH PG","2017-03-01","16:12:00",120,25.7,21.3,{"$f":"G84/F84","v":0.8287937743190662},3,3,0,0,0,0,0,{"$f":"SUM(K84:O84)","v":0},1,"Bit of crust near left eye"]
[null,"AG PG","2017-03-02","16:10:00",121,25.7,21.8,0.84824902723735418,2.9,2.9,0,0,0,0,0,0,1,"Bit of crust near left eye"]
[null,"PG SR","2017-03-03","16:19:00",122,25.7,21.7,0.8443579766536965,2.9,2.9,0,0,0,0,0,0,1,"Bit of crust near left eye"]
[null,"PG","2017-03-04","17:21:00",123,25.7,21.3,0.8287937743190662,3.1,3.1,0,0,0,0,0,0,1,"Bit of crust near left eye"]
[null,"SR","2017-03-05","17:32:00",124,25.7,21.5,0.83657587548638135,3.1,3.1,0,0,0,0,0,0,1,"Bit of crust near left eye"]
[null,"PG SR","2017-03-06","17:34:00",125,25.7,21.7,0.8443579766536965,3.05,3.05,0,0,0,0,0,0,1,"Bit of crust near left eye"]
[null,"PG SR","2017-03-07","16:36:00",126,25.7,22.6,0.87937743190661488,"ad lib","ad lib",0,0,0,0,0,0,1,"Bit of crust near left eye"]
[null,"PG SR","2017-03-08","16:02:00",127,25.7,27.1,1.0544747081712063,null,null,0,0,0,0,0,0,1,"Bit of crust near left eye"]
[null,"PG SR","2017-03-09","17:30:00",128,25.7,27.5,1.0700389105058365,null,null,0,0,0,0,0,0,1,"Bit of crust near left eye"]
[null,"PG SR","2017-03-10","14:16:00",129,25.7,27.7,1.0778210116731517,null,null,0,0,0,0,0,0,1,"Bit of crust near left eye"]
[null,null,"2017-03-11",null,130]
[null,null,"2017-03-12",null,131]
[null,"AG","2017-03-13","15:00:00",132,25.7,27.7,{"$f":"G96/F96","v":1.0778210116731517},null,null,0,0,0,0,0,{"$f":"SUM(K96:O96)","v":0},0]
[null,null,"2017-03-14",null,133]
[null,"MH PG","2017-03-15","14:54:00",134,25.7,27.6,1.0739299610894943,null,null,0,0,0,0,0,0,0]
[null,null,"2017-03-16",null,135]
[null,null,"2017-03-17",null,136,25.7,null,{"$f":"G100/F100","v":0},{"$nulls":7},{"$f":"SUM(K100:O100)","v":0}]

{"sheet":"W10","index":9,"n_rows":100,"n_cols":18,"rows_kept":100,"cut":false,"hidden":false,"merged":[]}
[null,"Score sheet info (digital summary)"]
[null,"Mouse W10"]
[{"$nulls":5},"Weight",null,null,"Water",null,"Scoring"]
[null,"Experimenter","Day","Time","Age","Reference","Actual","Percentage","Offered","Consumed","Activity/behavior","Look/posture","Shit/piss","Body condition","Dehydration signs","Total","Implant","Comment"]
[null,"SR","2016-12-12","14:00:00",41,22,21.1,{"$f":"G5/F5","v":0.95909090909090911},null,null,0,null,null,0,null,{"$f":"SUM(K5:O5)","v":0}]
[null,"SR","2016-12-13","14:00:00",42,22,22.3,{"$f":"G6/F6","v":1.0136363636363637},null,null,0,null,null,0,null,{"$f":"SUM(K6:O6)","v":0}]
[null,"PG","2016-12-14","18:00:00",43,22,22.6,1.0272727272727273,null,null,0,null,null,0,null,0]
[null,"PG","2016-12-15","15:00:00",44,22,21.9,0.99545454545454537,null,null,0,null,null,0,null,0]
[null,"AG,SR,PG","2016-12-16","14:30:00",45,22,20.9,0.95,null,null,0,null,null,1,null,1,0,"Wet fur"]
[null,"PG","2016-12-17","14:00:00",46,22,21.9,0.99545454545454537,null,null,0,null,null,0,null,0,0]
[null,"PG","2016-12-18","14:00:00",47,22,22.7,1.0318181818181817,null,null,0,null,null,0,null,0,0]
[null,"SR","2016-12-19","14:00:00",48,22,23.3,1.0590909090909091,null,null,0,null,null,0,null,0,0]
[null,"PG","2016-12-20","16:00:00",49,22,23.8,1.0818181818181818,null,null,0,null,null,0,null,0,0]
[null,"AG","2016-12-21","14:00:00",50,22,23.2,1.0545454545454545,null,null,1,null,null,0,null,1,0,"bald spot on back, no blood, rest fur normal"]
[null,"AG","2016-12-22","13:45:00",51,22,23.4,1.0636363636363635,null,null,0,null,null,0,null,0,0,"bald spot looks fine"]
[null,"PG","2016-12-23","13:20:00",52,22,23.6,1.0727272727272728,null,null,0,null,null,0,null,0,0]
[null,null,"2016-12-24",null,53]
[null,null,"2016-12-25",null,54]
[null,null,"2016-12-26",null,55]
[null,null,"2016-12-27",null,56]
[null,null,"2016-12-28",null,57]
[null,null,"2016-12-29",null,58]
[null,null,"2016-12-30",null,59]
[null,null,"2016-12-31",null,60]
[null,null,"2017-01-01",null,61]
[null,"AG PG","2017-01-02","14:00:00",62,25.1,25.1,1,1.57,1.57,0,0,0,0,0,0,0,"bald spot is gone"]
[null,"AG PG","2017-01-03","14:30:00",63,25.1,23,0.91633466135458164,1.57,1.57,0,0,0,0,0,0,0]
[null,"AH MH","2017-01-04","14:30:00",64,25.1,22.8,0.9083665338645418,1.5,1.5,0,0,0,0,0,0,0]
[null,"AG PG","2017-01-05","14:00:00",65,25.1,22.5,0.89641434262948205,1.57,1.57,0,0,0,0,0,0,0]
[null,"AG PG","2017-01-06","14:00:00",66,25.1,22.1,0.88047808764940239,1.57,1.57,0,0,0,0,0,0,0]
[null,"PG","2017-01-07","16:00:00",67,25.1,22.2,0.88446215139442219,1.57,1.57,0,0,0,0,0,0,0]
[null,"AG","2017-01-08","15:00:00",68,25.1,22,0.87649402390438247,1.57,1.57,0,0,0,0,0,0,0]
[null,"MH PG","2017-01-09","14:30:00",69,25.1,22.1,0.88047808764940239,1.57,1.57,0,0,0,0,0,0,0]
[null,"AG PG","2017-01-10","14:40:00",70,25.1,22.1,0.88047808764940239,1.4,1.4,0,0,0,0,0,{"$f":"SUM(K34:O34)","v":0},0]
[null,"AG SR","2017-01-11","14:45:00",71,25.1,22,0.87649402390438247,1.4,1.4,0,0,0,0,0,0,0]
[null,"SR PG","2017-01-12","14:30:00",72,25.1,21.7,0.86454183266932261,1.45,1.45,0,0,0,0,0,0,0]
[null,"MH PG","2017-01-13","14:45:00",73,25.1,21.5,0.85657370517928277,1.5,1.5,0,0,0,0,0,0,0]
[null,"AG MH","2017-01-14","14:00:00",74,25.1,21.6,0.8605577689243028,1.5,1.5,0,0,0,0,0,0,0]
[null,"PG SR","2017-01-15","14:35:00",75,25.1,21.3,0.84860557768924305,1.55,1.55,0,0,0,0,0,0,0]
[null,"MH SR ","2017-01-16","14:15:00",76,25.1,21.3,0.84860557768924305,1.55,1.55,0,0,0,0,1,1,0]
[null,"MH PG SR","2017-01-17","18:44:00",77,25.1,21.2,0.84462151394422302,1.6,1.6,0,0,0,0,0,0,0]
[null,"MH PG","2017-01-18","16:40:00",78,25.1,21.3,0.84860557768924305,1.6,1.6,0,0,0,0,0,0,0]
[null,"PG SR","2017-01-19","16:19:00",79,25.1,21.3,0.84860557768924305,1.6,1.6,0,0,0,0,0,0,0]
[null,"AG PG SR","2017-01-20","16:09:00",80,25.1,21.4,0.85258964143426286,1.6,1.6,0,0,0,0,0,0,0]
[null,"MH SR","2017-01-21","15:51:00",81,25.1,21.2,0.84462151394422302,1.6,1.6,0,0,0,0,0,0,0]
[null,"MH","2017-01-22","14:25:00",82,25.1,21.4,0.85258964143426286,1.6,1.6,0,0,0,0,0,0,0]
[null,"AG PG","2017-01-23","15:57:00",83,25.1,21.3,0.84860557768924305,1.6,1.6,0,0,0,0,1,0,0]
[null,"PG SR","2017-01-24","16:45:00",84,25.1,21.3,0.84860557768924305,1.6,1.6,0,0,0,0,1,1,0]
[null,"AG SR","2017-01-25","15:49:00",85,25.1,21.5,0.85657370517928277,1.6,1.6,0,0,0,0,0,0,0]
[null,"AG SR","2017-01-26","15:53:00",86,25.1,21.3,{"$f":"G50/F50","v":0.84860557768924305},1.6,1.6,0,0,0,0,0,0,0]
[null,"MH PG","2017-01-27","16:11:00",87,25.1,21.6,{"$f":"G51/F51","v":0.8605577689243028},1.5,1.6,0,0,0,0,1,1,0]
[null,"MH PG","2017-01-28","16:13:00",88,25.1,21.5,{"$f":"G52/F52","v":0.85657370517928277},1.5,1.5,0,0,0,0,0,0,0]
[null,"PG","2017-01-29","15:00:00",89,25.1,21.6,0.8605577689243028,1.45,1.45,0,0,0,0,0,0,0]
[null,"AG PG SR","2017-01-30","16:00:00",90,25.1,21.9,0.87250996015936244,1.4,1.4,0,0,0,0,1,1,0]
[null,"AG PG","2017-01-31","15:41:00",91,25.1,21.8,0.86852589641434264,1.4,1.4,0,0,0,0,0,0,0]
[null,"PG SR","2017-02-01","16:14:00",92,25.1,21.6,0.8605577689243028,1.4,1.4,0,0,0,0,1,1,0]
[null,"AG PG","2017-02-02","16:03:00",93,25.1,21.4,0.85258964143426286,1.4,1.4,0,0,0,0,1,1,0]
[null,"SR PG","2017-02-03","15:38:00",94,25.1,21.5,0.85657370517928277,1.45,1.45,0,0,0,0,0,0,0]
[null,"AG PG","2017-02-04","15:56:00",95,25.1,21,0.83665338645418319,1.45,1.45,0,0,0,1,0,1,0]
[null,"SR","2017-02-05","15:48:00",96,25.1,21.2,0.84462151394422302,1.45,1.45,0,0,0,0,0,0,0]
[null,"AG PG","2017-02-06","15:59:00",97,25.1,21.7,0.86454183266932261,1.4,1.4,0,0,0,0,0,0,0]
[null,"PG SR","2017-02-07","16:16:00",98,25.1,21.4,0.85258964143426286,1.42,1.42,0,0,0,0,0,0,0]
[null,"MH PG","2017-02-08","16:05:00",99,25.1,21.2,0.84462151394422302,1.45,1.45,0,0,0,0,0,0,0]
[null,"AG PG","2017-02-09","16:00:00",100,25.1,21.1,0.84063745019920322,1.48,1.48,0,0,0,0,0,0,0]
[null,"PG SR","2017-02-10","15:44:00",101,25.1,21.1,0.84063745019920322,1.48,1.48,0,0,0,0,0,0,0]
[null,"PG SR","2017-02-11","16:10:00",102,25.1,20.7,0.82470119521912344,1.55,1.55,0,0,0,0,0,0,0]
[null,"PG SR","2017-02-12","16:05:00",103,25.1,20.7,0.82470119521912344,1.6,1.6,0,0,0,0,0,0,0]
[null,"MH PG","2017-02-13","15:57:00",104,25.1,20.5,0.81673306772908361,1.8,1.8,0,1,0,0,0,1,0]
[null,"PG SR","2017-02-14","16:09:00",105,25.1,20.8,0.82868525896414336,1.85,1.85,0,1,0,0,0,1,0]
[null,"MH PG","2017-02-15","16:06:00",106,25.1,20.9,{"$f":"G70/F70","v":0.83266932270916327},1.95,1.95,0,1,0,0,0,{"$f":"SUM(K70:O70)","v":1},0]
[null,"PG SR","2017-02-16","16:21:00",107,25.1,21,0.83665338645418319,2,2,0,1,0,0,0,1,0]
[null,"AG PG","2017-02-17","16:26:00",108,25.1,20.9,0.83266932270916327,2.1,2.1,0,1,0,0,0,1,0]
[null,"PG SR","2017-02-18","16:13:00",109,25.1,21.1,0.84063745019920322,2.1,2.1,0,0,0,0,1,1,0]
[null,"MH","2017-02-19","16:14:00",110,25.1,21.2,0.84462151394422302,2.1,2.1,0,1,0,0,0,1,0]
[null,"PG SR","2017-02-20","16:30:00",111,25.1,22.2,0.88446215139442219,1.95,1.95,0,0,0,0,1,1,0]
[null,"AG PG","2017-02-21","16:25:00",112,25.1,22.2,0.88446215139442219,1.9,1.9,0,1,0,0,0,1,0]
[null,"PG MH","2017-02-22","16:14:00",113,25.1,22.2,0.88446215139442219,1.8,1.8,0,0,0,0,1,1,0]
[null,"AG PG","2017-02-23","16:06:00",114,25.1,22,0.87649402390438247,1.75,1.75,0,0,0,0,1,1,0]
[null,"MH PG","2017-02-24","15:57:00",115,25.1,22,0.87649402390438247,1.65,1.65,0,0,0,0,1,1,0]
[null,"AG PG","2017-02-25","15:54:00",116,25.1,21.7,0.86454183266932261,1.67,1.67,0,0,0,0,1,1,0]
[null,"AG","2017-02-26","15:52:00",117,25.1,21.7,0.86454183266932261,1.6,1.6,0,0,0,0,1,1,0]
[null,"MH PG","2017-02-27","15:59:00",118,25.1,22.3,0.88844621513944222,1.44,1.44,0,0,0,0,0,0,0]
[null,"AG PG","2017-02-28","16:06:00",119,25.1,22.1,0.88047808764940239,1.87,1.87,0,0,0,0,0,0,0]
[null,"MH PG","2017-03-01","16:14:00",120,25.1,22.1,{"$f":"G84/F84","v":0.88047808764940239},1.6,1.6,0,0,0,0,0,{"$f":"SUM(K84:O84)","v":0},0]
[null,"AG PG","2017-03-02","16:11:00",121,25.1,22,0.87649402390438247,1.47,1.47,0,0,0,0,0,0,0]
[null,"PG SR","2017-03-03","16:20:00",122,25.1,22,0.87649402390438247,1.58,1.58,0,0,0,0,1,1,0]
[null,"PG","2017-03-04","17:23:00",123,25.1,21.8,0.86852589641434264,1.5,1.5,0,0,0,0,1,1,0]
[null,"SR","2017-03-05","17:35:00",124,25.1,22,0.87649402390438247,1.4,1.4,0,0,0,0,1,1,0]
[null,"PG SR","2017-03-06","17:08:00",125,25.1,22.1,0.88047808764940239,1.2,1.2,0,0,0,0,0,0,0]
[null,"PG SR","2017-03-07","16:39:00",126,25.1,21,0.83665338645418319,1.38,1.38,0,0,0,0,0,0,0]
[null,"PG SR","2017-03-08","16:08:00",127,25.1,21.4,0.85258964143426286,1.3,1.3,0,0,0,0,0,0,0]
[null,"PG SR","2017-03-09","17:33:00",128,25.1,21.4,0.85258964143426286,"ad lib","ad lib",0,0,0,0,1,1,0]
[null,"PG SR","2017-03-10","14:17:00",129,25.1,26,1.0358565737051793,null,null,0,0,0,0,0,0,0]
[null,null,"2017-03-11",null,130]
[null,null,"2017-03-12",null,131]
[null,"AG","2017-03-13","15:00:00",132,25.1,27,{"$f":"G96/F96","v":1.0756972111553784},null,null,0,0,0,0,1,{"$f":"SUM(K96:O96)","v":1},0]
[null,null,"2017-03-14",null,133]
[null,"MH PG","2017-03-15","14:55:00",134,25.1,26.9,1.0717131474103585,null,null,0,0,0,0,0,0,0]
[null,null,"2017-03-16",null,135]
[null,null,"2017-03-17",null,136,25.1,null,{"$f":"G100/F100","v":0},{"$nulls":7},{"$f":"SUM(K100:O100)","v":0}]

{"sheet":"W11","index":10,"n_rows":100,"n_cols":18,"rows_kept":100,"cut":false,"hidden":false,"merged":[]}
[null,"Score sheet info (digital summary)"]
[null,"Mouse W11"]
[{"$nulls":5},"Weight",null,null,"Food",null,"Scoring"]
[null,"Experimenter","Day","Time","Age","Reference","Actual","Percentage","Offered","Consumed","Activity/behavior","Look/posture","Shit/piss","Body condition","Dehydration signs","Total","Implant","Comment"]
[null,"SR","2016-12-12","14:00:00",41,22.3,21.8,{"$f":"G5/F5","v":0.97757847533632292},null,null,0,null,null,0,null,{"$f":"SUM(K5:O5)","v":0}]
[null,"SR","2016-12-13","14:00:00",42,22.3,22.5,{"$f":"G6/F6","v":1.0089686098654709},null,null,0,null,null,0,null,{"$f":"SUM(K6:O6)","v":0}]
[null,"PG","2016-12-14","18:00:00",43,22.3,22.4,1.0044843049327354,null,null,0,null,null,0,null,0]
[null,"PG","2016-12-15","15:00:00",44,22.3,22.3,1,null,null,0,null,null,0,null,0]
[null,"AG,SR,PG","2016-12-16","14:30:00",45,22.3,20.9,0.93721973094170397,null,null,0,null,null,1,null,1,0,"Wet fur"]
[null,"PG","2016-12-17","14:00:00",46,22.3,21.5,0.9641255605381166,null,null,0,null,null,0,null,0,0]
[null,"PG","2016-12-18","14:00:00",47,22.3,22.3,1,null,null,0,null,null,0,null,0,0]
[null,"SR","2016-12-19","14:00:00",48,22.3,23,1.0313901345291479,null,null,0,null,null,0,null,0,0]
[null,"PG","2016-12-20","16:00:00",49,22.3,23,1.0313901345291479,null,null,0,null,null,0,null,0,0]
[null,"AG","2016-12-21","14:00:00",50,22.3,23,1.0313901345291479,null,null,0,null,null,0,null,0,0]
[null,"AG","2016-12-22","13:45:00",51,22.3,22.6,1.0134529147982063,null,null,0,null,null,0,null,0,0]
[null,"PG","2016-12-23","13:20:00",52,22.3,23.2,1.0403587443946187,null,null,0,null,null,0,null,0,0]
[null,null,"2016-12-24",null,53]
[null,null,"2016-12-25",null,54]
[null,null,"2016-12-26",null,55]
[null,null,"2016-12-27",null,56]
[null,null,"2016-12-28",null,57]
[null,null,"2016-12-29",null,58]
[null,null,"2016-12-30",null,59]
[null,null,"2016-12-31",null,60]
[null,null,"2017-01-01",null,61]
[null,"AG PG","2017-01-02","14:00:00",62,25,25,1,2,2,0,0,0,0,0,0,1,"bit of dirt above left eye"]
[null,"AG PG","2017-01-03","14:30:00",63,25,21.6,0.8640000000000001,3,3,0,0,0,0,0,0,1,"bit of dirt above left eye"]
[null,"AG MH","2017-01-04","14:30:00",64,25,21.6,0.8640000000000001,2.5,2.5,0,0,0,0,0,0,1,"bit of dirt above left eye"]
[null,"AG PG","2017-01-05","14:00:00",65,25,20.3,0.81200000000000006,3.2,3.2,0,0,0,0,0,0,1,"bit of dirt above left eye"]
[null,"ag pg","2017-01-06","14:00:00",66,25,20.2,0.80799999999999994,4.2,4.2,0,0,0,0,0,0,1,"bit of dirt above left eye"]
[null,"PG","2017-01-07","16:00:00",67,25,20.6,0.82400000000000007,4.4000000000000004,4.4000000000000004,0,0,0,0,0,0,1,"bit of dirt above left eye"]
[null,"AG","2017-01-08","15:00:00",68,25,21.4,0.85599999999999998,3,3,0,0,0,0,0,0,1,"bit of dirt above left eye"]
[null,"MH PG","2017-01-09","15:10:00",69,25,20.5,0.82,4.0999999999999996,4.0999999999999996,0,0,0,0,0,0,1,"bit of dirt above left eye"]
[null,"AG PG","2017-01-10","15:10:00",70,25,20.7,0.82799999999999996,3.95,3.95,0,0,0,0,0,{"$f":"SUM(K34:O34)","v":0},1,"bit of dirt above left eye"]
[null,"AG SR","2017-01-11","14:45:00",71,25,21.1,0.84400000000000008,4,4,0,0,0,0,0,0,1,"bit of dirt above left eye"]
[null,"SR PG","2017-01-12","15:00:00",72,25,21.2,0.84799999999999998,3.93,3.93,0,0,0,0,0,0,1,"bit of dirt above left eye"]
[null,"MH PG","2017-01-13","15:00:00",73,25,21.4,0.85599999999999998,3.8,3.8,0,0,0,0,0,0,1,"bit of dirt above left eye"]
[null,"AG MH","2017-01-14","14:30:00",74,25,20.9,0.83599999999999997,4.5,4.5,0,0,0,0,0,0,1,"bit of dirt above left eye"]
[null,"PG SR","2017-01-15","15:15:00",75,25,21.4,0.85599999999999998,4.8,4.8,0,0,0,0,0,0,1,"bit of dirt above left eye"]
[null,"MH SR","2017-01-16","14:30:00",76,25,21.3,0.85199999999999998,4.8,4.8,0,0,0,0,0,0,1,"bit of dirt above left eye"]
[null,"MH PG SR","2017-01-17","18:53:00",77,25,20.6,0.82400000000000007,5.35,5.35,0,0,0,0,0,0,1,"bit of dirt above left eye"]
[null,"MH PG","2017-01-18","16:45:00",78,25,21.8,0.872,5.84,5.84,0,0,0,0,0,0,1,"bit of dirt above left eye"]
[null,"PG SR","2017-01-19","16:22:00",79,25,21.4,0.85599999999999998,3.4,3.4,0,0,0,0,0,0,1,"bit of dirt above left eye"]
[null,"AG PG SR","2017-01-20","16:12:00",80,25,21.4,0.85599999999999998,3.4,3.4,0,0,0,0,0,0,1,"bit of dirt above left eye"]
[null,"MH SR","2017-01-21","15:54:00",81,25,21.3,0.85199999999999998,3.4,3.4,0,0,0,0,0,0,1,"bit of dirt above left eye"]
[null,"MH","2017-01-22","15:01:00",82,25,22,0.88,3.3,3.3,0,0,0,0,0,0,1,"bit of dirt above left eye"]
[null,"AG PG","2017-01-23","15:57:00",83,25,21,0.84,3.5,3.5,0,0,0,0,0,0,1,"dirt above both eyes"]
[null,"PG SR","2017-01-24","16:48:00",84,25,21.3,0.85199999999999998,3.4,3.4,0,0,0,0,0,0,1,"dirt above both eyes"]
[null,"AG SR","2017-01-25","15:53:00",85,25,21.6,0.8640000000000001,3.35,3.35,0,0,0,0,0,0,1,"dirt above both eyes"]
[null,"AG SR","2017-01-26","15:59:00",86,25,21.7,0.86799999999999999,3.3,3.3,0,0,0,0,0,0,1,"dirt above both eyes"]
[null,"MH PG","2017-01-27","16:33:00",87,25,21.1,0.84400000000000008,3.35,3.35,0,0,0,0,0,0,1,"dirt above both eyes"]
[null,"MH PG","2017-01-28","16:26:00",88,25,21.4,0.85599999999999998,3.3,3.3,0,0,0,0,0,0,1,"dirt above both eyes"]
[null,"PG","2017-01-29","15:05:00",89,25,21.5,0.86,3.2,3.2,0,0,0,0,0,0,1,"dirt above both eyes"]
[null,"AG SR PG","2017-01-30","16:08:00",90,25,20.9,0.83599999999999997,3.3,3.3,0,0,0,0,0,0,1,"dirt above both eyes"]
[null,"AG PG","2017-01-31","16:01:00",91,25,21.6,0.8640000000000001,3.25,3.25,0,0,0,0,0,0,1,"dirt above both eyes"]
[null,"PG SR","2017-02-01","16:32:00",92,25,21.1,0.84400000000000008,3.25,3.25,0,0,0,0,0,0,1,"dirt above both eyes"]
[null,"AG PG","2017-02-02","16:04:00",93,25,20.8,0.83200000000000007,3.3,3.3,0,0,0,0,0,0,1,"dirt above both eyes"]
[null,"SR PG","2017-02-03","15:39:00",94,25,20.9,0.83599999999999997,3.35,3.35,0,0,0,0,0,0,1,"dirt above both eyes"]
[null,"AG PG","2017-02-04","15:56:00",95,25,21,0.84,3.35,3.35,0,0,0,0,0,0,1,"dirt above both eyes"]
[null,"SR","2017-02-05","15:50:00",96,25,21.3,0.85199999999999998,3.3,3.3,0,0,0,0,0,0,1,"dirt above both eyes"]
[null,"AG PG","2017-02-06","16:01:00",97,25,21,0.84,3.35,3.35,0,0,0,0,0,0,1,"dirt above both eyes"]
[null,"PG SR","2017-02-07","16:17:00",98,25,21.4,0.85599999999999998,3.3,3.3,0,0,0,0,0,0,1,"dirt above both eyes"]
[null,"MH PG","2017-02-08","16:06:00",99,25,22.2,0.88800000000000001,3.2,3.2,0,0,0,0,0,0,1,"dirt above both eyes"]
[null,"AG PG","2017-02-09","16:03:00",100,25,21.8,0.872,3.2,3.2,0,0,0,0,0,0,1,"dirt above both eyes"]
[null,"PG SR","2017-02-10","15:46:00",101,25,22,0.88,3.1,3.1,0,0,0,0,0,0,1,"dirt above both eyes"]
[null,"PG SR","2017-02-11","16:12:00",102,25,22,0.88,3,3,0,0,0,0,0,0,1,"dirt above both eyes"]
[null,"PG SR","2017-02-12","16:08:00",103,25,22.1,0.88400000000000001,2.9,2.9,0,0,0,0,0,0,1,"dirt above both eyes"]
[null,"MH PG","2017-02-13","15:58:00",104,25,22.1,0.88400000000000001,2.7,2.7,0,0,0,0,0,0,1,"dirt above both eyes"]
[null,"PG SR","2017-02-14","16:10:00",105,25,21.8,0.872,2.7,2.7,0,0,0,0,0,0,1,"dirt above both eyes"]
[null,"MH PG","2017-02-15","16:08:00",106,25,21.9,{"$f":"G70/F70","v":0.87599999999999989},2.5499999999999998,2.5499999999999998,0,0,0,0,0,{"$f":"SUM(K70:O70)","v":0},1,"dirt above both eyes"]
[null,"PG SR","2017-02-16","16:23:00",107,25,21.2,0.84799999999999998,2.7,2.7,0,0,0,0,0,0,1,"dirt above both eyes"]
[null,"AG PG","2017-02-17","16:28:00",108,25,20.7,0.82799999999999996,2.9,2.9,0,0,0,0,0,0,1,"dirt above both eyes"]
[null,"PG SR","2017-02-18","16:16:00",109,25,21.4,0.85599999999999998,2.8,2.8,0,0,0,0,0,0,1,"dirt above both eyes"]
[null,"MH","2017-02-19","16:52:00",110,25,21,0.84,2.85,2.85,0,0,0,0,0,0,1,"dirt above both eyes"]
[null,"PG SR","2017-02-20","16:33:00",111,25,20.100000000000001,0.80400000000000005,3.2,3.2,0,0,0,0,0,0,1,"dirt above both eyes"]
[null,"AG PG","2017-02-21","16:29:00",112,25,21.4,0.85599999999999998,2.9,2.9,0,0,0,0,0,0,1,"dirt above both eyes"]
[null,"PG MH","2017-02-22","16:15:00",113,25,21.1,0.84400000000000008,3,3,0,0,0,0,0,0,1,"dirt above both eyes"]
[null,"AG PG","2017-02-23","16:08:00",114,25,21,0.84,3.05,3.05,0,0,0,0,0,0,1,"dirt above both eyes"]
[null,"MH PG","2017-02-24","15:58:00",115,25,21,0.84,3.1,3.1,0,0,0,0,0,0,1,"dirt above both eyes"]
[null,"AG PG","2017-02-25","15:56:00",116,25,21,0.84,3.1,3.1,0,0,0,0,0,0,1,"dirt above both eyes"]
[null,"AG","2017-02-26","15:35:00",117,25,21.3,0.85199999999999998,3.1,3.1,0,0,0,0,0,0,1,"dirt above both eyes"]
[null,"MH PG","2017-02-27","16:02:00",118,25,20.8,0.83200000000000007,3.2,3.2,0,0,0,0,0,0,1,"dirt above both eyes"]
[null,"AG PG","2017-02-28","16:07:00",119,25,21,0.84,3.2,3.2,0,0,0,0,1,1,1,"dirt above both eyes"]
[null,"MH PG","2017-03-01","16:15:00",120,25,21.4,{"$f":"G84/F84","v":0.85599999999999998},3.1,3.1,0,0,0,0,0,{"$f":"SUM(K84:O84)","v":0},1,"dirt above both eyes"]
[null,"AG PG","2017-03-02","16:13:00",121,25,21.3,0.85199999999999998,3.1,3.1,0,0,0,0,1,1,1,"dirt above both eyes"]
[null,"PG SR","2017-03-03","16:22:00",122,25,21.4,0.85599999999999998,3.1,3.1,0,0,0,0,0,0,1,"dirt above both eyes"]
[null,"PG","2017-03-04","17:25:00",123,25,20.7,0.82799999999999996,3.3,3.3,0,0,0,0,0,0,1,"dirt above both eyes"]
[null,"SR","2017-03-05","17:38:00",124,25,20.8,0.83200000000000007,3.3,3.3,0,0,0,0,0,0,1,"dirt above both eyes"]
[null,"PG SR","2017-03-06","17:35:00",125,25,20.7,0.82799999999999996,3.4,3.4,0,0,0,0,0,0,1,"dirt above both eyes"]
[null,"PG SR","2017-03-07","16:41:00",126,25,22,0.88,"ad lib","ad lib",0,0,0,0,0,0,1,"dirt above both eyes"]
[null,"PG SR","2017-03-08","16:03:00",127,25,27.9,1.1159999999999999,null,null,0,0,0,0,0,0,1,"dirt above both eyes"]
[null,"PG SR","2017-03-09","17:34:00",128,25,27.8,1.1120000000000001,null,null,0,0,0,0,0,0,1,"dirt above both eyes"]
[null,"PG SR","2017-03-10","14:17:00",129,25,28.6,1.1440000000000001,null,null,0,0,0,0,0,0,1,"dirt above both eyes"]
[null,null,"2017-03-11",null,130]
[null,null,"2017-03-12",null,131]
[null,"AG","2017-03-13","15:00:00",132,25,28.3,{"$f":"G96/F96","v":1.1320000000000001},null,null,0,0,0,0,0,{"$f":"SUM(K96:O96)","v":0},1,"dirt above both eyes"]
[null,null,"2017-03-14",null,133]
[null,"MH PG","2017-03-15","14:55:00",134,25,28.5,1.1399999999999999,null,null,0,0,0,0,0,0,1,"dirt above both eyes"]
[null,null,"2017-03-16",null,135]
[null,null,"2017-03-17",null,136,25,null,{"$f":"G100/F100","v":0},{"$nulls":7},{"$f":"SUM(K100:O100)","v":0}]

{"sheet":"W12","index":11,"n_rows":100,"n_cols":18,"rows_kept":100,"cut":false,"hidden":false,"merged":[]}
[null,"Score sheet info (digital summary)"]
[null,"Mouse W12"]
[{"$nulls":5},"Weight",null,null,"Water",null,"Scoring"]
[null,"Experimenter","Day","Time","Age","Reference","Actual","Percentage","Offered","Consumed","Activity/behavior","Look/posture","Shit/piss","Body condition","Dehydration signs","Total","Implant","Comment"]
[null,"SR","2016-12-12","14:00:00",41,21.7,21.7,{"$f":"G5/F5","v":1},null,null,0,null,null,0,null,{"$f":"SUM(K5:O5)","v":0}]
[null,"SR","2016-12-13","14:00:00",42,21.7,21.8,1.0046082949308757,null,null,0,null,null,0,null,0]
[null,"PG","2016-12-14","18:00:00",43,21.7,22.1,1.0184331797235024,null,null,0,null,null,0,null,0]
[null,"PG","2016-12-15","15:00:00",44,21.7,21.3,0.98156682027649778,null,null,0,null,null,0,null,0]
[null,"AG,SR,PG","2016-12-16","14:30:00",45,21.7,20.2,0.93087557603686633,null,null,0,null,null,1,null,1,0,"Wet fur"]
[null,"PG","2016-12-17","14:00:00",46,21.7,19.899999999999999,0.91705069124423955,null,null,0,null,null,1,null,{"$f":"SUM(K10:O10)","v":1},0,"Bit wet fur in the neck"]
[null,"PG","2016-12-18","14:00:00",47,21.7,20.8,0.95852534562211988,null,null,0,null,null,0,null,0,0]
[null,"SR","2016-12-19","14:00:00",48,21.7,21.9,1.0092165898617511,null,null,0,null,null,1,null,1,0,"Bit wet fur in the neck"]
[null,"PG","2016-12-20","16:00:00",49,21.7,22.3,1.0276497695852536,null,null,0,null,null,0,null,0,0,"Looks good"]
[null,"AG","2016-12-21","14:00:00",50,21.7,22.6,1.0414746543778803,null,null,0,null,null,0,null,0,0]
[null,"AG","2016-12-22","13:45:00",51,21.7,23.1,1.0645161290322582,null,null,0,null,null,0,null,0,0]
[null,"PG","2016-12-23","13:20:00",52,21.7,22.8,1.0506912442396314,null,null,0,null,null,0,null,0,0]
[null,null,"2016-12-24",null,53]
[null,null,"2016-12-25",null,54]
[null,null,"2016-12-26",null,55]
[null,null,"2016-12-27",null,56]
[null,null,"2016-12-28",null,57]
[null,null,"2016-12-29",null,58]
[null,null,"2016-12-30",null,59]
[null,null,"2016-12-31",null,60]
[null,null,"2017-01-01",null,61]
[null,"AG PG","2017-01-02","14:00:00",62,25.3,25.3,1,1.57,1.57,0,0,0,0,0,0,1,"bit of dirt above left eye"]
[null,"AG PG","2017-01-03","14:30:00",63,25.3,23.5,0.92885375494071143,1.57,1.57,0,0,0,0,0,0,1,"bit of dirt above left eye"]
[null,"AG MH","2017-01-04","14:30:00",64,25.3,22.4,0.88537549407114613,1.4,1.4,0,1,0,0,0,1,1,"bit of dirt above left eye"]
[null,"AG PG","2017-01-05","14:00:00",65,25.3,21.7,0.85770750988142286,1.5,1.5,0,0,0,0,0,0,1,"bit of dirt above left eye"]
[null,"AG PG","2017-01-06","14:00:00",66,25.3,21,0.83003952569169959,2.2999999999999998,2.2999999999999998,0,0,0,0,0,0,0]
[null,"PG","2017-01-07","16:00:00",67,25.3,21.6,0.85375494071146252,1.57,1.57,0,0,0,0,0,0,0]
[null,"AG","2017-01-08","15:00:00",68,25.3,21.9,0.86561264822134376,1.57,1.57,0,0,0,0,0,0,0]
[null,"MH PG","2017-01-09","14:40:00",69,25.3,21.9,0.86561264822134376,1.57,1.57,0,0,0,0,0,0,0]
[null,"AG PG","2017-01-10","14:30:00",70,25.3,21.8,0.86166007905138342,1.55,1.55,0,0,0,0,0,0,0]
[null,"AG SR","2017-01-11","14:45:00",71,25.3,21.8,0.86166007905138342,1.57,1.57,0,0,0,0,0,0,0]
[null,"SR PG","2017-01-12","14:30:00",72,25.3,21.8,0.86166007905138342,1.5,1.5,0,0,0,0,0,0,0]
[null,"MH PG","2017-01-13","14:35:00",73,25.3,21.9,0.86561264822134376,1.45,1.45,0,0,0,0,0,0,0]
[null,"AG MH","2017-01-14","14:00:00",74,25.3,21.8,0.86166007905138342,1.5,1.5,0,0,0,0,0,0,0]
[null,"PG SR","2017-01-15","14:35:00",75,25.3,21.8,0.86166007905138342,1.5,1.5,0,0,0,0,0,0,0]
[null,"MH SR","2017-01-16","14:05:00",76,25.3,21.9,0.86561264822134376,1.5,1.5,0,0,0,0,0,0,0]
[null,"MH PG SR","2017-01-17","18:55:00",77,25.3,21.8,0.86166007905138342,1.5,1.5,0,0,0,0,0,0,0]
[null,"MH PG","2017-01-18","16:50:00",78,25.3,21.8,0.86166007905138342,1.45,1.45,0,0,0,0,0,0,0]
[null,"PG SR","2017-01-19","16:24:00",79,25.3,21.7,0.85770750988142286,1.4,1.4,0,0,0,0,0,0,0]
[null,"AG PG SR","2017-01-20","16:17:00",80,25.3,21.7,0.85770750988142286,1.4,1.4,0,0,0,0,0,0,0]
[null,"MH SR","2017-01-21","15:58:00",81,25.3,21.9,0.86561264822134376,1.35,1.35,0,0,0,0,0,0,0]
[null,"MH","2017-01-22","14:30:00",82,25.3,21.8,0.86166007905138342,1.35,1.35,0,0,0,0,0,0,0]
[null,"AG PG","2017-01-23","15:59:00",83,25.3,21.7,0.85770750988142286,1.35,1.35,0,0,0,0,0,0,0]
[null,"PG SR","2017-01-24","16:50:00",84,25.3,21.4,0.84584980237154139,1.4,1.4,0,0,0,0,0,0,0]
[null,"AG SR","2017-01-25","15:58:00",85,25.3,20.9,0.82608695652173902,1.55,1.55,0,0,0,0,1,1,0]
[null,"AG SR","2017-01-26","16:01:00",86,25.3,21.3,0.84189723320158105,1.55,1.55,0,0,0,0,0,0,0]
[null,"MH PG","2017-01-27","16:18:00",87,25.3,21.2,0.83794466403162049,1.6,1.6,0,0,0,0,0,0,0]
[null,"MH PG","2017-01-28","16:13:00",88,25.3,21.1,0.83399209486166015,1.65,1.65,0,0,0,0,0,0,0]
[null,"PG","2017-01-29","15:05:00",89,25.3,21.4,0.84584980237154139,1.6,1.6,0,0,0,0,0,0,0]
[null,"AG PG SR","2017-01-30","16:02:00",90,25.3,21.8,0.86166007905138342,1.55,1.55,0,0,0,0,1,1,0]
[null,"AG PG","2017-01-31","15:44:00",91,25.3,21.7,0.85770750988142286,1.55,1.55,0,0,0,0,1,1,0]
[null,"PG SR","2017-02-01","16:15:00",92,25.3,21.5,0.84980237154150196,1.55,1.55,0,0,0,0,0,0,0]
[null,"AG PG","2017-02-02","16:05:00",93,25.3,21.5,0.84980237154150196,1.55,1.55,0,0,0,0,0,0,0]
[null,"PG SR","2017-02-03","14:53:00",94,25.3,21.6,0.85375494071146252,1.55,1.55,0,0,0,0,0,0,0]
[null,"AG PG","2017-02-04","16:00:00",95,25.3,22,{"$f":"G59/F59","v":0.86956521739130432},1.45,1.45,0,0,0,0,0,0,0]
[null,"SR","2017-02-05","15:51:00",96,25.3,22.1,0.87351778656126489,1.4,1.4,0,0,0,0,0,{"$f":"SUM(K60:O60)","v":0},0]
[null,"AG PG","2017-02-06","16:02:00",97,25.3,22.2,0.87747035573122523,1.35,1.35,0,0,0,0,1,1,0]
[null,"PG SR","2017-02-07","16:19:00",98,25.3,22,0.86956521739130432,1.3,1.3,0,0,0,0,0,0,0]
[null,"MH PG","2017-02-08","16:08:00",99,25.3,21.8,0.86166007905138342,1.3,1.3,0,0,0,0,0,0,0]
[null,"AG PG","2017-02-09","16:07:00",100,25.3,21.6,0.85375494071146252,1.35,1.35,0,0,0,0,0,0,0]
[null,"PG SR","2017-02-10","15:46:00",101,25.3,21.6,0.85375494071146252,1.35,1.35,0,0,0,0,0,0,0]
[null,"PG SR","2017-02-11","16:13:00",102,25.3,21.6,0.85375494071146252,1.35,1.35,0,0,0,0,0,0,0]
[null,"PG SR","2017-02-12","16:09:00",103,25.3,21.5,0.84980237154150196,1.35,1.35,0,0,0,0,0,0,0]
[null,"MH PG","2017-02-13","15:58:00",104,25.3,21.4,0.84584980237154139,1.4,1.4,0,1,0,0,0,1,0]
[null,"PG SR","2017-02-14","16:11:00",105,25.3,21.3,0.84189723320158105,1.45,1.45,0,0,0,0,0,0,0]
[null,"MH PG","2017-02-15","16:10:00",106,25.3,21,0.83003952569169959,1.55,1.55,0,1,0,0,0,1,0]
[null,"PG SR","2017-02-16","16:25:00",107,25.3,21,0.83003952569169959,1.7,1.7,0,0,0,0,0,0,0]
[null,"AG PG","2017-02-17","16:29:00",108,25.3,21,0.83003952569169959,1.85,1.85,0,0,0,0,0,0,0]
[null,"PG SR","2017-02-18","16:17:00",109,25.3,21.1,0.83399209486166015,1.9,1.9,0,0,0,0,0,0,0]
[null,"MH","2017-02-19","16:20:00",110,25.3,21.2,0.83794466403162049,1.95,1.95,0,1,0,0,0,1,0]
[null,"PG SR","2017-02-20","16:36:00",111,25.3,21.7,0.85770750988142286,1.95,1.95,0,0,0,0,1,1,0]
[null,"AG PG","2017-02-21","16:30:00",112,25.3,21.8,0.86166007905138342,1.9,1.9,0,1,0,0,1,2,0]
[null,"PG MH","2017-02-22","16:16:00",113,25.3,21.7,0.85770750988142286,1.9,1.9,0,1,0,0,1,2,0]
[null,"AG PG","2017-02-23","16:10:00",114,25.3,21.6,0.85375494071146252,1.9,1.9,0,1,0,0,1,2,0]
[null,"MH PG","2017-02-24","16:00:00",115,25.3,21.6,0.85375494071146252,1.85,1.85,0,1,0,0,1,2,0]
[null,"AG PG","2017-02-25","15:58:00",116,25.3,21.4,0.84584980237154139,1.9,1.9,0,0,0,0,1,1,0]
[null,"AG","2017-02-26","15:59:00",117,25.3,21.5,0.84980237154150196,1.9,1.9,0,0,0,0,1,1,0]
[null,"MH PG","2017-02-27","16:03:00",118,25.3,21.4,0.84584980237154139,1.9,1.9,0,0,0,0,0,0,0]
[null,"AG PG","2017-02-28","16:09:00",119,25.3,21.5,0.84980237154150196,1.9,1.9,0,0,0,0,1,1,0]
[null,"MH PG","2017-03-01","16:17:00",120,25.3,21.6,{"$f":"G84/F84","v":0.85375494071146252},1.85,1.85,0,0,0,0,1,{"$f":"SUM(K84:O84)","v":1},0]
[null,"AG PG","2017-03-02","16:14:00",121,25.3,21.8,0.86166007905138342,1.8,1.8,0,0,0,0,0,0,0]
[null,"PG SR","2017-03-03","16:23:00",122,25.3,21.9,0.86561264822134376,1.7,1.7,0,0,0,0,0,0,0]
[null,"PG","2017-03-04","17:27:00",123,25.3,21.7,0.85770750988142286,1.7,1.7,0,0,0,0,1,1,0]
[null,"SR","2017-03-05","17:39:00",124,25.3,21.7,0.85770750988142286,1.7,1.7,0,0,0,0,1,1,0]
[null,"PG SR","2017-03-06","17:06:00",125,25.3,21.8,0.86166007905138342,1.6,1.6,0,0,0,0,1,1,0]
[null,"PG SR","2017-03-07","16:42:00",126,25.3,21.5,0.84980237154150196,1.65,1.65,0,0,0,0,1,1,0]
[null,"PG SR","2017-03-08","16:10:00",127,25.3,21.3,0.84189723320158105,2.06,2.06,0,0,0,0,1,1,0]
[null,"PG SR","2017-03-09","17:36:00",128,25.3,20.5,0.81027667984189722,"ad lib","ad lib",0,1,0,0,1,2,0]
[null,"PG SR","2017-03-10","14:18:00",129,25.3,23.9,0.94466403162055324,null,null,0,1,0,0,1,2,0]
[null,null,"2017-03-11",null,130]
[null,null,"2017-03-12",null,131]
[null,"AG","2017-03-13","15:00:00",132,25.3,25.6,{"$f":"G96/F96","v":1.0118577075098814},null,null,0,1,0,0,1,{"$f":"SUM(K96:O96)","v":2},0]
[null,null,"2017-03-14",null,133]
[null,"MH PG","2017-03-15","14:56:00",134,25.3,26,1.0276679841897234,null,null,0,0,0,0,0,0,0]
[null,null,"2017-03-16",null,135]
[null,null,"2017-03-17",null,136,25.3,null,{"$f":"G100/F100","v":0},{"$nulls":7},{"$f":"SUM(K100:O100)","v":0}]

{"sheet":"Officer","index":12,"n_rows":100,"n_cols":17,"rows_kept":100,"cut":false,"hidden":false,"merged":[]}
[]
[]
[null,null,"Score","Score","Score","Score","Score","Score","Score","Score","Score","Score","Score","Score","Mean","Food","Water"]
["Day","Age","W01","W02","W03","W04","W05","W06","W07","W08","W09","W10","W11","W12","Score","Score","Score"]
["2016-12-12",41]
["2016-12-13",42]
["2016-12-14",43]
["2016-12-15",44]
["2016-12-16",45]
["2016-12-17",46]
["2016-12-18",47]
["2016-12-19",48]
["2016-12-20",49]
["2016-12-21",50]
["2016-12-22",51]
["2016-12-23",52]
["2016-12-24",53]
["2016-12-25",54]
["2016-12-26",55]
["2016-12-27",56]
["2016-12-28",57]
["2016-12-29",58]
["2016-12-30",59]
["2016-12-31",60]
["2017-01-01",61]
["2017-01-02",62]
["2017-01-03",63]
["2017-01-04",64]
["2017-01-05",65]
["2017-01-06",66]
["2017-01-07",67]
["2017-01-08",68]
["2017-01-09",69]
["2017-01-10",70]
["2017-01-11",71]
["2017-01-12",72]
["2017-01-13",73]
["2017-01-14",74]
["2017-01-15",75]
["2017-01-16",76,0,0,0,0,0,0,0,0,1,1,0,0,{"$f":"AVERAGE(C40,D40,E40,F40,G40,H40,I40,J40,K40,L40,M40,N40)","v":0.16666666666666666},{"$f":"AVERAGE(C40,E40,G40,I40,K40,M40)","v":0.16666666666666666},{"$f":"AVERAGE(D40,F40,H40,J40,L40,N40)","v":0.16666666666666666}]
["2017-01-17",77]
["2017-01-18",78]
["2017-01-19",79]
["2017-01-20",80]
["2017-01-21",81]
["2017-01-22",82]
["2017-01-23",83,0,1,1,0,0,1,1,1,0,1,0,0,{"$f":"AVERAGE(C47,D47,E47,F47,G47,H47,I47,J47,K47,L47,M47,N47)","v":0.5},{"$f":"AVERAGE(C47,E47,G47,I47,K47,M47)","v":0.33333333333333331},{"$f":"AVERAGE(D47,F47,H47,J47,L47,N47)","v":0.66666666666666663}]
["2017-01-24",84]
["2017-01-25",85]
["2017-01-26",86]
["2017-01-27",87]
["2017-01-28",88]
["2017-01-29",89]
["2017-01-30",90,0,0,0,0,0,0,0,1,0,1,0,1,{"$f":"AVERAGE(C54,D54,E54,F54,G54,H54,I54,J54,K54,L54,M54,N54)","v":0.25},0,0.5]
["2017-01-31",91]
["2017-02-01",92]
["2017-02-02",93]
["2017-02-03",94]
["2017-02-04",95]
["2017-02-05",96]
["2017-02-06",97,0,0,0,0,0,1,0,0,0,1,0,1.5,0.29166666666666669,0,0.58333333333333337]
["2017-02-07",98]
["2017-02-08",99]
["2017-02-09",100]
["2017-02-10",101]
["2017-02-11",102]
["2017-02-12",103]
["2017-02-13",104,0,2,0,0,0,2,0,1,0,1,0,2,0.66666666666666663,0,1.3333333333333333]
["2017-02-14",105]
["2017-02-15",106]
["2017-02-16",107]
["2017-02-17",108]
["2017-02-18",109]
["2017-02-19",110]
["2017-02-20",111,0,2,0,1,0,2,1,2,1,2,0,3,1.1666666666666667,0.33333333333333331,2]
["2017-02-21",112]
["2017-02-22",113]
["2017-02-23",114]
["2017-02-24",115]
["2017-02-25",116]
["2017-02-26",117]
["2017-02-27",118,0,1,0,0,0,1,0,1,0,0,0,1,0.33333333333333331,0,0.66666666666666663]
["2017-02-28",119]
["2017-03-01",120]
["2017-03-02",121]
["2017-03-03",122]
["2017-03-04",123]
["2017-03-05",124]
["2017-03-06",125,0,2,0,0,0,1,0,1,0,1,0,2,{"$f":"AVERAGE(C89,D89,E89,F89,G89,H89,I89,J89,K89,L89,M89,N89)","v":0.58333333333333337},{"$f":"AVERAGE(C89,E89,G89,I89,K89,M89)","v":0},{"$f":"AVERAGE(D89,F89,H89,J89,L89,N89)","v":1.1666666666666667}]
["2017-03-07",126]
["2017-03-08",127]
["2017-03-09",128]
["2017-03-10",129]
["2017-03-11",130]
["2017-03-12",131]
["2017-03-13",132,0,0,0,0,0,0,0,1,0,1,0,2,{"$f":"AVERAGE(C96,D96,E96,F96,G96,H96,I96,J96,K96,L96,M96,N96)","v":0.33333333333333331},{"$f":"AVERAGE(C96,E96,G96,I96,K96,M96)","v":0},{"$f":"AVERAGE(D96,F96,H96,J96,L96,N96)","v":0.66666666666666663}]
["2017-03-14",133]
["2017-03-15",134]
["2017-03-16",135]
["2017-03-17",136]

{"sheet":"Temp hum","index":13,"n_rows":100,"n_cols":8,"rows_kept":100,"cut":false,"hidden":false,"merged":[]}
[]
[]
[]
["Day","Age","Temperature","Humidity"]
["2016-12-12",41]
["2016-12-13",42]
["2016-12-14",43]
["2016-12-15",44]
["2016-12-16",45]
["2016-12-17",46]
["2016-12-18",47]
["2016-12-19",48]
["2016-12-20",49]
["2016-12-21",50]
["2016-12-22",51]
["2016-12-23",52]
["2016-12-24",53]
["2016-12-25",54]
["2016-12-26",55]
["2016-12-27",56]
["2016-12-28",57]
["2016-12-29",58]
["2016-12-30",59]
["2016-12-31",60]
["2017-01-01",61]
["2017-01-02",62]
["2017-01-03",63]
["2017-01-04",64]
["2017-01-05",65]
["2017-01-06",66]
["2017-01-07",67]
["2017-01-08",68]
["2017-01-09",69]
["2017-01-10",70]
["2017-01-11",71]
["2017-01-12",72]
["2017-01-13",73]
["2017-01-14",74]
["2017-01-15",75]
["2017-01-16",76]
["2017-01-17",77]
["2017-01-18",78]
["2017-01-19",79]
["2017-01-20",80]
["2017-01-21",81]
["2017-01-22",82]
["2017-01-23",83]
["2017-01-24",84]
["2017-01-25",85]
["2017-01-26",86]
["2017-01-27",87,20.399999999999999,0.65]
["2017-01-28",88,20.399999999999999,0.65]
["2017-01-29",89,20.399999999999999,0.65]
["2017-01-30",90]
["2017-01-31",91,20.5,0.64]
["2017-02-01",92,20.5,0.64]
["2017-02-02",93,20.399999999999999,0.65]
["2017-02-03",94,20.399999999999999,0.64]
["2017-02-04",95,20.399999999999999,0.64]
["2017-02-05",96]
["2017-02-06",97,20.6,0.64]
["2017-02-07",98,21,0.63]
["2017-02-08",99,20.7,0.64]
["2017-02-09",100,20.5,0.64]
["2017-02-10",101,20.5,0.65]
["2017-02-11",102,21.8,0.61]
["2017-02-12",103,21.7,0.61]
["2017-02-13",104,21.7,0.59,"In cage",null,"Training room"]
["2017-02-14",105,21.7,0.6,20.9,62,21.5,38]
["2017-02-15",106,21.4,0.62]
["2017-02-16",107,21.5,0.61]
["2017-02-17",108,21.7,0.6]
["2017-02-18",109,21.8,0.6]
["2017-02-19",110,21.8,0.6]
["2017-02-20",111,21.8,0.6]
["2017-02-21",112]
["2017-02-22",113]
["2017-02-23",114]
["2017-02-24",115]
["2017-02-25",116]
["2017-02-26",117]
["2017-02-27",118]
["2017-02-28",119]
["2017-03-01",120]
["2017-03-02",121]
["2017-03-03",122]
["2017-03-04",123]
["2017-03-05",124]
["2017-03-06",125]
["2017-03-07",126]
["2017-03-08",127]
["2017-03-09",128]
["2017-03-10",129]
["2017-03-11",130]
["2017-03-12",131]
["2017-03-13",132]
["2017-03-14",133]
["2017-03-15",134]
["2017-03-16",135]
["2017-03-17",136]

{"sheet":"Stats","index":14,"n_rows":100,"n_cols":35,"rows_kept":100,"cut":false,"hidden":false,"merged":[]}
[]
[]
[null,null,"W01",null,"W02",null,"W03",null,"W04",null,"W05",null,"W06",null,"W07",null,"W08",null,"W09",null,"W10",null,"W11",null,"W12",null,"Avg","Avg","Avg","Food","Food","Water","Water","Food","Water"]
["Day","Age","Score","Implant","Score","Implant","Score","Implant","Score","Implant","Score","Implant","Score","Implant","Score","Implant","Score","Implant","Score","Implant","Score","Implant","Score","Implant","Score","Implant","Score","Implant","Hesse","Score","Implant","Score","Implant","Hesse","Hesse"]
["2016-12-12",41,{"$f":"'W01'!P5","v":0},{"$f":"'W01'!Q5","v":0},{"$f":"'W02'!P5","v":0},{"$f":"'W02'!Q5","v":0},{"$f":"'W03'!P5","v":0},{"$f":"'W03'!Q5","v":0},{"$f":"'W04'!P5","v":0},{"$f":"'W04'!Q5","v":0},{"$f":"'W05'!P5","v":0},{"$f":"'W05'!Q5","v":0},{"$f":"'W06'!P5","v":0},{"$f":"'W06'!Q5","v":0},{"$f":"'W07'!P5","v":0},{"$f":"'W07'!Q5","v":0},{"$f":"'W08'!P5","v":0},{"$f":"'W08'!Q5","v":0},{"$f":"'W09'!P5","v":0},{"$f":"'W09'!Q5","v":0},{"$f":"'W10'!P5","v":0},{"$f":"'W10'!Q5","v":0},{"$f":"'W11'!P5","v":0},{"$f":"'W11'!Q5","v":0},{"$f":"'W12'!P5","v":0},{"$f":"'W12'!Q5","v":0},{"$f":"AVERAGE(C5,E5,G5,I5,K5,M5,O5,Q5,S5,U5,W5,Y5)","v":0},{"$f":"AVERAGE(D5,F5,H5,J5,L5,N5,P5,R5,T5,V5,X5,Z5)","v":0},null,{"$f":"AVERAGE(C5,G5,K5,O5,S5,W5)","v":0},{"$f":"AVERAGE(D5,H5,L5,P5,T5,X5)","v":0},{"$f":"AVERAGE(E5,I5,M5,Q5,U5,Y5)","v":0},{"$f":"AVERAGE(F5,J5,N5,R5,V5,Z5)","v":0}]
["2016-12-13",42,{"$f":"'W01'!P6","v":0},{"$f":"'W01'!Q6","v":0},{"$f":"'W02'!P6","v":0},{"$f":"'W02'!Q6","v":0},{"$f":"'W03'!P6","v":0},{"$f":"'W03'!Q6","v":0},{"$f":"'W04'!P6","v":0},{"$f":"'W04'!Q6","v":0},{"$f":"'W05'!P6","v":0},{"$f":"'W05'!Q6","v":0},{"$f":"'W06'!P6","v":0},{"$f":"'W06'!Q6","v":0},{"$f":"'W07'!P6","v":0},{"$f":"'W07'!Q6","v":0},{"$f":"'W08'!P6","v":0},{"$f":"'W08'!Q6","v":0},{"$f":"'W09'!P6","v":0},{"$f":"'W09'!Q6","v":0},{"$f":"'W10'!P6","v":0},{"$f":"'W10'!Q6","v":0},{"$f":"'W11'!P6","v":0},{"$f":"'W11'!Q6","v":0},{"$f":"'W12'!P6","v":0},{"$f":"'W12'!Q6","v":0},{"$f":"AVERAGE(C6,E6,G6,I6,K6,M6,O6,Q6,S6,U6,W6,Y6)","v":0},{"$f":"AVERAGE(D6,F6,H6,J6,L6,N6,P6,R6,T6,V6,X6,Z6)","v":0},null,{"$f":"AVERAGE(C6,G6,K6,O6,S6,W6)","v":0},{"$f":"AVERAGE(D6,H6,L6,P6,T6,X6)","v":0},{"$f":"AVERAGE(E6,I6,M6,Q6,U6,Y6)","v":0},{"$f":"AVERAGE(F6,J6,N6,R6,V6,Z6)","v":0}]
["2016-12-14",43,{"$f":"'W01'!P7","v":0},{"$f":"'W01'!Q7","v":0},{"$f":"'W02'!P7","v":0},{"$f":"'W02'!Q7","v":0},{"$f":"'W03'!P7","v":0},{"$f":"'W03'!Q7","v":0},{"$f":"'W04'!P7","v":0},{"$f":"'W04'!Q7","v":0},{"$f":"'W05'!P7","v":0},{"$f":"'W05'!Q7","v":0},{"$f":"'W06'!P7","v":0},{"$f":"'W06'!Q7","v":0},{"$f":"'W07'!P7","v":0},{"$f":"'W07'!Q7","v":0},{"$f":"'W08'!P7","v":0},{"$f":"'W08'!Q7","v":0},{"$f":"'W09'!P7","v":0},{"$f":"'W09'!Q7","v":0},{"$f":"'W10'!P7","v":0},{"$f":"'W10'!Q7","v":0},{"$f":"'W11'!P7","v":0},{"$f":"'W11'!Q7","v":0},{"$f":"'W12'!P7","v":0},{"$f":"'W12'!Q7","v":0},0,0,null,0,0,0,0]
["2016-12-15",44,{"$f":"'W01'!P8","v":1},{"$f":"'W01'!Q8","v":0},{"$f":"'W02'!P8","v":1},{"$f":"'W02'!Q8","v":0},{"$f":"'W03'!P8","v":1},{"$f":"'W03'!Q8","v":0},{"$f":"'W04'!P8","v":1},{"$f":"'W04'!Q8","v":0},{"$f":"'W05'!P8","v":1},{"$f":"'W05'!Q8","v":0},{"$f":"'W06'!P8","v":1},{"$f":"'W06'!Q8","v":0},{"$f":"'W07'!P8","v":0},{"$f":"'W07'!Q8","v":0},{"$f":"'W08'!P8","v":0},{"$f":"'W08'!Q8","v":0},{"$f":"'W09'!P8","v":0},{"$f":"'W09'!Q8","v":0},{"$f":"'W10'!P8","v":0},{"$f":"'W10'!Q8","v":0},{"$f":"'W11'!P8","v":0},{"$f":"'W11'!Q8","v":0},{"$f":"'W12'!P8","v":0},{"$f":"'W12'!Q8","v":0},0.5,0,null,0.5,0,0.5,0]
["2016-12-16",45,{"$f":"'W01'!P9","v":0},{"$f":"'W01'!Q9","v":0},{"$f":"'W02'!P9","v":0},{"$f":"'W02'!Q9","v":0},{"$f":"'W03'!P9","v":0},{"$f":"'W03'!Q9","v":0},{"$f":"'W04'!P9","v":0},{"$f":"'W04'!Q9","v":0},{"$f":"'W05'!P9","v":0},{"$f":"'W05'!Q9","v":0},{"$f":"'W06'!P9","v":0},{"$f":"'W06'!Q9","v":0},{"$f":"'W07'!P9","v":1},{"$f":"'W07'!Q9","v":0},{"$f":"'W08'!P9","v":1},{"$f":"'W08'!Q9","v":0},{"$f":"'W09'!P9","v":1},{"$f":"'W09'!Q9","v":0},{"$f":"'W10'!P9","v":1},{"$f":"'W10'!Q9","v":0},{"$f":"'W11'!P9","v":1},{"$f":"'W11'!Q9","v":0},{"$f":"'W12'!P9","v":1},{"$f":"'W12'!Q9","v":0},0.5,0,null,0.5,0,0.5,0]
["2016-12-17",46,{"$f":"'W01'!P10","v":0},{"$f":"'W01'!Q10","v":0},{"$f":"'W02'!P10","v":0},{"$f":"'W02'!Q10","v":0},{"$f":"'W03'!P10","v":0},{"$f":"'W03'!Q10","v":0},{"$f":"'W04'!P10","v":0},{"$f":"'W04'!Q10","v":0},{"$f":"'W05'!P10","v":0},{"$f":"'W05'!Q10","v":0},{"$f":"'W06'!P10","v":0},{"$f":"'W06'!Q10","v":0},{"$f":"'W07'!P10","v":0},{"$f":"'W07'!Q10","v":0},{"$f":"'W08'!P10","v":0},{"$f":"'W08'!Q10","v":0},{"$f":"'W09'!P10","v":0},{"$f":"'W09'!Q10","v":0},{"$f":"'W10'!P10","v":0},{"$f":"'W10'!Q10","v":0},{"$f":"'W11'!P10","v":0},{"$f":"'W11'!Q10","v":0},{"$f":"'W12'!P10","v":1},{"$f":"'W12'!Q10","v":0},8.3333333333333329E-2,0,null,0,0,0.16666666666666666,0]
["2016-12-18",47,{"$f":"'W01'!P11","v":0},{"$f":"'W01'!Q11","v":0},{"$f":"'W02'!P11","v":0},{"$f":"'W02'!Q11","v":0},{"$f":"'W03'!P11","v":0},{"$f":"'W03'!Q11","v":0},{"$f":"'W04'!P11","v":0},{"$f":"'W04'!Q11","v":0},{"$f":"'W05'!P11","v":0},{"$f":"'W05'!Q11","v":0},{"$f":"'W06'!P11","v":1},{"$f":"'W06'!Q11","v":0},{"$f":"'W07'!P11","v":0},{"$f":"'W07'!Q11","v":0},{"$f":"'W08'!P11","v":0},{"$f":"'W08'!Q11","v":0},{"$f":"'W09'!P11","v":0},{"$f":"'W09'!Q11","v":0},{"$f":"'W10'!P11","v":0},{"$f":"'W10'!Q11","v":0},{"$f":"'W11'!P11","v":0},{"$f":"'W11'!Q11","v":0},{"$f":"'W12'!P11","v":0},{"$f":"'W12'!Q11","v":0},8.3333333333333329E-2,0,null,0,0,0.16666666666666666,0]
["2016-12-19",48,{"$f":"'W01'!P12","v":0},{"$f":"'W01'!Q12","v":0},{"$f":"'W02'!P12","v":0},{"$f":"'W02'!Q12","v":0},{"$f":"'W03'!P12","v":0},{"$f":"'W03'!Q12","v":0},{"$f":"'W04'!P12","v":0},{"$f":"'W04'!Q12","v":0},{"$f":"'W05'!P12","v":0},{"$f":"'W05'!Q12","v":0},{"$f":"'W06'!P12","v":1},{"$f":"'W06'!Q12","v":0},{"$f":"'W07'!P12","v":0},{"$f":"'W07'!Q12","v":0},{"$f":"'W08'!P12","v":0},{"$f":"'W08'!Q12","v":0},{"$f":"'W09'!P12","v":0},{"$f":"'W09'!Q12","v":0},{"$f":"'W10'!P12","v":0},{"$f":"'W10'!Q12","v":0},{"$f":"'W11'!P12","v":0},{"$f":"'W11'!Q12","v":0},{"$f":"'W12'!P12","v":1},{"$f":"'W12'!Q12","v":0},0.16666666666666666,0,null,0,0,0.33333333333333331,0]
["2016-12-20",49,{"$f":"'W01'!P13","v":0},{"$f":"'W01'!Q13","v":0},{"$f":"'W02'!P13","v":0},{"$f":"'W02'!Q13","v":0},{"$f":"'W03'!P13","v":0},{"$f":"'W03'!Q13","v":0},{"$f":"'W04'!P13","v":0},{"$f":"'W04'!Q13","v":0},{"$f":"'W05'!P13","v":0},{"$f":"'W05'!Q13","v":0},{"$f":"'W06'!P13","v":0},{"$f":"'W06'!Q13","v":0},{"$f":"'W07'!P13","v":0},{"$f":"'W07'!Q13","v":0},{"$f":"'W08'!P13","v":0},{"$f":"'W08'!Q13","v":0},{"$f":"'W09'!P13","v":0},{"$f":"'W09'!Q13","v":0},{"$f":"'W10'!P13","v":0},{"$f":"'W10'!Q13","v":0},{"$f":"'W11'!P13","v":0},{"$f":"'W11'!Q13","v":0},{"$f":"'W12'!P13","v":0},{"$f":"'W12'!Q13","v":0},0,0,null,0,0,0,0]
["2016-12-21",50,{"$f":"'W01'!P14","v":0},{"$f":"'W01'!Q14","v":0},{"$f":"'W02'!P14","v":0},{"$f":"'W02'!Q14","v":0},{"$f":"'W03'!P14","v":0},{"$f":"'W03'!Q14","v":0},{"$f":"'W04'!P14","v":0},{"$f":"'W04'!Q14","v":0},{"$f":"'W05'!P14","v":0},{"$f":"'W05'!Q14","v":0},{"$f":"'W06'!P14","v":0},{"$f":"'W06'!Q14","v":0},{"$f":"'W07'!P14","v":0},{"$f":"'W07'!Q14","v":0},{"$f":"'W08'!P14","v":0},{"$f":"'W08'!Q14","v":0},{"$f":"'W09'!P14","v":0},{"$f":"'W09'!Q14","v":0},{"$f":"'W10'!P14","v":1},{"$f":"'W10'!Q14","v":0},{"$f":"'W11'!P14","v":0},{"$f":"'W11'!Q14","v":0},{"$f":"'W12'!P14","v":0},{"$f":"'W12'!Q14","v":0},8.3333333333333329E-2,0,null,0,0,0.16666666666666666,0]
["2016-12-22",51,{"$f":"'W01'!P15","v":0},{"$f":"'W01'!Q15","v":0},{"$f":"'W02'!P15","v":0},{"$f":"'W02'!Q15","v":0},{"$f":"'W03'!P15","v":0},{"$f":"'W03'!Q15","v":0},{"$f":"'W04'!P15","v":0},{"$f":"'W04'!Q15","v":0},{"$f":"'W05'!P15","v":0},{"$f":"'W05'!Q15","v":0},{"$f":"'W06'!P15","v":0},{"$f":"'W06'!Q15","v":0},{"$f":"'W07'!P15","v":0},{"$f":"'W07'!Q15","v":0},{"$f":"'W08'!P15","v":0},{"$f":"'W08'!Q15","v":0},{"$f":"'W09'!P15","v":0},{"$f":"'W09'!Q15","v":0},{"$f":"'W10'!P15","v":0},{"$f":"'W10'!Q15","v":0},{"$f":"'W11'!P15","v":0},{"$f":"'W11'!Q15","v":0},{"$f":"'W12'!P15","v":0},{"$f":"'W12'!Q15","v":0},0,0,null,0,0,0,0]
["2016-12-23",52,{"$f":"'W01'!P16","v":0},{"$f":"'W01'!Q16","v":0},{"$f":"'W02'!P16","v":0},{"$f":"'W02'!Q16","v":0},{"$f":"'W03'!P16","v":0},{"$f":"'W03'!Q16","v":0},{"$f":"'W04'!P16","v":0},{"$f":"'W04'!Q16","v":0},{"$f":"'W05'!P16","v":1},{"$f":"'W05'!Q16","v":0},{"$f":"'W06'!P16","v":0},{"$f":"'W06'!Q16","v":0},{"$f":"'W07'!P16","v":0},{"$f":"'W07'!Q16","v":0},{"$f":"'W08'!P16","v":0},{"$f":"'W08'!Q16","v":0},{"$f":"'W09'!P16","v":0},{"$f":"'W09'!Q16","v":0},{"$f":"'W10'!P16","v":0},{"$f":"'W10'!Q16","v":0},{"$f":"'W11'!P16","v":0},{"$f":"'W11'!Q16","v":0},{"$f":"'W12'!P16","v":0},{"$f":"'W12'!Q16","v":0},8.3333333333333329E-2,0,null,0.16666666666666666,0,0,0]
["2016-12-24",53,{"$f":"'W01'!P17","v":0},{"$f":"'W01'!Q17","v":0},{"$f":"'W02'!P17","v":0},{"$f":"'W02'!Q17","v":0},{"$f":"'W03'!P17","v":0},{"$f":"'W03'!Q17","v":0},{"$f":"'W04'!P17","v":0},{"$f":"'W04'!Q17","v":0},{"$f":"'W05'!P17","v":0},{"$f":"'W05'!Q17","v":0},{"$f":"'W06'!P17","v":0},{"$f":"'W06'!Q17","v":0},{"$f":"'W07'!P17","v":0},{"$f":"'W07'!Q17","v":0},{"$f":"'W08'!P17","v":0},{"$f":"'W08'!Q17","v":0},{"$f":"'W09'!P17","v":0},{"$f":"'W09'!Q17","v":0},{"$f":"'W10'!P17","v":0},{"$f":"'W10'!Q17","v":0},{"$f":"'W11'!P17","v":0},{"$f":"'W11'!Q17","v":0},{"$f":"'W12'!P17","v":0},{"$f":"'W12'!Q17","v":0},0,0,null,0,0,0,0]
["2016-12-25",54,{"$f":"'W01'!P18","v":0},{"$f":"'W01'!Q18","v":0},{"$f":"'W02'!P18","v":0},{"$f":"'W02'!Q18","v":0},{"$f":"'W03'!P18","v":0},{"$f":"'W03'!Q18","v":0},{"$f":"'W04'!P18","v":0},{"$f":"'W04'!Q18","v":0},{"$f":"'W05'!P18","v":0},{"$f":"'W05'!Q18","v":0},{"$f":"'W06'!P18","v":0},{"$f":"'W06'!Q18","v":0},{"$f":"'W07'!P18","v":0},{"$f":"'W07'!Q18","v":0},{"$f":"'W08'!P18","v":0},{"$f":"'W08'!Q18","v":0},{"$f":"'W09'!P18","v":0},{"$f":"'W09'!Q18","v":0},{"$f":"'W10'!P18","v":0},{"$f":"'W10'!Q18","v":0},{"$f":"'W11'!P18","v":0},{"$f":"'W11'!Q18","v":0},{"$f":"'W12'!P18","v":0},{"$f":"'W12'!Q18","v":0},0,0,null,0,0,0,0]
["2016-12-26",55,{"$f":"'W01'!P19","v":0},{"$f":"'W01'!Q19","v":0},{"$f":"'W02'!P19","v":0},{"$f":"'W02'!Q19","v":0},{"$f":"'W03'!P19","v":0},{"$f":"'W03'!Q19","v":0},{"$f":"'W04'!P19","v":0},{"$f":"'W04'!Q19","v":0},{"$f":"'W05'!P19","v":0},{"$f":"'W05'!Q19","v":0},{"$f":"'W06'!P19","v":0},{"$f":"'W06'!Q19","v":0},{"$f":"'W07'!P19","v":0},{"$f":"'W07'!Q19","v":0},{"$f":"'W08'!P19","v":0},{"$f":"'W08'!Q19","v":0},{"$f":"'W09'!P19","v":0},{"$f":"'W09'!Q19","v":0},{"$f":"'W10'!P19","v":0},{"$f":"'W10'!Q19","v":0},{"$f":"'W11'!P19","v":0},{"$f":"'W11'!Q19","v":0},{"$f":"'W12'!P19","v":0},{"$f":"'W12'!Q19","v":0},0,0,null,0,0,0,0]
["2016-12-27",56,{"$f":"'W01'!P20","v":0},{"$f":"'W01'!Q20","v":0},{"$f":"'W02'!P20","v":0},{"$f":"'W02'!Q20","v":0},{"$f":"'W03'!P20","v":0},{"$f":"'W03'!Q20","v":0},{"$f":"'W04'!P20","v":0},{"$f":"'W04'!Q20","v":0},{"$f":"'W05'!P20","v":0},{"$f":"'W05'!Q20","v":0},{"$f":"'W06'!P20","v":0},{"$f":"'W06'!Q20","v":0},{"$f":"'W07'!P20","v":0},{"$f":"'W07'!Q20","v":0},{"$f":"'W08'!P20","v":0},{"$f":"'W08'!Q20","v":0},{"$f":"'W09'!P20","v":0},{"$f":"'W09'!Q20","v":0},{"$f":"'W10'!P20","v":0},{"$f":"'W10'!Q20","v":0},{"$f":"'W11'!P20","v":0},{"$f":"'W11'!Q20","v":0},{"$f":"'W12'!P20","v":0},{"$f":"'W12'!Q20","v":0},0,0,null,0,0,0,0]
["2016-12-28",57,{"$f":"'W01'!P21","v":0},{"$f":"'W01'!Q21","v":0},{"$f":"'W02'!P21","v":0},{"$f":"'W02'!Q21","v":0},{"$f":"'W03'!P21","v":0},{"$f":"'W03'!Q21","v":0},{"$f":"'W04'!P21","v":0},{"$f":"'W04'!Q21","v":0},{"$f":"'W05'!P21","v":0},{"$f":"'W05'!Q21","v":0},{"$f":"'W06'!P21","v":0},{"$f":"'W06'!Q21","v":0},{"$f":"'W07'!P21","v":0},{"$f":"'W07'!Q21","v":0},{"$f":"'W08'!P21","v":0},{"$f":"'W08'!Q21","v":0},{"$f":"'W09'!P21","v":0},{"$f":"'W09'!Q21","v":0},{"$f":"'W10'!P21","v":0},{"$f":"'W10'!Q21","v":0},{"$f":"'W11'!P21","v":0},{"$f":"'W11'!Q21","v":0},{"$f":"'W12'!P21","v":0},{"$f":"'W12'!Q21","v":0},0,0,null,0,0,0,0]
["2016-12-29",58,{"$f":"'W01'!P22","v":0},{"$f":"'W01'!Q22","v":0},{"$f":"'W02'!P22","v":0},{"$f":"'W02'!Q22","v":0},{"$f":"'W03'!P22","v":0},{"$f":"'W03'!Q22","v":0},{"$f":"'W04'!P22","v":0},{"$f":"'W04'!Q22","v":0},{"$f":"'W05'!P22","v":0},{"$f":"'W05'!Q22","v":0},{"$f":"'W06'!P22","v":0},{"$f":"'W06'!Q22","v":0},{"$f":"'W07'!P22","v":0},{"$f":"'W07'!Q22","v":0},{"$f":"'W08'!P22","v":0},{"$f":"'W08'!Q22","v":0},{"$f":"'W09'!P22","v":0},{"$f":"'W09'!Q22","v":0},{"$f":"'W10'!P22","v":0},{"$f":"'W10'!Q22","v":0},{"$f":"'W11'!P22","v":0},{"$f":"'W11'!Q22","v":0},{"$f":"'W12'!P22","v":0},{"$f":"'W12'!Q22","v":0},0,0,null,0,0,0,0]
["2016-12-30",59,{"$f":"'W01'!P23","v":0},{"$f":"'W01'!Q23","v":0},{"$f":"'W02'!P23","v":0},{"$f":"'W02'!Q23","v":0},{"$f":"'W03'!P23","v":0},{"$f":"'W03'!Q23","v":0},{"$f":"'W04'!P23","v":0},{"$f":"'W04'!Q23","v":0},{"$f":"'W05'!P23","v":0},{"$f":"'W05'!Q23","v":0},{"$f":"'W06'!P23","v":0},{"$f":"'W06'!Q23","v":0},{"$f":"'W07'!P23","v":0},{"$f":"'W07'!Q23","v":0},{"$f":"'W08'!P23","v":0},{"$f":"'W08'!Q23","v":0},{"$f":"'W09'!P23","v":0},{"$f":"'W09'!Q23","v":0},{"$f":"'W10'!P23","v":0},{"$f":"'W10'!Q23","v":0},{"$f":"'W11'!P23","v":0},{"$f":"'W11'!Q23","v":0},{"$f":"'W12'!P23","v":0},{"$f":"'W12'!Q23","v":0},0,0,null,0,0,0,0]
["2016-12-31",60,{"$f":"'W01'!P24","v":0},{"$f":"'W01'!Q24","v":0},{"$f":"'W02'!P24","v":0},{"$f":"'W02'!Q24","v":0},{"$f":"'W03'!P24","v":0},{"$f":"'W03'!Q24","v":0},{"$f":"'W04'!P24","v":0},{"$f":"'W04'!Q24","v":0},{"$f":"'W05'!P24","v":0},{"$f":"'W05'!Q24","v":0},{"$f":"'W06'!P24","v":0},{"$f":"'W06'!Q24","v":0},{"$f":"'W07'!P24","v":0},{"$f":"'W07'!Q24","v":0},{"$f":"'W08'!P24","v":0},{"$f":"'W08'!Q24","v":0},{"$f":"'W09'!P24","v":0},{"$f":"'W09'!Q24","v":0},{"$f":"'W10'!P24","v":0},{"$f":"'W10'!Q24","v":0},{"$f":"'W11'!P24","v":0},{"$f":"'W11'!Q24","v":0},{"$f":"'W12'!P24","v":0},{"$f":"'W12'!Q24","v":0},0,0,null,0,0,0,0]
["2017-01-01",61,{"$f":"'W01'!P25","v":0},{"$f":"'W01'!Q25","v":0},{"$f":"'W02'!P25","v":0},{"$f":"'W02'!Q25","v":0},{"$f":"'W03'!P25","v":0},{"$f":"'W03'!Q25","v":0},{"$f":"'W04'!P25","v":0},{"$f":"'W04'!Q25","v":0},{"$f":"'W05'!P25","v":0},{"$f":"'W05'!Q25","v":0},{"$f":"'W06'!P25","v":0},{"$f":"'W06'!Q25","v":0},{"$f":"'W07'!P25","v":0},{"$f":"'W07'!Q25","v":0},{"$f":"'W08'!P25","v":0},{"$f":"'W08'!Q25","v":0},{"$f":"'W09'!P25","v":0},{"$f":"'W09'!Q25","v":0},{"$f":"'W10'!P25","v":0},{"$f":"'W10'!Q25","v":0},{"$f":"'W11'!P25","v":0},{"$f":"'W11'!Q25","v":0},{"$f":"'W12'!P25","v":0},{"$f":"'W12'!Q25","v":0},0,0,null,0,0,0,0]
["2017-01-02",62,{"$f":"'W01'!P26","v":0},{"$f":"'W01'!Q26","v":1},{"$f":"'W02'!P26","v":0},{"$f":"'W02'!Q26","v":0},{"$f":"'W03'!P26","v":0},{"$f":"'W03'!Q26","v":0},{"$f":"'W04'!P26","v":0},{"$f":"'W04'!Q26","v":0},{"$f":"'W05'!P26","v":0},{"$f":"'W05'!Q26","v":0},{"$f":"'W06'!P26","v":0},{"$f":"'W06'!Q26","v":0},{"$f":"'W07'!P26","v":0},{"$f":"'W07'!Q26","v":0},{"$f":"'W08'!P26","v":0},{"$f":"'W08'!Q26","v":0},{"$f":"'W09'!P26","v":0},{"$f":"'W09'!Q26","v":0},{"$f":"'W10'!P26","v":0},{"$f":"'W10'!Q26","v":0},{"$f":"'W11'!P26","v":0},{"$f":"'W11'!Q26","v":1},{"$f":"'W12'!P26","v":0},{"$f":"'W12'!Q26","v":1},0,0.25,null,0,0.33333333333333331,0,0.16666666666666666]
["2017-01-03",63,{"$f":"'W01'!P27","v":0},{"$f":"'W01'!Q27","v":1},{"$f":"'W02'!P27","v":0},{"$f":"'W02'!Q27","v":0},{"$f":"'W03'!P27","v":0},{"$f":"'W03'!Q27","v":0},{"$f":"'W04'!P27","v":0},{"$f":"'W04'!Q27","v":0},{"$f":"'W05'!P27","v":0},{"$f":"'W05'!Q27","v":0},{"$f":"'W06'!P27","v":0},{"$f":"'W06'!Q27","v":0},{"$f":"'W07'!P27","v":0},{"$f":"'W07'!Q27","v":0},{"$f":"'W08'!P27","v":0},{"$f":"'W08'!Q27","v":0},{"$f":"'W09'!P27","v":0},{"$f":"'W09'!Q27","v":0},{"$f":"'W10'!P27","v":0},{"$f":"'W10'!Q27","v":0},{"$f":"'W11'!P27","v":0},{"$f":"'W11'!Q27","v":1},{"$f":"'W12'!P27","v":0},{"$f":"'W12'!Q27","v":1},0,0.25,null,0,0.33333333333333331,0,0.16666666666666666]
["2017-01-04",64,{"$f":"'W01'!P28","v":0},{"$f":"'W01'!Q28","v":1},{"$f":"'W02'!P28","v":0},{"$f":"'W02'!Q28","v":0},{"$f":"'W03'!P28","v":0},{"$f":"'W03'!Q28","v":1},{"$f":"'W04'!P28","v":0},{"$f":"'W04'!Q28","v":0},{"$f":"'W05'!P28","v":0},{"$f":"'W05'!Q28","v":0},{"$f":"'W06'!P28","v":0},{"$f":"'W06'!Q28","v":0},{"$f":"'W07'!P28","v":0},{"$f":"'W07'!Q28","v":0},{"$f":"'W08'!P28","v":0},{"$f":"'W08'!Q28","v":0},{"$f":"'W09'!P28","v":0},{"$f":"'W09'!Q28","v":0},{"$f":"'W10'!P28","v":0},{"$f":"'W10'!Q28","v":0},{"$f":"'W11'!P28","v":0},{"$f":"'W11'!Q28","v":1},{"$f":"'W12'!P28","v":1},{"$f":"'W12'!Q28","v":1},8.3333333333333329E-2,0.33333333333333331,null,0,0.5,0.16666666666666666,0.16666666666666666]
["2017-01-05",65,{"$f":"'W01'!P29","v":0},{"$f":"'W01'!Q29","v":1},{"$f":"'W02'!P29","v":0},{"$f":"'W02'!Q29","v":0},{"$f":"'W03'!P29","v":0},{"$f":"'W03'!Q29","v":1},{"$f":"'W04'!P29","v":0},{"$f":"'W04'!Q29","v":0},{"$f":"'W05'!P29","v":0},{"$f":"'W05'!Q29","v":0},{"$f":"'W06'!P29","v":0},{"$f":"'W06'!Q29","v":0},{"$f":"'W07'!P29","v":1},{"$f":"'W07'!Q29","v":0},{"$f":"'W08'!P29","v":0},{"$f":"'W08'!Q29","v":0},{"$f":"'W09'!P29","v":0},{"$f":"'W09'!Q29","v":0},{"$f":"'W10'!P29","v":0},{"$f":"'W10'!Q29","v":0},{"$f":"'W11'!P29","v":0},{"$f":"'W11'!Q29","v":1},{"$f":"'W12'!P29","v":0},{"$f":"'W12'!Q29","v":1},8.3333333333333329E-2,0.33333333333333331,null,0.16666666666666666,0.5,0,0.16666666666666666]
["2017-01-06",66,{"$f":"'W01'!P30","v":0},{"$f":"'W01'!Q30","v":1},{"$f":"'W02'!P30","v":0},{"$f":"'W02'!Q30","v":0},{"$f":"'W03'!P30","v":0},{"$f":"'W03'!Q30","v":1},{"$f":"'W04'!P30","v":0},{"$f":"'W04'!Q30","v":0},{"$f":"'W05'!P30","v":0},{"$f":"'W05'!Q30","v":0},{"$f":"'W06'!P30","v":0},{"$f":"'W06'!Q30","v":0},{"$f":"'W07'!P30","v":0},{"$f":"'W07'!Q30","v":0},{"$f":"'W08'!P30","v":0},{"$f":"'W08'!Q30","v":0},{"$f":"'W09'!P30","v":0},{"$f":"'W09'!Q30","v":0},{"$f":"'W10'!P30","v":0},{"$f":"'W10'!Q30","v":0},{"$f":"'W11'!P30","v":0},{"$f":"'W11'!Q30","v":1},{"$f":"'W12'!P30","v":0},{"$f":"'W12'!Q30","v":0},0,0.25,null,0,0.5,0,0]
["2017-01-07",67,{"$f":"'W01'!P31","v":0},{"$f":"'W01'!Q31","v":1},{"$f":"'W02'!P31","v":0},{"$f":"'W02'!Q31","v":0},{"$f":"'W03'!P31","v":0},{"$f":"'W03'!Q31","v":1},{"$f":"'W04'!P31","v":0},{"$f":"'W04'!Q31","v":0},{"$f":"'W05'!P31","v":0},{"$f":"'W05'!Q31","v":0},{"$f":"'W06'!P31","v":0},{"$f":"'W06'!Q31","v":0},{"$f":"'W07'!P31","v":0},{"$f":"'W07'!Q31","v":0},{"$f":"'W08'!P31","v":0},{"$f":"'W08'!Q31","v":0},{"$f":"'W09'!P31","v":0},{"$f":"'W09'!Q31","v":0},{"$f":"'W10'!P31","v":0},{"$f":"'W10'!Q31","v":0},{"$f":"'W11'!P31","v":0},{"$f":"'W11'!Q31","v":1},{"$f":"'W12'!P31","v":0},{"$f":"'W12'!Q31","v":0},0,0.25,null,0,0.5,0,0]
["2017-01-08",68,{"$f":"'W01'!P32","v":0},{"$f":"'W01'!Q32","v":1},{"$f":"'W02'!P32","v":0},{"$f":"'W02'!Q32","v":0},{"$f":"'W03'!P32","v":0},{"$f":"'W03'!Q32","v":1},{"$f":"'W04'!P32","v":0},{"$f":"'W04'!Q32","v":0},{"$f":"'W05'!P32","v":0},{"$f":"'W05'!Q32","v":0},{"$f":"'W06'!P32","v":0},{"$f":"'W06'!Q32","v":0},{"$f":"'W07'!P32","v":0},{"$f":"'W07'!Q32","v":0},{"$f":"'W08'!P32","v":0},{"$f":"'W08'!Q32","v":0},{"$f":"'W09'!P32","v":0},{"$f":"'W09'!Q32","v":0},{"$f":"'W10'!P32","v":0},{"$f":"'W10'!Q32","v":0},{"$f":"'W11'!P32","v":0},{"$f":"'W11'!Q32","v":1},{"$f":"'W12'!P32","v":0},{"$f":"'W12'!Q32","v":0},0,0.25,null,0,0.5,0,0]
["2017-01-09",69,{"$f":"'W01'!P33","v":0},{"$f":"'W01'!Q33","v":1},{"$f":"'W02'!P33","v":0},{"$f":"'W02'!Q33","v":0},{"$f":"'W03'!P33","v":0},{"$f":"'W03'!Q33","v":1},{"$f":"'W04'!P33","v":0},{"$f":"'W04'!Q33","v":0},{"$f":"'W05'!P33","v":0},{"$f":"'W05'!Q33","v":0},{"$f":"'W06'!P33","v":0},{"$f":"'W06'!Q33","v":0},{"$f":"'W07'!P33","v":0},{"$f":"'W07'!Q33","v":0},{"$f":"'W08'!P33","v":0},{"$f":"'W08'!Q33","v":0},{"$f":"'W09'!P33","v":0},{"$f":"'W09'!Q33","v":0},{"$f":"'W10'!P33","v":0},{"$f":"'W10'!Q33","v":0},{"$f":"'W11'!P33","v":0},{"$f":"'W11'!Q33","v":1},{"$f":"'W12'!P33","v":0},{"$f":"'W12'!Q33","v":0},0,0.25,null,0,0.5,0,0]
["2017-01-10",70,{"$f":"'W01'!P34","v":0},{"$f":"'W01'!Q34","v":1},{"$f":"'W02'!P34","v":0},{"$f":"'W02'!Q34","v":0},{"$f":"'W03'!P34","v":0},{"$f":"'W03'!Q34","v":1},{"$f":"'W04'!P34","v":0},{"$f":"'W04'!Q34","v":0},{"$f":"'W05'!P34","v":0},{"$f":"'W05'!Q34","v":0},{"$f":"'W06'!P34","v":0},{"$f":"'W06'!Q34","v":0},{"$f":"'W07'!P34","v":0},{"$f":"'W07'!Q34","v":0},{"$f":"'W08'!P34","v":0},{"$f":"'W08'!Q34","v":0},{"$f":"'W09'!P34","v":0},{"$f":"'W09'!Q34","v":0},{"$f":"'W10'!P34","v":0},{"$f":"'W10'!Q34","v":0},{"$f":"'W11'!P34","v":0},{"$f":"'W11'!Q34","v":1},{"$f":"'W12'!P34","v":0},{"$f":"'W12'!Q34","v":0},0,0.25,null,0,0.5,0,0]
["2017-01-11",71,{"$f":"'W01'!P35","v":0},{"$f":"'W01'!Q35","v":1},{"$f":"'W02'!P35","v":0},{"$f":"'W02'!Q35","v":0},{"$f":"'W03'!P35","v":0},{"$f":"'W03'!Q35","v":1},{"$f":"'W04'!P35","v":0},{"$f":"'W04'!Q35","v":0},{"$f":"'W05'!P35","v":0},{"$f":"'W05'!Q35","v":0},{"$f":"'W06'!P35","v":0},{"$f":"'W06'!Q35","v":0},{"$f":"'W07'!P35","v":0},{"$f":"'W07'!Q35","v":0},{"$f":"'W08'!P35","v":0},{"$f":"'W08'!Q35","v":0},{"$f":"'W09'!P35","v":0},{"$f":"'W09'!Q35","v":0},{"$f":"'W10'!P35","v":0},{"$f":"'W10'!Q35","v":0},{"$f":"'W11'!P35","v":0},{"$f":"'W11'!Q35","v":1},{"$f":"'W12'!P35","v":0},{"$f":"'W12'!Q35","v":0},0,0.25,null,0,0.5,0,0]
["2017-01-12",72,{"$f":"'W01'!P36","v":0},{"$f":"'W01'!Q36","v":0},{"$f":"'W02'!P36","v":0},{"$f":"'W02'!Q36","v":0},{"$f":"'W03'!P36","v":0},{"$f":"'W03'!Q36","v":1},{"$f":"'W04'!P36","v":0},{"$f":"'W04'!Q36","v":0},{"$f":"'W05'!P36","v":0},{"$f":"'W05'!Q36","v":0},{"$f":"'W06'!P36","v":0},{"$f":"'W06'!Q36","v":0},{"$f":"'W07'!P36","v":0},{"$f":"'W07'!Q36","v":0},{"$f":"'W08'!P36","v":0},{"$f":"'W08'!Q36","v":0},{"$f":"'W09'!P36","v":0},{"$f":"'W09'!Q36","v":0},{"$f":"'W10'!P36","v":0},{"$f":"'W10'!Q36","v":0},{"$f":"'W11'!P36","v":0},{"$f":"'W11'!Q36","v":1},{"$f":"'W12'!P36","v":0},{"$f":"'W12'!Q36","v":0},0,0.16666666666666666,null,0,0.33333333333333331,0,0]
["2017-01-13",73,{"$f":"'W01'!P37","v":0},{"$f":"'W01'!Q37","v":0},{"$f":"'W02'!P37","v":0},{"$f":"'W02'!Q37","v":0},{"$f":"'W03'!P37","v":0},{"$f":"'W03'!Q37","v":1},{"$f":"'W04'!P37","v":0},{"$f":"'W04'!Q37","v":0},{"$f":"'W05'!P37","v":0},{"$f":"'W05'!Q37","v":0},{"$f":"'W06'!P37","v":0},{"$f":"'W06'!Q37","v":0},{"$f":"'W07'!P37","v":0},{"$f":"'W07'!Q37","v":0},{"$f":"'W08'!P37","v":0},{"$f":"'W08'!Q37","v":0},{"$f":"'W09'!P37","v":0},{"$f":"'W09'!Q37","v":0},{"$f":"'W10'!P37","v":0},{"$f":"'W10'!Q37","v":0},{"$f":"'W11'!P37","v":0},{"$f":"'W11'!Q37","v":1},{"$f":"'W12'!P37","v":0},{"$f":"'W12'!Q37","v":0},0,0.16666666666666666,null,0,0.33333333333333331,0,0]
["2017-01-14",74,{"$f":"'W01'!P38","v":0},{"$f":"'W01'!Q38","v":0},{"$f":"'W02'!P38","v":0},{"$f":"'W02'!Q38","v":0},{"$f":"'W03'!P38","v":0},{"$f":"'W03'!Q38","v":1},{"$f":"'W04'!P38","v":0},{"$f":"'W04'!Q38","v":0},{"$f":"'W05'!P38","v":0},{"$f":"'W05'!Q38","v":0},{"$f":"'W06'!P38","v":0},{"$f":"'W06'!Q38","v":0},{"$f":"'W07'!P38","v":0},{"$f":"'W07'!Q38","v":0},{"$f":"'W08'!P38","v":0},{"$f":"'W08'!Q38","v":0},{"$f":"'W09'!P38","v":0},{"$f":"'W09'!Q38","v":0},{"$f":"'W10'!P38","v":0},{"$f":"'W10'!Q38","v":0},{"$f":"'W11'!P38","v":0},{"$f":"'W11'!Q38","v":1},{"$f":"'W12'!P38","v":0},{"$f":"'W12'!Q38","v":0},0,0.16666666666666666,null,0,0.33333333333333331,0,0]
["2017-01-15",75,{"$f":"'W01'!P39","v":0},{"$f":"'W01'!Q39","v":0},{"$f":"'W02'!P39","v":0},{"$f":"'W02'!Q39","v":0},{"$f":"'W03'!P39","v":0},{"$f":"'W03'!Q39","v":1},{"$f":"'W04'!P39","v":0},{"$f":"'W04'!Q39","v":0},{"$f":"'W05'!P39","v":0},{"$f":"'W05'!Q39","v":0},{"$f":"'W06'!P39","v":0},{"$f":"'W06'!Q39","v":0},{"$f":"'W07'!P39","v":0},{"$f":"'W07'!Q39","v":0},{"$f":"'W08'!P39","v":0},{"$f":"'W08'!Q39","v":0},{"$f":"'W09'!P39","v":0},{"$f":"'W09'!Q39","v":0},{"$f":"'W10'!P39","v":0},{"$f":"'W10'!Q39","v":0},{"$f":"'W11'!P39","v":0},{"$f":"'W11'!Q39","v":1},{"$f":"'W12'!P39","v":0},{"$f":"'W12'!Q39","v":0},0,0.16666666666666666,null,0,0.33333333333333331,0,0]
["2017-01-16",76,{"$f":"'W01'!P40","v":0},{"$f":"'W01'!Q40","v":0},{"$f":"'W02'!P40","v":0},{"$f":"'W02'!Q40","v":0},{"$f":"'W03'!P40","v":0},{"$f":"'W03'!Q40","v":1},{"$f":"'W04'!P40","v":0},{"$f":"'W04'!Q40","v":0},{"$f":"'W05'!P40","v":0},{"$f":"'W05'!Q40","v":0},{"$f":"'W06'!P40","v":0},{"$f":"'W06'!Q40","v":0},{"$f":"'W07'!P40","v":0},{"$f":"'W07'!Q40","v":0},{"$f":"'W08'!P40","v":0},{"$f":"'W08'!Q40","v":0},{"$f":"'W09'!P40","v":1},{"$f":"'W09'!Q40","v":0},{"$f":"'W10'!P40","v":1},{"$f":"'W10'!Q40","v":0},{"$f":"'W11'!P40","v":0},{"$f":"'W11'!Q40","v":1},{"$f":"'W12'!P40","v":0},{"$f":"'W12'!Q40","v":0},0.16666666666666666,0.16666666666666666,{"$f":"Officer!O40","v":0.16666666666666666},0.16666666666666666,0.33333333333333331,0.16666666666666666,0,{"$f":"Officer!P40","v":0.16666666666666666},{"$f":"Officer!Q40","v":0.16666666666666666}]
["2017-01-17",77,{"$f":"'W01'!P41","v":0},{"$f":"'W01'!Q41","v":0},{"$f":"'W02'!P41","v":0},{"$f":"'W02'!Q41","v":0},{"$f":"'W03'!P41","v":0},{"$f":"'W03'!Q41","v":1},{"$f":"'W04'!P41","v":0},{"$f":"'W04'!Q41","v":0},{"$f":"'W05'!P41","v":0},{"$f":"'W05'!Q41","v":0},{"$f":"'W06'!P41","v":0},{"$f":"'W06'!Q41","v":0},{"$f":"'W07'!P41","v":0},{"$f":"'W07'!Q41","v":0},{"$f":"'W08'!P41","v":0},{"$f":"'W08'!Q41","v":0},{"$f":"'W09'!P41","v":0},{"$f":"'W09'!Q41","v":0},{"$f":"'W10'!P41","v":0},{"$f":"'W10'!Q41","v":0},{"$f":"'W11'!P41","v":0},{"$f":"'W11'!Q41","v":1},{"$f":"'W12'!P41","v":0},{"$f":"'W12'!Q41","v":0},0,0.16666666666666666,null,0,0.33333333333333331,0,0]
["2017-01-18",78,{"$f":"'W01'!P42","v":0},{"$f":"'W01'!Q42","v":0},{"$f":"'W02'!P42","v":0},{"$f":"'W02'!Q42","v":0},{"$f":"'W03'!P42","v":0},{"$f":"'W03'!Q42","v":1},{"$f":"'W04'!P42","v":0},{"$f":"'W04'!Q42","v":0},{"$f":"'W05'!P42","v":0},{"$f":"'W05'!Q42","v":0},{"$f":"'W06'!P42","v":0},{"$f":"'W06'!Q42","v":0},{"$f":"'W07'!P42","v":0},{"$f":"'W07'!Q42","v":0},{"$f":"'W08'!P42","v":0},{"$f":"'W08'!Q42","v":0},{"$f":"'W09'!P42","v":0},{"$f":"'W09'!Q42","v":0},{"$f":"'W10'!P42","v":0},{"$f":"'W10'!Q42","v":0},{"$f":"'W11'!P42","v":0},{"$f":"'W11'!Q42","v":1},{"$f":"'W12'!P42","v":0},{"$f":"'W12'!Q42","v":0},0,0.16666666666666666,null,0,0.33333333333333331,0,0]
["2017-01-19",79,{"$f":"'W01'!P43","v":0},{"$f":"'W01'!Q43","v":0},{"$f":"'W02'!P43","v":0},{"$f":"'W02'!Q43","v":0},{"$f":"'W03'!P43","v":0},{"$f":"'W03'!Q43","v":1},{"$f":"'W04'!P43","v":0},{"$f":"'W04'!Q43","v":0},{"$f":"'W05'!P43","v":0},{"$f":"'W05'!Q43","v":0},{"$f":"'W06'!P43","v":0},{"$f":"'W06'!Q43","v":0},{"$f":"'W07'!P43","v":0},{"$f":"'W07'!Q43","v":0},{"$f":"'W08'!P43","v":0},{"$f":"'W08'!Q43","v":0},{"$f":"'W09'!P43","v":0},{"$f":"'W09'!Q43","v":0},{"$f":"'W10'!P43","v":0},{"$f":"'W10'!Q43","v":0},{"$f":"'W11'!P43","v":0},{"$f":"'W11'!Q43","v":1},{"$f":"'W12'!P43","v":0},{"$f":"'W12'!Q43","v":0},0,0.16666666666666666,null,0,0.33333333333333331,0,0]
["2017-01-20",80,{"$f":"'W01'!P44","v":0},{"$f":"'W01'!Q44","v":0},{"$f":"'W02'!P44","v":0},{"$f":"'W02'!Q44","v":0},{"$f":"'W03'!P44","v":0},{"$f":"'W03'!Q44","v":1},{"$f":"'W04'!P44","v":0},{"$f":"'W04'!Q44","v":0},{"$f":"'W05'!P44","v":0},{"$f":"'W05'!Q44","v":0},{"$f":"'W06'!P44","v":0},{"$f":"'W06'!Q44","v":0},{"$f":"'W07'!P44","v":0},{"$f":"'W07'!Q44","v":0},{"$f":"'W08'!P44","v":0},{"$f":"'W08'!Q44","v":0},{"$f":"'W09'!P44","v":0},{"$f":"'W09'!Q44","v":0},{"$f":"'W10'!P44","v":0},{"$f":"'W10'!Q44","v":0},{"$f":"'W11'!P44","v":0},{"$f":"'W11'!Q44","v":1},{"$f":"'W12'!P44","v":0},{"$f":"'W12'!Q44","v":0},0,0.16666666666666666,null,0,0.33333333333333331,0,0]
["2017-01-21",81,{"$f":"'W01'!P45","v":0},{"$f":"'W01'!Q45","v":0},{"$f":"'W02'!P45","v":0},{"$f":"'W02'!Q45","v":0},{"$f":"'W03'!P45","v":0},{"$f":"'W03'!Q45","v":1},{"$f":"'W04'!P45","v":0},{"$f":"'W04'!Q45","v":0},{"$f":"'W05'!P45","v":0},{"$f":"'W05'!Q45","v":0},{"$f":"'W06'!P45","v":0},{"$f":"'W06'!Q45","v":0},{"$f":"'W07'!P45","v":0},{"$f":"'W07'!Q45","v":0},{"$f":"'W08'!P45","v":0},{"$f":"'W08'!Q45","v":0},{"$f":"'W09'!P45","v":0},{"$f":"'W09'!Q45","v":0},{"$f":"'W10'!P45","v":0},{"$f":"'W10'!Q45","v":0},{"$f":"'W11'!P45","v":0},{"$f":"'W11'!Q45","v":1},{"$f":"'W12'!P45","v":0},{"$f":"'W12'!Q45","v":0},0,0.16666666666666666,null,0,0.33333333333333331,0,0]
["2017-01-22",82,{"$f":"'W01'!P46","v":0},{"$f":"'W01'!Q46","v":0},{"$f":"'W02'!P46","v":0},{"$f":"'W02'!Q46","v":0},{"$f":"'W03'!P46","v":0},{"$f":"'W03'!Q46","v":1},{"$f":"'W04'!P46","v":0},{"$f":"'W04'!Q46","v":0},{"$f":"'W05'!P46","v":0},{"$f":"'W05'!Q46","v":0},{"$f":"'W06'!P46","v":0},{"$f":"'W06'!Q46","v":0},{"$f":"'W07'!P46","v":0},{"$f":"'W07'!Q46","v":0},{"$f":"'W08'!P46","v":0},{"$f":"'W08'!Q46","v":0},{"$f":"'W09'!P46","v":0},{"$f":"'W09'!Q46","v":0},{"$f":"'W10'!P46","v":0},{"$f":"'W10'!Q46","v":0},{"$f":"'W11'!P46","v":0},{"$f":"'W11'!Q46","v":1},{"$f":"'W12'!P46","v":0},{"$f":"'W12'!Q46","v":0},0,0.16666666666666666,null,0,0.33333333333333331,0,0]
["2017-01-23",83,{"$f":"'W01'!P47","v":0},{"$f":"'W01'!Q47","v":0},{"$f":"'W02'!P47","v":0},{"$f":"'W02'!Q47","v":0},{"$f":"'W03'!P47","v":1},{"$f":"'W03'!Q47","v":1},{"$f":"'W04'!P47","v":0},{"$f":"'W04'!Q47","v":0},{"$f":"'W05'!P47","v":0},{"$f":"'W05'!Q47","v":0},{"$f":"'W06'!P47","v":1},{"$f":"'W06'!Q47","v":0},{"$f":"'W07'!P47","v":0},{"$f":"'W07'!Q47","v":0},{"$f":"'W08'!P47","v":0},{"$f":"'W08'!Q47","v":0},{"$f":"'W09'!P47","v":0},{"$f":"'W09'!Q47","v":0},{"$f":"'W10'!P47","v":0},{"$f":"'W10'!Q47","v":0},{"$f":"'W11'!P47","v":0},{"$f":"'W11'!Q47","v":1},{"$f":"'W12'!P47","v":0},{"$f":"'W12'!Q47","v":0},0.16666666666666666,0.16666666666666666,{"$f":"Officer!O47","v":0.5},0.16666666666666666,0.33333333333333331,0.16666666666666666,0,{"$f":"Officer!P47","v":0.33333333333333331},{"$f":"Officer!Q47","v":0.66666666666666663}]
["2017-01-24",84,{"$f":"'W01'!P48","v":0},{"$f":"'W01'!Q48","v":0},{"$f":"'W02'!P48","v":1},{"$f":"'W02'!Q48","v":0},{"$f":"'W03'!P48","v":0},{"$f":"'W03'!Q48","v":1},{"$f":"'W04'!P48","v":0},{"$f":"'W04'!Q48","v":0},{"$f":"'W05'!P48","v":0},{"$f":"'W05'!Q48","v":0},{"$f":"'W06'!P48","v":1},{"$f":"'W06'!Q48","v":0},{"$f":"'W07'!P48","v":0},{"$f":"'W07'!Q48","v":0},{"$f":"'W08'!P48","v":0},{"$f":"'W08'!Q48","v":0},{"$f":"'W09'!P48","v":0},{"$f":"'W09'!Q48","v":0},{"$f":"'W10'!P48","v":1},{"$f":"'W10'!Q48","v":0},{"$f":"'W11'!P48","v":0},{"$f":"'W11'!Q48","v":1},{"$f":"'W12'!P48","v":0},{"$f":"'W12'!Q48","v":0},0.25,0.16666666666666666,null,0,0.33333333333333331,0.5,0]
["2017-01-25",85,{"$f":"'W01'!P49","v":0},{"$f":"'W01'!Q49","v":0},{"$f":"'W02'!P49","v":0},{"$f":"'W02'!Q49","v":0},{"$f":"'W03'!P49","v":0},{"$f":"'W03'!Q49","v":1},{"$f":"'W04'!P49","v":0},{"$f":"'W04'!Q49","v":0},{"$f":"'W05'!P49","v":0},{"$f":"'W05'!Q49","v":0},{"$f":"'W06'!P49","v":0},{"$f":"'W06'!Q49","v":0},{"$f":"'W07'!P49","v":0},{"$f":"'W07'!Q49","v":0},{"$f":"'W08'!P49","v":0},{"$f":"'W08'!Q49","v":0},{"$f":"'W09'!P49","v":0},{"$f":"'W09'!Q49","v":0},{"$f":"'W10'!P49","v":0},{"$f":"'W10'!Q49","v":0},{"$f":"'W11'!P49","v":0},{"$f":"'W11'!Q49","v":1},{"$f":"'W12'!P49","v":1},{"$f":"'W12'!Q49","v":0},8.3333333333333329E-2,0.16666666666666666,null,0,0.33333333333333331,0.16666666666666666,0]
["2017-01-26",86,{"$f":"'W01'!P50","v":0},{"$f":"'W01'!Q50","v":0},{"$f":"'W02'!P50","v":0},{"$f":"'W02'!Q50","v":0},{"$f":"'W03'!P50","v":0},{"$f":"'W03'!Q50","v":1},{"$f":"'W04'!P50","v":0},{"$f":"'W04'!Q50","v":0},{"$f":"'W05'!P50","v":0},{"$f":"'W05'!Q50","v":0},{"$f":"'W06'!P50","v":0},{"$f":"'W06'!Q50","v":0},{"$f":"'W07'!P50","v":0},{"$f":"'W07'!Q50","v":0},{"$f":"'W08'!P50","v":0},{"$f":"'W08'!Q50","v":0},{"$f":"'W09'!P50","v":0},{"$f":"'W09'!Q50","v":0},{"$f":"'W10'!P50","v":0},{"$f":"'W10'!Q50","v":0},{"$f":"'W11'!P50","v":0},{"$f":"'W11'!Q50","v":1},{"$f":"'W12'!P50","v":0},{"$f":"'W12'!Q50","v":0},0,0.16666666666666666,null,0,0.33333333333333331,0,0]
["2017-01-27",87,{"$f":"'W01'!P51","v":0},{"$f":"'W01'!Q51","v":0},{"$f":"'W02'!P51","v":1},{"$f":"'W02'!Q51","v":1},{"$f":"'W03'!P51","v":0},{"$f":"'W03'!Q51","v":1},{"$f":"'W04'!P51","v":0},{"$f":"'W04'!Q51","v":0},{"$f":"'W05'!P51","v":0},{"$f":"'W05'!Q51","v":0},{"$f":"'W06'!P51","v":1},{"$f":"'W06'!Q51","v":0},{"$f":"'W07'!P51","v":0},{"$f":"'W07'!Q51","v":0},{"$f":"'W08'!P51","v":1},{"$f":"'W08'!Q51","v":0},{"$f":"'W09'!P51","v":0},{"$f":"'W09'!Q51","v":0},{"$f":"'W10'!P51","v":1},{"$f":"'W10'!Q51","v":0},{"$f":"'W11'!P51","v":0},{"$f":"'W11'!Q51","v":1},{"$f":"'W12'!P51","v":0},{"$f":"'W12'!Q51","v":0},0.33333333333333331,0.25,null,0,0.33333333333333331,0.66666666666666663,0.16666666666666666]
["2017-01-28",88,{"$f":"'W01'!P52","v":0},{"$f":"'W01'!Q52","v":0},{"$f":"'W02'!P52","v":0},{"$f":"'W02'!Q52","v":1},{"$f":"'W03'!P52","v":0},{"$f":"'W03'!Q52","v":1},{"$f":"'W04'!P52","v":0},{"$f":"'W04'!Q52","v":0},{"$f":"'W05'!P52","v":0},{"$f":"'W05'!Q52","v":0},{"$f":"'W06'!P52","v":0},{"$f":"'W06'!Q52","v":0},{"$f":"'W07'!P52","v":1},{"$f":"'W07'!Q52","v":0},{"$f":"'W08'!P52","v":0},{"$f":"'W08'!Q52","v":0},{"$f":"'W09'!P52","v":0},{"$f":"'W09'!Q52","v":1},{"$f":"'W10'!P52","v":0},{"$f":"'W10'!Q52","v":0},{"$f":"'W11'!P52","v":0},{"$f":"'W11'!Q52","v":1},{"$f":"'W12'!P52","v":0},{"$f":"'W12'!Q52","v":0},8.3333333333333329E-2,0.33333333333333331,null,0.16666666666666666,0.5,0,0.16666666666666666]
["2017-01-29",89,{"$f":"'W01'!P53","v":0},{"$f":"'W01'!Q53","v":0},{"$f":"'W02'!P53","v":0},{"$f":"'W02'!Q53","v":1},{"$f":"'W03'!P53","v":0},{"$f":"'W03'!Q53","v":1},{"$f":"'W04'!P53","v":0},{"$f":"'W04'!Q53","v":0},{"$f":"'W05'!P53","v":0},{"$f":"'W05'!Q53","v":0},{"$f":"'W06'!P53","v":1},{"$f":"'W06'!Q53","v":0},{"$f":"'W07'!P53","v":0},{"$f":"'W07'!Q53","v":0},{"$f":"'W08'!P53","v":0},{"$f":"'W08'!Q53","v":0},{"$f":"'W09'!P53","v":0},{"$f":"'W09'!Q53","v":1},{"$f":"'W10'!P53","v":0},{"$f":"'W10'!Q53","v":0},{"$f":"'W11'!P53","v":0},{"$f":"'W11'!Q53","v":1},{"$f":"'W12'!P53","v":0},{"$f":"'W12'!Q53","v":0},8.3333333333333329E-2,0.33333333333333331,null,0,0.5,0.16666666666666666,0.16666666666666666]
["2017-01-30",90,{"$f":"'W01'!P54","v":0},{"$f":"'W01'!Q54","v":0},{"$f":"'W02'!P54","v":0},{"$f":"'W02'!Q54","v":1},{"$f":"'W03'!P54","v":0},{"$f":"'W03'!Q54","v":1},{"$f":"'W04'!P54","v":0},{"$f":"'W04'!Q54","v":0},{"$f":"'W05'!P54","v":0},{"$f":"'W05'!Q54","v":0},{"$f":"'W06'!P54","v":1},{"$f":"'W06'!Q54","v":0},{"$f":"'W07'!P54","v":0},{"$f":"'W07'!Q54","v":0},{"$f":"'W08'!P54","v":1},{"$f":"'W08'!Q54","v":0},{"$f":"'W09'!P54","v":0},{"$f":"'W09'!Q54","v":1},{"$f":"'W10'!P54","v":1},{"$f":"'W10'!Q54","v":0},{"$f":"'W11'!P54","v":0},{"$f":"'W11'!Q54","v":1},{"$f":"'W12'!P54","v":1},{"$f":"'W12'!Q54","v":0},0.33333333333333331,0.33333333333333331,{"$f":"Officer!O54","v":0.25},0,0.5,0.66666666666666663,0.16666666666666666,{"$f":"Officer!P54","v":0},{"$f":"Officer!Q54","v":0.5}]
["2017-01-31",91,{"$f":"'W01'!P55","v":0},{"$f":"'W01'!Q55","v":0},{"$f":"'W02'!P55","v":0},{"$f":"'W02'!Q55","v":1},{"$f":"'W03'!P55","v":0},{"$f":"'W03'!Q55","v":1},{"$f":"'W04'!P55","v":0},{"$f":"'W04'!Q55","v":0},{"$f":"'W05'!P55","v":0},{"$f":"'W05'!Q55","v":0},{"$f":"'W06'!P55","v":1},{"$f":"'W06'!Q55","v":0},{"$f":"'W07'!P55","v":0},{"$f":"'W07'!Q55","v":0},{"$f":"'W08'!P55","v":1},{"$f":"'W08'!Q55","v":0},{"$f":"'W09'!P55","v":0},{"$f":"'W09'!Q55","v":1},{"$f":"'W10'!P55","v":0},{"$f":"'W10'!Q55","v":0},{"$f":"'W11'!P55","v":0},{"$f":"'W11'!Q55","v":1},{"$f":"'W12'!P55","v":1},{"$f":"'W12'!Q55","v":0},0.25,0.33333333333333331,null,0,0.5,0.5,0.16666666666666666]
["2017-02-01",92,{"$f":"'W01'!P56","v":0},{"$f":"'W01'!Q56","v":0},{"$f":"'W02'!P56","v":0},{"$f":"'W02'!Q56","v":1},{"$f":"'W03'!P56","v":0},{"$f":"'W03'!Q56","v":1},{"$f":"'W04'!P56","v":0},{"$f":"'W04'!Q56","v":0},{"$f":"'W05'!P56","v":0},{"$f":"'W05'!Q56","v":0},{"$f":"'W06'!P56","v":2},{"$f":"'W06'!Q56","v":0},{"$f":"'W07'!P56","v":0},{"$f":"'W07'!Q56","v":0},{"$f":"'W08'!P56","v":1},{"$f":"'W08'!Q56","v":0},{"$f":"'W09'!P56","v":0},{"$f":"'W09'!Q56","v":1},{"$f":"'W10'!P56","v":1},{"$f":"'W10'!Q56","v":0},{"$f":"'W11'!P56","v":0},{"$f":"'W11'!Q56","v":1},{"$f":"'W12'!P56","v":0},{"$f":"'W12'!Q56","v":0},0.33333333333333331,0.33333333333333331,null,0,0.5,0.66666666666666663,0.16666666666666666]
["2017-02-02",93,{"$f":"'W01'!P57","v":0},{"$f":"'W01'!Q57","v":0},{"$f":"'W02'!P57","v":0},{"$f":"'W02'!Q57","v":1},{"$f":"'W03'!P57","v":0},{"$f":"'W03'!Q57","v":1},{"$f":"'W04'!P57","v":0},{"$f":"'W04'!Q57","v":0},{"$f":"'W05'!P57","v":0},{"$f":"'W05'!Q57","v":0},{"$f":"'W06'!P57","v":0},{"$f":"'W06'!Q57","v":0},{"$f":"'W07'!P57","v":0},{"$f":"'W07'!Q57","v":1},{"$f":"'W08'!P57","v":0},{"$f":"'W08'!Q57","v":0},{"$f":"'W09'!P57","v":0},{"$f":"'W09'!Q57","v":1},{"$f":"'W10'!P57","v":1},{"$f":"'W10'!Q57","v":0},{"$f":"'W11'!P57","v":0},{"$f":"'W11'!Q57","v":1},{"$f":"'W12'!P57","v":0},{"$f":"'W12'!Q57","v":0},8.3333333333333329E-2,0.41666666666666669,null,0,0.66666666666666663,0.16666666666666666,0.16666666666666666]
["2017-02-03",94,{"$f":"'W01'!P58","v":0},{"$f":"'W01'!Q58","v":0},{"$f":"'W02'!P58","v":0},{"$f":"'W02'!Q58","v":0},{"$f":"'W03'!P58","v":1},{"$f":"'W03'!Q58","v":1},{"$f":"'W04'!P58","v":1},{"$f":"'W04'!Q58","v":0},{"$f":"'W05'!P58","v":0},{"$f":"'W05'!Q58","v":0},{"$f":"'W06'!P58","v":2},{"$f":"'W06'!Q58","v":0},{"$f":"'W07'!P58","v":0},{"$f":"'W07'!Q58","v":1},{"$f":"'W08'!P58","v":0},{"$f":"'W08'!Q58","v":0},{"$f":"'W09'!P58","v":0},{"$f":"'W09'!Q58","v":1},{"$f":"'W10'!P58","v":0},{"$f":"'W10'!Q58","v":0},{"$f":"'W11'!P58","v":0},{"$f":"'W11'!Q58","v":1},{"$f":"'W12'!P58","v":0},{"$f":"'W12'!Q58","v":0},0.33333333333333331,0.33333333333333331,null,0.16666666666666666,0.66666666666666663,0.5,0]
["2017-02-04",95,{"$f":"'W01'!P59","v":0},{"$f":"'W01'!Q59","v":0},{"$f":"'W02'!P59","v":0},{"$f":"'W02'!Q59","v":0},{"$f":"'W03'!P59","v":0},{"$f":"'W03'!Q59","v":1},{"$f":"'W04'!P59","v":0},{"$f":"'W04'!Q59","v":0},{"$f":"'W05'!P59","v":0},{"$f":"'W05'!Q59","v":0},{"$f":"'W06'!P59","v":2},{"$f":"'W06'!Q59","v":0},{"$f":"'W07'!P59","v":0},{"$f":"'W07'!Q59","v":1},{"$f":"'W08'!P59","v":0},{"$f":"'W08'!Q59","v":0},{"$f":"'W09'!P59","v":0},{"$f":"'W09'!Q59","v":1},{"$f":"'W10'!P59","v":1},{"$f":"'W10'!Q59","v":0},{"$f":"'W11'!P59","v":0},{"$f":"'W11'!Q59","v":1},{"$f":"'W12'!P59","v":0},{"$f":"'W12'!Q59","v":0},0.25,0.33333333333333331,null,0,0.66666666666666663,0.5,0]
["2017-02-05",96,{"$f":"'W01'!P60","v":0},{"$f":"'W01'!Q60","v":0},{"$f":"'W02'!P60","v":0},{"$f":"'W02'!Q60","v":0},{"$f":"'W03'!P60","v":0},{"$f":"'W03'!Q60","v":1},{"$f":"'W04'!P60","v":0},{"$f":"'W04'!Q60","v":0},{"$f":"'W05'!P60","v":0},{"$f":"'W05'!Q60","v":0},{"$f":"'W06'!P60","v":2},{"$f":"'W06'!Q60","v":0},{"$f":"'W07'!P60","v":1},{"$f":"'W07'!Q60","v":1},{"$f":"'W08'!P60","v":0},{"$f":"'W08'!Q60","v":0},{"$f":"'W09'!P60","v":0},{"$f":"'W09'!Q60","v":1},{"$f":"'W10'!P60","v":0},{"$f":"'W10'!Q60","v":0},{"$f":"'W11'!P60","v":0},{"$f":"'W11'!Q60","v":1},{"$f":"'W12'!P60","v":0},{"$f":"'W12'!Q60","v":0},0.25,0.33333333333333331,null,0.16666666666666666,0.66666666666666663,0.33333333333333331,0]
["2017-02-06",97,{"$f":"'W01'!P61","v":0},{"$f":"'W01'!Q61","v":0},{"$f":"'W02'!P61","v":0},{"$f":"'W02'!Q61","v":1},{"$f":"'W03'!P61","v":0},{"$f":"'W03'!Q61","v":1},{"$f":"'W04'!P61","v":0},{"$f":"'W04'!Q61","v":0},{"$f":"'W05'!P61","v":0},{"$f":"'W05'!Q61","v":0},{"$f":"'W06'!P61","v":1},{"$f":"'W06'!Q61","v":0},{"$f":"'W07'!P61","v":0},{"$f":"'W07'!Q61","v":1},{"$f":"'W08'!P61","v":0},{"$f":"'W08'!Q61","v":0},{"$f":"'W09'!P61","v":0},{"$f":"'W09'!Q61","v":1},{"$f":"'W10'!P61","v":0},{"$f":"'W10'!Q61","v":0},{"$f":"'W11'!P61","v":0},{"$f":"'W11'!Q61","v":1},{"$f":"'W12'!P61","v":1},{"$f":"'W12'!Q61","v":0},0.16666666666666666,0.41666666666666669,{"$f":"Officer!O61","v":0.29166666666666669},0,0.66666666666666663,0.33333333333333331,0.16666666666666666,{"$f":"Officer!P61","v":0},{"$f":"Officer!Q61","v":0.58333333333333337}]
["2017-02-07",98,{"$f":"'W01'!P62","v":0},{"$f":"'W01'!Q62","v":0},{"$f":"'W02'!P62","v":0},{"$f":"'W02'!Q62","v":1},{"$f":"'W03'!P62","v":0},{"$f":"'W03'!Q62","v":1},{"$f":"'W04'!P62","v":0},{"$f":"'W04'!Q62","v":0},{"$f":"'W05'!P62","v":0},{"$f":"'W05'!Q62","v":0},{"$f":"'W06'!P62","v":1},{"$f":"'W06'!Q62","v":0},{"$f":"'W07'!P62","v":0},{"$f":"'W07'!Q62","v":1},{"$f":"'W08'!P62","v":0},{"$f":"'W08'!Q62","v":0},{"$f":"'W09'!P62","v":1},{"$f":"'W09'!Q62","v":1},{"$f":"'W10'!P62","v":0},{"$f":"'W10'!Q62","v":0},{"$f":"'W11'!P62","v":0},{"$f":"'W11'!Q62","v":1},{"$f":"'W12'!P62","v":0},{"$f":"'W12'!Q62","v":0},0.16666666666666666,0.41666666666666669,null,0.16666666666666666,0.66666666666666663,0.16666666666666666,0.16666666666666666]
["2017-02-08",99,{"$f":"'W01'!P63","v":0},{"$f":"'W01'!Q63","v":0},{"$f":"'W02'!P63","v":0},{"$f":"'W02'!Q63","v":1},{"$f":"'W03'!P63","v":0},{"$f":"'W03'!Q63","v":1},{"$f":"'W04'!P63","v":0},{"$f":"'W04'!Q63","v":0},{"$f":"'W05'!P63","v":0},{"$f":"'W05'!Q63","v":0},{"$f":"'W06'!P63","v":1},{"$f":"'W06'!Q63","v":0},{"$f":"'W07'!P63","v":0},{"$f":"'W07'!Q63","v":1},{"$f":"'W08'!P63","v":0},{"$f":"'W08'!Q63","v":0},{"$f":"'W09'!P63","v":0},{"$f":"'W09'!Q63","v":1},{"$f":"'W10'!P63","v":0},{"$f":"'W10'!Q63","v":0},{"$f":"'W11'!P63","v":0},{"$f":"'W11'!Q63","v":1},{"$f":"'W12'!P63","v":0},{"$f":"'W12'!Q63","v":0},8.3333333333333329E-2,0.41666666666666669,null,0,0.66666666666666663,0.16666666666666666,0.16666666666666666]
["2017-02-09",100,{"$f":"'W01'!P64","v":1},{"$f":"'W01'!Q64","v":0},{"$f":"'W02'!P64","v":0},{"$f":"'W02'!Q64","v":1},{"$f":"'W03'!P64","v":0},{"$f":"'W03'!Q64","v":1},{"$f":"'W04'!P64","v":0},{"$f":"'W04'!Q64","v":0},{"$f":"'W05'!P64","v":0},{"$f":"'W05'!Q64","v":0},{"$f":"'W06'!P64","v":0},{"$f":"'W06'!Q64","v":0},{"$f":"'W07'!P64","v":0},{"$f":"'W07'!Q64","v":1},{"$f":"'W08'!P64","v":0},{"$f":"'W08'!Q64","v":0},{"$f":"'W09'!P64","v":0},{"$f":"'W09'!Q64","v":1},{"$f":"'W10'!P64","v":0},{"$f":"'W10'!Q64","v":0},{"$f":"'W11'!P64","v":0},{"$f":"'W11'!Q64","v":1},{"$f":"'W12'!P64","v":0},{"$f":"'W12'!Q64","v":0},8.3333333333333329E-2,0.41666666666666669,null,0.16666666666666666,0.66666666666666663,0,0.16666666666666666]
["2017-02-10",101,{"$f":"'W01'!P65","v":0},{"$f":"'W01'!Q65","v":0},{"$f":"'W02'!P65","v":1},{"$f":"'W02'!Q65","v":1},{"$f":"'W03'!P65","v":0},{"$f":"'W03'!Q65","v":1},{"$f":"'W04'!P65","v":0},{"$f":"'W04'!Q65","v":0},{"$f":"'W05'!P65","v":0},{"$f":"'W05'!Q65","v":0},{"$f":"'W06'!P65","v":0},{"$f":"'W06'!Q65","v":0},{"$f":"'W07'!P65","v":0},{"$f":"'W07'!Q65","v":0},{"$f":"'W08'!P65","v":0},{"$f":"'W08'!Q65","v":0},{"$f":"'W09'!P65","v":0},{"$f":"'W09'!Q65","v":1},{"$f":"'W10'!P65","v":0},{"$f":"'W10'!Q65","v":0},{"$f":"'W11'!P65","v":0},{"$f":"'W11'!Q65","v":1},{"$f":"'W12'!P65","v":0},{"$f":"'W12'!Q65","v":0},8.3333333333333329E-2,0.33333333333333331,null,0,0.5,0.16666666666666666,0.16666666666666666]
["2017-02-11",102,{"$f":"'W01'!P66","v":0},{"$f":"'W01'!Q66","v":0},{"$f":"'W02'!P66","v":1},{"$f":"'W02'!Q66","v":1},{"$f":"'W03'!P66","v":0},{"$f":"'W03'!Q66","v":1},{"$f":"'W04'!P66","v":0},{"$f":"'W04'!Q66","v":0},{"$f":"'W05'!P66","v":0},{"$f":"'W05'!Q66","v":0},{"$f":"'W06'!P66","v":0},{"$f":"'W06'!Q66","v":0},{"$f":"'W07'!P66","v":0},{"$f":"'W07'!Q66","v":1},{"$f":"'W08'!P66","v":0},{"$f":"'W08'!Q66","v":0},{"$f":"'W09'!P66","v":0},{"$f":"'W09'!Q66","v":1},{"$f":"'W10'!P66","v":0},{"$f":"'W10'!Q66","v":0},{"$f":"'W11'!P66","v":0},{"$f":"'W11'!Q66","v":1},{"$f":"'W12'!P66","v":0},{"$f":"'W12'!Q66","v":0},8.3333333333333329E-2,0.41666666666666669,null,0,0.66666666666666663,0.16666666666666666,0.16666666666666666]
["2017-02-12",103,{"$f":"'W01'!P67","v":0},{"$f":"'W01'!Q67","v":0},{"$f":"'W02'!P67","v":1},{"$f":"'W02'!Q67","v":1},{"$f":"'W03'!P67","v":0},{"$f":"'W03'!Q67","v":1},{"$f":"'W04'!P67","v":0},{"$f":"'W04'!Q67","v":0},{"$f":"'W05'!P67","v":1},{"$f":"'W05'!Q67","v":0},{"$f":"'W06'!P67","v":1},{"$f":"'W06'!Q67","v":0},{"$f":"'W07'!P67","v":0},{"$f":"'W07'!Q67","v":1},{"$f":"'W08'!P67","v":0},{"$f":"'W08'!Q67","v":0},{"$f":"'W09'!P67","v":0},{"$f":"'W09'!Q67","v":1},{"$f":"'W10'!P67","v":0},{"$f":"'W10'!Q67","v":0},{"$f":"'W11'!P67","v":0},{"$f":"'W11'!Q67","v":1},{"$f":"'W12'!P67","v":0},{"$f":"'W12'!Q67","v":0},0.25,0.41666666666666669,null,0.16666666666666666,0.66666666666666663,0.33333333333333331,0.16666666666666666]
["2017-02-13",104,{"$f":"'W01'!P68","v":0},{"$f":"'W01'!Q68","v":0},{"$f":"'W02'!P68","v":1},{"$f":"'W02'!Q68","v":1},{"$f":"'W03'!P68","v":0},{"$f":"'W03'!Q68","v":1},{"$f":"'W04'!P68","v":0},{"$f":"'W04'!Q68","v":0},{"$f":"'W05'!P68","v":0},{"$f":"'W05'!Q68","v":0},{"$f":"'W06'!P68","v":2},{"$f":"'W06'!Q68","v":0},{"$f":"'W07'!P68","v":0},{"$f":"'W07'!Q68","v":1},{"$f":"'W08'!P68","v":1},{"$f":"'W08'!Q68","v":0},{"$f":"'W09'!P68","v":0},{"$f":"'W09'!Q68","v":1},{"$f":"'W10'!P68","v":1},{"$f":"'W10'!Q68","v":0},{"$f":"'W11'!P68","v":0},{"$f":"'W11'!Q68","v":1},{"$f":"'W12'!P68","v":1},{"$f":"'W12'!Q68","v":0},0.5,0.41666666666666669,{"$f":"Officer!O68","v":0.66666666666666663},0,0.66666666666666663,1,0.16666666666666666,{"$f":"Officer!P68","v":0},{"$f":"Officer!Q68","v":1.3333333333333333}]
["2017-02-14",105,{"$f":"'W01'!P69","v":0},{"$f":"'W01'!Q69","v":0},{"$f":"'W02'!P69","v":1},{"$f":"'W02'!Q69","v":1},{"$f":"'W03'!P69","v":1},{"$f":"'W03'!Q69","v":1},{"$f":"'W04'!P69","v":1},{"$f":"'W04'!Q69","v":0},{"$f":"'W05'!P69","v":0},{"$f":"'W05'!Q69","v":0},{"$f":"'W06'!P69","v":1},{"$f":"'W06'!Q69","v":0},{"$f":"'W07'!P69","v":0},{"$f":"'W07'!Q69","v":1},{"$f":"'W08'!P69","v":1},{"$f":"'W08'!Q69","v":0},{"$f":"'W09'!P69","v":1},{"$f":"'W09'!Q69","v":1},{"$f":"'W10'!P69","v":1},{"$f":"'W10'!Q69","v":0},{"$f":"'W11'!P69","v":0},{"$f":"'W11'!Q69","v":1},{"$f":"'W12'!P69","v":0},{"$f":"'W12'!Q69","v":0},0.58333333333333337,0.41666666666666669,null,0.33333333333333331,0.66666666666666663,0.83333333333333337,0.16666666666666666]
["2017-02-15",106,{"$f":"'W01'!P70","v":0},{"$f":"'W01'!Q70","v":0},{"$f":"'W02'!P70","v":1},{"$f":"'W02'!Q70","v":1},{"$f":"'W03'!P70","v":0},{"$f":"'W03'!Q70","v":1},{"$f":"'W04'!P70","v":0},{"$f":"'W04'!Q70","v":0},{"$f":"'W05'!P70","v":0},{"$f":"'W05'!Q70","v":0},{"$f":"'W06'!P70","v":0},{"$f":"'W06'!Q70","v":0},{"$f":"'W07'!P70","v":0},{"$f":"'W07'!Q70","v":1},{"$f":"'W08'!P70","v":0},{"$f":"'W08'!Q70","v":0},{"$f":"'W09'!P70","v":0},{"$f":"'W09'!Q70","v":1},{"$f":"'W10'!P70","v":1},{"$f":"'W10'!Q70","v":0},{"$f":"'W11'!P70","v":0},{"$f":"'W11'!Q70","v":1},{"$f":"'W12'!P70","v":1},{"$f":"'W12'!Q70","v":0},{"$f":"AVERAGE(C70,E70,G70,I70,K70,M70,O70,Q70,S70,U70,W70,Y70)","v":0.25},{"$f":"AVERAGE(D70,F70,H70,J70,L70,N70,P70,R70,T70,V70,X70,Z70)","v":0.41666666666666669},null,{"$f":"AVERAGE(C70,G70,K70,O70,S70,W70)","v":0},{"$f":"AVERAGE(D70,H70,L70,P70,T70,X70)","v":0.66666666666666663},{"$f":"AVERAGE(E70,I70,M70,Q70,U70,Y70)","v":0.5},{"$f":"AVERAGE(F70,J70,N70,R70,V70,Z70)","v":0.16666666666666666}]
["2017-02-16",107,{"$f":"'W01'!P71","v":0},{"$f":"'W01'!Q71","v":0},{"$f":"'W02'!P71","v":0},{"$f":"'W02'!Q71","v":1},{"$f":"'W03'!P71","v":0},{"$f":"'W03'!Q71","v":1},{"$f":"'W04'!P71","v":0},{"$f":"'W04'!Q71","v":0},{"$f":"'W05'!P71","v":0},{"$f":"'W05'!Q71","v":0},{"$f":"'W06'!P71","v":1},{"$f":"'W06'!Q71","v":0},{"$f":"'W07'!P71","v":0},{"$f":"'W07'!Q71","v":1},{"$f":"'W08'!P71","v":1},{"$f":"'W08'!Q71","v":0},{"$f":"'W09'!P71","v":0},{"$f":"'W09'!Q71","v":1},{"$f":"'W10'!P71","v":1},{"$f":"'W10'!Q71","v":0},{"$f":"'W11'!P71","v":0},{"$f":"'W11'!Q71","v":1},{"$f":"'W12'!P71","v":0},{"$f":"'W12'!Q71","v":0},0.25,0.41666666666666669,null,0,0.66666666666666663,0.5,0.16666666666666666]
["2017-02-17",108,{"$f":"'W01'!P72","v":0},{"$f":"'W01'!Q72","v":0},{"$f":"'W02'!P72","v":1},{"$f":"'W02'!Q72","v":1},{"$f":"'W03'!P72","v":0},{"$f":"'W03'!Q72","v":1},{"$f":"'W04'!P72","v":0},{"$f":"'W04'!Q72","v":0},{"$f":"'W05'!P72","v":0},{"$f":"'W05'!Q72","v":0},{"$f":"'W06'!P72","v":0},{"$f":"'W06'!Q72","v":0},{"$f":"'W07'!P72","v":0},{"$f":"'W07'!Q72","v":1},{"$f":"'W08'!P72","v":0},{"$f":"'W08'!Q72","v":0},{"$f":"'W09'!P72","v":0},{"$f":"'W09'!Q72","v":1},{"$f":"'W10'!P72","v":1},{"$f":"'W10'!Q72","v":0},{"$f":"'W11'!P72","v":0},{"$f":"'W11'!Q72","v":1},{"$f":"'W12'!P72","v":0},{"$f":"'W12'!Q72","v":0},0.16666666666666666,0.41666666666666669,null,0,0.66666666666666663,0.33333333333333331,0.16666666666666666]
["2017-02-18",109,{"$f":"'W01'!P73","v":0},{"$f":"'W01'!Q73","v":0},{"$f":"'W02'!P73","v":0},{"$f":"'W02'!Q73","v":1},{"$f":"'W03'!P73","v":0},{"$f":"'W03'!Q73","v":1},{"$f":"'W04'!P73","v":1},{"$f":"'W04'!Q73","v":0},{"$f":"'W05'!P73","v":0},{"$f":"'W05'!Q73","v":0},{"$f":"'W06'!P73","v":0},{"$f":"'W06'!Q73","v":0},{"$f":"'W07'!P73","v":0},{"$f":"'W07'!Q73","v":0},{"$f":"'W08'!P73","v":0},{"$f":"'W08'!Q73","v":0},{"$f":"'W09'!P73","v":0},{"$f":"'W09'!Q73","v":1},{"$f":"'W10'!P73","v":1},{"$f":"'W10'!Q73","v":0},{"$f":"'W11'!P73","v":0},{"$f":"'W11'!Q73","v":1},{"$f":"'W12'!P73","v":0},{"$f":"'W12'!Q73","v":0},0.16666666666666666,0.33333333333333331,null,0,0.5,0.33333333333333331,0.16666666666666666]
["2017-02-19",110,{"$f":"'W01'!P74","v":0},{"$f":"'W01'!Q74","v":0},{"$f":"'W02'!P74","v":1},{"$f":"'W02'!Q74","v":1},{"$f":"'W03'!P74","v":0},{"$f":"'W03'!Q74","v":1},{"$f":"'W04'!P74","v":0},{"$f":"'W04'!Q74","v":0},{"$f":"'W05'!P74","v":0},{"$f":"'W05'!Q74","v":0},{"$f":"'W06'!P74","v":0},{"$f":"'W06'!Q74","v":0},{"$f":"'W07'!P74","v":0},{"$f":"'W07'!Q74","v":0},{"$f":"'W08'!P74","v":1},{"$f":"'W08'!Q74","v":0},{"$f":"'W09'!P74","v":0},{"$f":"'W09'!Q74","v":1},{"$f":"'W10'!P74","v":1},{"$f":"'W10'!Q74","v":0},{"$f":"'W11'!P74","v":0},{"$f":"'W11'!Q74","v":1},{"$f":"'W12'!P74","v":1},{"$f":"'W12'!Q74","v":0},0.33333333333333331,0.33333333333333331,null,0,0.5,0.66666666666666663,0.16666666666666666]
["2017-02-20",111,{"$f":"'W01'!P75","v":0},{"$f":"'W01'!Q75","v":0},{"$f":"'W02'!P75","v":1},{"$f":"'W02'!Q75","v":1},{"$f":"'W03'!P75","v":0},{"$f":"'W03'!Q75","v":1},{"$f":"'W04'!P75","v":1},{"$f":"'W04'!Q75","v":0},{"$f":"'W05'!P75","v":0},{"$f":"'W05'!Q75","v":0},{"$f":"'W06'!P75","v":1},{"$f":"'W06'!Q75","v":0},{"$f":"'W07'!P75","v":0},{"$f":"'W07'!Q75","v":1},{"$f":"'W08'!P75","v":1},{"$f":"'W08'!Q75","v":0},{"$f":"'W09'!P75","v":0},{"$f":"'W09'!Q75","v":1},{"$f":"'W10'!P75","v":1},{"$f":"'W10'!Q75","v":0},{"$f":"'W11'!P75","v":0},{"$f":"'W11'!Q75","v":1},{"$f":"'W12'!P75","v":1},{"$f":"'W12'!Q75","v":0},0.5,0.41666666666666669,{"$f":"Officer!O75","v":1.1666666666666667},0,0.66666666666666663,1,0.16666666666666666,{"$f":"Officer!P75","v":0.33333333333333331},{"$f":"Officer!Q75","v":2}]
["2017-02-21",112,{"$f":"'W01'!P76","v":0},{"$f":"'W01'!Q76","v":0},{"$f":"'W02'!P76","v":0},{"$f":"'W02'!Q76","v":1},{"$f":"'W03'!P76","v":0},{"$f":"'W03'!Q76","v":1},{"$f":"'W04'!P76","v":0},{"$f":"'W04'!Q76","v":0},{"$f":"'W05'!P76","v":0},{"$f":"'W05'!Q76","v":0},{"$f":"'W06'!P76","v":1},{"$f":"'W06'!Q76","v":0},{"$f":"'W07'!P76","v":0},{"$f":"'W07'!Q76","v":1},{"$f":"'W08'!P76","v":0},{"$f":"'W08'!Q76","v":0},{"$f":"'W09'!P76","v":0},{"$f":"'W09'!Q76","v":1},{"$f":"'W10'!P76","v":1},{"$f":"'W10'!Q76","v":0},{"$f":"'W11'!P76","v":0},{"$f":"'W11'!Q76","v":1},{"$f":"'W12'!P76","v":2},{"$f":"'W12'!Q76","v":0},0.33333333333333331,0.41666666666666669,null,0,0.66666666666666663,0.66666666666666663,0.16666666666666666]
["2017-02-22",113,{"$f":"'W01'!P77","v":0},{"$f":"'W01'!Q77","v":0},{"$f":"'W02'!P77","v":1},{"$f":"'W02'!Q77","v":1},{"$f":"'W03'!P77","v":1},{"$f":"'W03'!Q77","v":1},{"$f":"'W04'!P77","v":0},{"$f":"'W04'!Q77","v":0},{"$f":"'W05'!P77","v":0},{"$f":"'W05'!Q77","v":0},{"$f":"'W06'!P77","v":1},{"$f":"'W06'!Q77","v":0},{"$f":"'W07'!P77","v":0},{"$f":"'W07'!Q77","v":0},{"$f":"'W08'!P77","v":1},{"$f":"'W08'!Q77","v":0},{"$f":"'W09'!P77","v":0},{"$f":"'W09'!Q77","v":1},{"$f":"'W10'!P77","v":1},{"$f":"'W10'!Q77","v":0},{"$f":"'W11'!P77","v":0},{"$f":"'W11'!Q77","v":1},{"$f":"'W12'!P77","v":2},{"$f":"'W12'!Q77","v":0},0.58333333333333337,0.33333333333333331,null,0.16666666666666666,0.5,1,0.16666666666666666]
["2017-02-23",114,{"$f":"'W01'!P78","v":0},{"$f":"'W01'!Q78","v":0},{"$f":"'W02'!P78","v":1},{"$f":"'W02'!Q78","v":1},{"$f":"'W03'!P78","v":0},{"$f":"'W03'!Q78","v":1},{"$f":"'W04'!P78","v":0},{"$f":"'W04'!Q78","v":0},{"$f":"'W05'!P78","v":0},{"$f":"'W05'!Q78","v":0},{"$f":"'W06'!P78","v":1},{"$f":"'W06'!Q78","v":0},{"$f":"'W07'!P78","v":1},{"$f":"'W07'!Q78","v":0},{"$f":"'W08'!P78","v":1},{"$f":"'W08'!Q78","v":0},{"$f":"'W09'!P78","v":0},{"$f":"'W09'!Q78","v":1},{"$f":"'W10'!P78","v":1},{"$f":"'W10'!Q78","v":0},{"$f":"'W11'!P78","v":0},{"$f":"'W11'!Q78","v":1},{"$f":"'W12'!P78","v":2},{"$f":"'W12'!Q78","v":0},0.58333333333333337,0.33333333333333331,null,0.16666666666666666,0.5,1,0.16666666666666666]
["2017-02-24",115,{"$f":"'W01'!P79","v":0},{"$f":"'W01'!Q79","v":0},{"$f":"'W02'!P79","v":1},{"$f":"'W02'!Q79","v":1},{"$f":"'W03'!P79","v":0},{"$f":"'W03'!Q79","v":1},{"$f":"'W04'!P79","v":1},{"$f":"'W04'!Q79","v":0},{"$f":"'W05'!P79","v":0},{"$f":"'W05'!Q79","v":0},{"$f":"'W06'!P79","v":0},{"$f":"'W06'!Q79","v":0},{"$f":"'W07'!P79","v":0},{"$f":"'W07'!Q79","v":0},{"$f":"'W08'!P79","v":0},{"$f":"'W08'!Q79","v":0},{"$f":"'W09'!P79","v":0},{"$f":"'W09'!Q79","v":1},{"$f":"'W10'!P79","v":1},{"$f":"'W10'!Q79","v":0},{"$f":"'W11'!P79","v":0},{"$f":"'W11'!Q79","v":1},{"$f":"'W12'!P79","v":2},{"$f":"'W12'!Q79","v":0},0.41666666666666669,0.33333333333333331,null,0,0.5,0.83333333333333337,0.16666666666666666]
["2017-02-25",116,{"$f":"'W01'!P80","v":0},{"$f":"'W01'!Q80","v":0},{"$f":"'W02'!P80","v":1},{"$f":"'W02'!Q80","v":1},{"$f":"'W03'!P80","v":0},{"$f":"'W03'!Q80","v":1},{"$f":"'W04'!P80","v":0},{"$f":"'W04'!Q80","v":0},{"$f":"'W05'!P80","v":0},{"$f":"'W05'!Q80","v":0},{"$f":"'W06'!P80","v":0},{"$f":"'W06'!Q80","v":0},{"$f":"'W07'!P80","v":0},{"$f":"'W07'!Q80","v":0},{"$f":"'W08'!P80","v":0},{"$f":"'W08'!Q80","v":0},{"$f":"'W09'!P80","v":0},{"$f":"'W09'!Q80","v":1},{"$f":"'W10'!P80","v":1},{"$f":"'W10'!Q80","v":0},{"$f":"'W11'!P80","v":0},{"$f":"'W11'!Q80","v":1},{"$f":"'W12'!P80","v":1},{"$f":"'W12'!Q80","v":0},0.25,0.33333333333333331,null,0,0.5,0.5,0.16666666666666666]
["2017-02-26",117,{"$f":"'W01'!P81","v":0},{"$f":"'W01'!Q81","v":0},{"$f":"'W02'!P81","v":1},{"$f":"'W02'!Q81","v":1},{"$f":"'W03'!P81","v":0},{"$f":"'W03'!Q81","v":1},{"$f":"'W04'!P81","v":1},{"$f":"'W04'!Q81","v":0},{"$f":"'W05'!P81","v":0},{"$f":"'W05'!Q81","v":0},{"$f":"'W06'!P81","v":1},{"$f":"'W06'!Q81","v":0},{"$f":"'W07'!P81","v":0},{"$f":"'W07'!Q81","v":0},{"$f":"'W08'!P81","v":0},{"$f":"'W08'!Q81","v":0},{"$f":"'W09'!P81","v":0},{"$f":"'W09'!Q81","v":1},{"$f":"'W10'!P81","v":1},{"$f":"'W10'!Q81","v":0},{"$f":"'W11'!P81","v":0},{"$f":"'W11'!Q81","v":1},{"$f":"'W12'!P81","v":1},{"$f":"'W12'!Q81","v":0},0.41666666666666669,0.33333333333333331,null,0,0.5,0.83333333333333337,0.16666666666666666]
["2017-02-27",118,{"$f":"'W01'!P82","v":0},{"$f":"'W01'!Q82","v":0},{"$f":"'W02'!P82","v":1},{"$f":"'W02'!Q82","v":1},{"$f":"'W03'!P82","v":0},{"$f":"'W03'!Q82","v":1},{"$f":"'W04'!P82","v":0},{"$f":"'W04'!Q82","v":0},{"$f":"'W05'!P82","v":0},{"$f":"'W05'!Q82","v":0},{"$f":"'W06'!P82","v":1},{"$f":"'W06'!Q82","v":0},{"$f":"'W07'!P82","v":0},{"$f":"'W07'!Q82","v":0},{"$f":"'W08'!P82","v":0},{"$f":"'W08'!Q82","v":0},{"$f":"'W09'!P82","v":0},{"$f":"'W09'!Q82","v":1},{"$f":"'W10'!P82","v":0},{"$f":"'W10'!Q82","v":0},{"$f":"'W11'!P82","v":0},{"$f":"'W11'!Q82","v":1},{"$f":"'W12'!P82","v":0},{"$f":"'W12'!Q82","v":0},0.16666666666666666,0.33333333333333331,{"$f":"Officer!O82","v":0.33333333333333331},0,0.5,0.33333333333333331,0.16666666666666666,{"$f":"Officer!P82","v":0},{"$f":"Officer!Q82","v":0.66666666666666663}]
["2017-02-28",119,{"$f":"'W01'!P83","v":0},{"$f":"'W01'!Q83","v":0},{"$f":"'W02'!P83","v":1},{"$f":"'W02'!Q83","v":1},{"$f":"'W03'!P83","v":0},{"$f":"'W03'!Q83","v":1},{"$f":"'W04'!P83","v":0},{"$f":"'W04'!Q83","v":0},{"$f":"'W05'!P83","v":0},{"$f":"'W05'!Q83","v":0},{"$f":"'W06'!P83","v":1},{"$f":"'W06'!Q83","v":0},{"$f":"'W07'!P83","v":0},{"$f":"'W07'!Q83","v":0},{"$f":"'W08'!P83","v":0},{"$f":"'W08'!Q83","v":0},{"$f":"'W09'!P83","v":0},{"$f":"'W09'!Q83","v":1},{"$f":"'W10'!P83","v":0},{"$f":"'W10'!Q83","v":0},{"$f":"'W11'!P83","v":1},{"$f":"'W11'!Q83","v":1},{"$f":"'W12'!P83","v":1},{"$f":"'W12'!Q83","v":0},0.33333333333333331,0.33333333333333331,null,0.16666666666666666,0.5,0.5,0.16666666666666666]
["2017-03-01",120,{"$f":"'W01'!P84","v":0},{"$f":"'W01'!Q84","v":0},{"$f":"'W02'!P84","v":1},{"$f":"'W02'!Q84","v":1},{"$f":"'W03'!P84","v":0},{"$f":"'W03'!Q84","v":1},{"$f":"'W04'!P84","v":0},{"$f":"'W04'!Q84","v":0},{"$f":"'W05'!P84","v":0},{"$f":"'W05'!Q84","v":0},{"$f":"'W06'!P84","v":1},{"$f":"'W06'!Q84","v":0},{"$f":"'W07'!P84","v":0},{"$f":"'W07'!Q84","v":0},{"$f":"'W08'!P84","v":0},{"$f":"'W08'!Q84","v":0},{"$f":"'W09'!P84","v":0},{"$f":"'W09'!Q84","v":1},{"$f":"'W10'!P84","v":0},{"$f":"'W10'!Q84","v":0},{"$f":"'W11'!P84","v":0},{"$f":"'W11'!Q84","v":1},{"$f":"'W12'!P84","v":1},{"$f":"'W12'!Q84","v":0},{"$f":"AVERAGE(C84,E84,G84,I84,K84,M84,O84,Q84,S84,U84,W84,Y84)","v":0.25},{"$f":"AVERAGE(D84,F84,H84,J84,L84,N84,P84,R84,T84,V84,X84,Z84)","v":0.33333333333333331},null,{"$f":"AVERAGE(C84,G84,K84,O84,S84,W84)","v":0},{"$f":"AVERAGE(D84,H84,L84,P84,T84,X84)","v":0.5},{"$f":"AVERAGE(E84,I84,M84,Q84,U84,Y84)","v":0.5},{"$f":"AVERAGE(F84,J84,N84,R84,V84,Z84)","v":0.16666666666666666}]
["2017-03-02",121,{"$f":"'W01'!P85","v":0},{"$f":"'W01'!Q85","v":0},{"$f":"'W02'!P85","v":1},{"$f":"'W02'!Q85","v":1},{"$f":"'W03'!P85","v":0},{"$f":"'W03'!Q85","v":1},{"$f":"'W04'!P85","v":0},{"$f":"'W04'!Q85","v":0},{"$f":"'W05'!P85","v":0},{"$f":"'W05'!Q85","v":0},{"$f":"'W06'!P85","v":1},{"$f":"'W06'!Q85","v":0},{"$f":"'W07'!P85","v":0},{"$f":"'W07'!Q85","v":0},{"$f":"'W08'!P85","v":0},{"$f":"'W08'!Q85","v":0},{"$f":"'W09'!P85","v":0},{"$f":"'W09'!Q85","v":1},{"$f":"'W10'!P85","v":0},{"$f":"'W10'!Q85","v":0},{"$f":"'W11'!P85","v":1},{"$f":"'W11'!Q85","v":1},{"$f":"'W12'!P85","v":0},{"$f":"'W12'!Q85","v":0},0.25,0.33333333333333331,null,0.16666666666666666,0.5,0.33333333333333331,0.16666666666666666]
["2017-03-03",122,{"$f":"'W01'!P86","v":0},{"$f":"'W01'!Q86","v":0},{"$f":"'W02'!P86","v":1},{"$f":"'W02'!Q86","v":1},{"$f":"'W03'!P86","v":0},{"$f":"'W03'!Q86","v":1},{"$f":"'W04'!P86","v":0},{"$f":"'W04'!Q86","v":0},{"$f":"'W05'!P86","v":0},{"$f":"'W05'!Q86","v":0},{"$f":"'W06'!P86","v":0},{"$f":"'W06'!Q86","v":0},{"$f":"'W07'!P86","v":0},{"$f":"'W07'!Q86","v":0},{"$f":"'W08'!P86","v":0},{"$f":"'W08'!Q86","v":0},{"$f":"'W09'!P86","v":0},{"$f":"'W09'!Q86","v":1},{"$f":"'W10'!P86","v":1},{"$f":"'W10'!Q86","v":0},{"$f":"'W11'!P86","v":0},{"$f":"'W11'!Q86","v":1},{"$f":"'W12'!P86","v":0},{"$f":"'W12'!Q86","v":0},0.16666666666666666,0.33333333333333331,null,0,0.5,0.33333333333333331,0.16666666666666666]
["2017-03-04",123,{"$f":"'W01'!P87","v":0},{"$f":"'W01'!Q87","v":0},{"$f":"'W02'!P87","v":1},{"$f":"'W02'!Q87","v":1},{"$f":"'W03'!P87","v":0},{"$f":"'W03'!Q87","v":1},{"$f":"'W04'!P87","v":0},{"$f":"'W04'!Q87","v":0},{"$f":"'W05'!P87","v":0},{"$f":"'W05'!Q87","v":0},{"$f":"'W06'!P87","v":1},{"$f":"'W06'!Q87","v":0},{"$f":"'W07'!P87","v":0},{"$f":"'W07'!Q87","v":0},{"$f":"'W08'!P87","v":0},{"$f":"'W08'!Q87","v":0},{"$f":"'W09'!P87","v":0},{"$f":"'W09'!Q87","v":1},{"$f":"'W10'!P87","v":1},{"$f":"'W10'!Q87","v":0},{"$f":"'W11'!P87","v":0},{"$f":"'W11'!Q87","v":1},{"$f":"'W12'!P87","v":1},{"$f":"'W12'!Q87","v":0},0.33333333333333331,0.33333333333333331,null,0,0.5,0.66666666666666663,0.16666666666666666]
["2017-03-05",124,{"$f":"'W01'!P88","v":0},{"$f":"'W01'!Q88","v":0},{"$f":"'W02'!P88","v":1},{"$f":"'W02'!Q88","v":1},{"$f":"'W03'!P88","v":0},{"$f":"'W03'!Q88","v":1},{"$f":"'W04'!P88","v":0},{"$f":"'W04'!Q88","v":0},{"$f":"'W05'!P88","v":0},{"$f":"'W05'!Q88","v":1},{"$f":"'W06'!P88","v":0},{"$f":"'W06'!Q88","v":0},{"$f":"'W07'!P88","v":0},{"$f":"'W07'!Q88","v":0},{"$f":"'W08'!P88","v":1},{"$f":"'W08'!Q88","v":0},{"$f":"'W09'!P88","v":0},{"$f":"'W09'!Q88","v":1},{"$f":"'W10'!P88","v":1},{"$f":"'W10'!Q88","v":0},{"$f":"'W11'!P88","v":0},{"$f":"'W11'!Q88","v":1},{"$f":"'W12'!P88","v":1},{"$f":"'W12'!Q88","v":0},0.33333333333333331,0.41666666666666669,null,0,0.66666666666666663,0.66666666666666663,0.16666666666666666]
["2017-03-06",125,{"$f":"'W01'!P89","v":0},{"$f":"'W01'!Q89","v":0},{"$f":"'W02'!P89","v":1},{"$f":"'W02'!Q89","v":1},{"$f":"'W03'!P89","v":0},{"$f":"'W03'!Q89","v":1},{"$f":"'W04'!P89","v":0},{"$f":"'W04'!Q89","v":0},{"$f":"'W05'!P89","v":0},{"$f":"'W05'!Q89","v":1},{"$f":"'W06'!P89","v":1},{"$f":"'W06'!Q89","v":0},{"$f":"'W07'!P89","v":0},{"$f":"'W07'!Q89","v":0},{"$f":"'W08'!P89","v":1},{"$f":"'W08'!Q89","v":0},{"$f":"'W09'!P89","v":0},{"$f":"'W09'!Q89","v":1},{"$f":"'W10'!P89","v":0},{"$f":"'W10'!Q89","v":0},{"$f":"'W11'!P89","v":0},{"$f":"'W11'!Q89","v":1},{"$f":"'W12'!P89","v":1},{"$f":"'W12'!Q89","v":0},0.33333333333333331,0.41666666666666669,{"$f":"Officer!O89","v":0.58333333333333337},0,0.66666666666666663,0.66666666666666663,0.16666666666666666,{"$f":"Officer!P89","v":0},{"$f":"Officer!Q89","v":1.1666666666666667}]
["2017-03-07",126,{"$f":"'W01'!P90","v":0},{"$f":"'W01'!Q90","v":0},{"$f":"'W02'!P90","v":1},{"$f":"'W02'!Q90","v":1},{"$f":"'W03'!P90","v":0},{"$f":"'W03'!Q90","v":1},{"$f":"'W04'!P90","v":0},{"$f":"'W04'!Q90","v":0},{"$f":"'W05'!P90","v":0},{"$f":"'W05'!Q90","v":1},{"$f":"'W06'!P90","v":1},{"$f":"'W06'!Q90","v":0},{"$f":"'W07'!P90","v":0},{"$f":"'W07'!Q90","v":0},{"$f":"'W08'!P90","v":0},{"$f":"'W08'!Q90","v":0},{"$f":"'W09'!P90","v":0},{"$f":"'W09'!Q90","v":1},{"$f":"'W10'!P90","v":0},{"$f":"'W10'!Q90","v":0},{"$f":"'W11'!P90","v":0},{"$f":"'W11'!Q90","v":1},{"$f":"'W12'!P90","v":1},{"$f":"'W12'!Q90","v":0},0.25,0.41666666666666669,null,0,0.66666666666666663,0.5,0.16666666666666666]
["2017-03-08",127,{"$f":"'W01'!P91","v":0},{"$f":"'W01'!Q91","v":0},{"$f":"'W02'!P91","v":1},{"$f":"'W02'!Q91","v":1},{"$f":"'W03'!P91","v":0},{"$f":"'W03'!Q91","v":1},{"$f":"'W04'!P91","v":0},{"$f":"'W04'!Q91","v":0},{"$f":"'W05'!P91","v":0},{"$f":"'W05'!Q91","v":1},{"$f":"'W06'!P91","v":1},{"$f":"'W06'!Q91","v":0},{"$f":"'W07'!P91","v":0},{"$f":"'W07'!Q91","v":0},{"$f":"'W08'!P91","v":1},{"$f":"'W08'!Q91","v":0},{"$f":"'W09'!P91","v":0},{"$f":"'W09'!Q91","v":1},{"$f":"'W10'!P91","v":0},{"$f":"'W10'!Q91","v":0},{"$f":"'W11'!P91","v":0},{"$f":"'W11'!Q91","v":1},{"$f":"'W12'!P91","v":1},{"$f":"'W12'!Q91","v":0},0.33333333333333331,0.41666666666666669,null,0,0.66666666666666663,0.66666666666666663,0.16666666666666666]
["2017-03-09",128,{"$f":"'W01'!P92","v":0},{"$f":"'W01'!Q92","v":0},{"$f":"'W02'!P92","v":1},{"$f":"'W02'!Q92","v":1},{"$f":"'W03'!P92","v":0},{"$f":"'W03'!Q92","v":0},{"$f":"'W04'!P92","v":0},{"$f":"'W04'!Q92","v":0},{"$f":"'W05'!P92","v":0},{"$f":"'W05'!Q92","v":0},{"$f":"'W06'!P92","v":0},{"$f":"'W06'!Q92","v":0},{"$f":"'W07'!P92","v":0},{"$f":"'W07'!Q92","v":0},{"$f":"'W08'!P92","v":0},{"$f":"'W08'!Q92","v":0},{"$f":"'W09'!P92","v":0},{"$f":"'W09'!Q92","v":1},{"$f":"'W10'!P92","v":1},{"$f":"'W10'!Q92","v":0},{"$f":"'W11'!P92","v":0},{"$f":"'W11'!Q92","v":1},{"$f":"'W12'!P92","v":2},{"$f":"'W12'!Q92","v":0},0.33333333333333331,0.25,null,0,0.33333333333333331,0.66666666666666663,0.16666666666666666]
["2017-03-10",129,{"$f":"'W01'!P93","v":0},{"$f":"'W01'!Q93","v":0},{"$f":"'W02'!P93","v":0},{"$f":"'W02'!Q93","v":1},{"$f":"'W03'!P93","v":0},{"$f":"'W03'!Q93","v":0},{"$f":"'W04'!P93","v":0},{"$f":"'W04'!Q93","v":0},{"$f":"'W05'!P93","v":0},{"$f":"'W05'!Q93","v":1},{"$f":"'W06'!P93","v":0},{"$f":"'W06'!Q93","v":0},{"$f":"'W07'!P93","v":0},{"$f":"'W07'!Q93","v":0},{"$f":"'W08'!P93","v":0},{"$f":"'W08'!Q93","v":0},{"$f":"'W09'!P93","v":0},{"$f":"'W09'!Q93","v":1},{"$f":"'W10'!P93","v":0},{"$f":"'W10'!Q93","v":0},{"$f":"'W11'!P93","v":0},{"$f":"'W11'!Q93","v":1},{"$f":"'W12'!P93","v":2},{"$f":"'W12'!Q93","v":0},0.16666666666666666,0.33333333333333331,null,0,0.5,0.33333333333333331,0.16666666666666666]
["2017-03-11",130]
["2017-03-12",131]
["2017-03-13",132,{"$f":"'W01'!P96","v":0},{"$f":"'W01'!Q96","v":0},{"$f":"'W02'!P96","v":0},{"$f":"'W02'!Q96","v":1},{"$f":"'W03'!P96","v":0},{"$f":"'W03'!Q96","v":0},{"$f":"'W04'!P96","v":0},{"$f":"'W04'!Q96","v":0},{"$f":"'W05'!P96","v":0},{"$f":"'W05'!Q96","v":1},{"$f":"'W06'!P96","v":0},{"$f":"'W06'!Q96","v":0},{"$f":"'W07'!P96","v":0},{"$f":"'W07'!Q96","v":0},{"$f":"'W08'!P96","v":0},{"$f":"'W08'!Q96","v":0},{"$f":"'W09'!P96","v":0},{"$f":"'W09'!Q96","v":0},{"$f":"'W10'!P96","v":1},{"$f":"'W10'!Q96","v":0},{"$f":"'W11'!P96","v":0},{"$f":"'W11'!Q96","v":1},{"$f":"'W12'!P96","v":2},{"$f":"'W12'!Q96","v":0},0.25,0.25,{"$f":"Officer!O96","v":0.33333333333333331},0,0.33333333333333331,0.5,0.16666666666666666,{"$f":"Officer!P96","v":0},{"$f":"Officer!Q96","v":0.66666666666666663}]
["2017-03-14",133]
["2017-03-15",134,{"$f":"'W01'!P98","v":0},{"$f":"'W01'!Q98","v":0},{"$f":"'W02'!P98","v":0},{"$f":"'W02'!Q98","v":1},{"$f":"'W03'!P98","v":0},{"$f":"'W03'!Q98","v":0},{"$f":"'W04'!P98","v":0},{"$f":"'W04'!Q98","v":0},{"$f":"'W05'!P98","v":0},{"$f":"'W05'!Q98","v":1},{"$f":"'W06'!P98","v":0},{"$f":"'W06'!Q98","v":0},{"$f":"'W07'!P98","v":0},{"$f":"'W07'!Q98","v":0},{"$f":"'W08'!P98","v":0},{"$f":"'W08'!Q98","v":0},{"$f":"'W09'!P98","v":0},{"$f":"'W09'!Q98","v":0},{"$f":"'W10'!P98","v":0},{"$f":"'W10'!Q98","v":0},{"$f":"'W11'!P98","v":0},{"$f":"'W11'!Q98","v":1},{"$f":"'W12'!P98","v":0},{"$f":"'W12'!Q98","v":0},0,0.25,null,0,0.33333333333333331,0,0.16666666666666666]
["2017-03-16",135]
["2017-03-17",136,{"$f":"'W01'!P100","v":0},{"$f":"'W01'!Q100","v":0},{"$f":"'W02'!P100","v":0},{"$f":"'W02'!Q100","v":0},{"$f":"'W03'!P100","v":0},{"$f":"'W03'!Q100","v":0},{"$f":"'W04'!P100","v":0},{"$f":"'W04'!Q100","v":0},{"$f":"'W05'!P100","v":0},{"$f":"'W05'!Q100","v":0},{"$f":"'W06'!P100","v":0},{"$f":"'W06'!Q100","v":0},{"$f":"'W07'!P100","v":0},{"$f":"'W07'!Q100","v":0},{"$f":"'W08'!P100","v":0},{"$f":"'W08'!Q100","v":0},{"$f":"'W09'!P100","v":0},{"$f":"'W09'!Q100","v":0},{"$f":"'W10'!P100","v":0},{"$f":"'W10'!Q100","v":0},{"$f":"'W11'!P100","v":0},{"$f":"'W11'!Q100","v":0},{"$f":"'W12'!P100","v":0},{"$f":"'W12'!Q100","v":0},{"$f":"AVERAGE(C100,E100,G100,I100,K100,M100,O100,Q100,S100,U100,W100,Y100)","v":0},{"$f":"AVERAGE(D100,F100,H100,J100,L100,N100,P100,R100,T100,V100,X100,Z100)","v":0},null,{"$f":"AVERAGE(C100,G100,K100,O100,S100,W100)","v":0},{"$f":"AVERAGE(D100,H100,L100,P100,T100,X100)","v":0},{"$f":"AVERAGE(E100,I100,M100,Q100,U100,Y100)","v":0},{"$f":"AVERAGE(F100,J100,N100,R100,V100,Z100)","v":0}]