{"text_format":"2","workbook":"xlsx","n_sheets":8,"sheets":["W01-W04","W05-W08","W09-W12","3-6-7-14","Statistics1","Statistics2","Diet","Handling period"],"not_rendered":{"charts":6,"images":0,"macros":0,"external_links":0,"defined_names":0,"comments":0,"pivot_tables":0},"unopened":[],"bounds":{"document_bytes":16777216,"sheet_cells":100000,"run_cost":"one","rows_first":2000,"rows_last":500,"rows_between":2000,"halvings":0,"cell_chars":16384,"cell_head_chars":4096},"cells_cut":0,"cells_raw":0,"read":"whole","date_system":"1900"}

{"sheet":"W01-W04","index":0,"n_rows":113,"n_cols":33,"rows_kept":113,"cut":false,"hidden":false,"merged":[]}
[]
[null,"Weight overview mice W01, W02, W03, W04"]
[]
[{"$nulls":8},"gram",{"$nulls":14},"gram"]
[null,null,null,"W01",21.2,null,null,"ml","soy to","gram",null,"W02",21.8,null,null,"ml","ml",null,"W03",20.9,null,null,"ml","soy to","gram",null,"W04",22.3,null,null,"ml","ml"]
[null,"Day","Age","Weight","Ref","%","Drops","Task","chow","Suppl","Total","Weight","Ref","%","Drops","Task","Suppl","Total","Weight","Ref","%","Drops","Task","chow","Suppl","Total","Weight","Ref","%","Drops","Task","Suppl","Total"]
[null,"2016-12-12",41,22.1,22.3,{"$f":"D7/E7","v":0.99103139013452923},{"$nulls":5},23,22.5,{"$f":"L7/M7","v":1.0222222222222221},{"$nulls":4},22.9,23,{"$f":"S7/T7","v":0.99565217391304339},{"$nulls":5},20.8,21,{"$f":"AA7/AB7","v":0.99047619047619051}]
[null,"2016-12-13",42,22.9,22.3,1.0269058295964124,{"$nulls":5},23,22.5,1.0222222222222221,{"$nulls":4},23.5,23,1.0217391304347827,{"$nulls":5},21.6,21,1.0285714285714287]
[null,"2016-12-14",43,21.8,22.3,0.97757847533632292,{"$nulls":5},21.6,22.5,0.96000000000000008,{"$nulls":4},22.7,23,0.9869565217391304,{"$nulls":5},20.7,21,0.98571428571428565]
[null,"2016-12-15",44,22,22.3,0.98654708520179368,{"$nulls":5},21.7,22.5,0.96444444444444444,{"$nulls":4},20.8,23,0.90434782608695652,{"$nulls":5},19.3,21,0.91904761904761911]
[null,"2016-12-16",45,22.8,22.3,1.0224215246636772,{"$nulls":5},22.9,22.5,1.0177777777777777,{"$nulls":4},22.1,23,0.96086956521739142,{"$nulls":5},20.6,21,0.98095238095238102]
[null,"2016-12-17",46,23,22.3,1.0313901345291479,{"$nulls":5},23.1,22.5,1.0266666666666668,{"$nulls":4},23.1,23,1.0043478260869565,{"$nulls":5},19.8,21,0.94285714285714284]
[null,"2016-12-18",47,23.6,22.3,1.0582959641255605,{"$nulls":5},23.5,22.5,1.0444444444444445,{"$nulls":4},23.5,23,1.0217391304347827,{"$nulls":5},21.5,21,1.0238095238095237]
[null,"2016-12-19",48,23.3,22.3,1.0448430493273542,{"$nulls":5},24.1,22.5,1.0711111111111111,{"$nulls":4},23.4,23,1.017391304347826,{"$nulls":5},22.8,21,1.0857142857142859]
[null,"2016-12-20",49,24.3,22.3,1.0896860986547086,{"$nulls":5},24.4,22.5,1.0844444444444443,{"$nulls":4},23.8,23,1.0347826086956522,{"$nulls":5},23,21,1.0952380952380953]
[null,"2016-12-21",50,23.8,22.3,1.0672645739910314,{"$nulls":5},24.6,22.5,1.0933333333333335,{"$nulls":4},24.1,23,1.0478260869565219,{"$nulls":5},23.4,21,1.1142857142857143]
[null,"2016-12-22",51,23.4,22.3,1.0493273542600896,{"$nulls":5},24.4,22.5,1.0844444444444443,{"$nulls":4},23.5,23,1.0217391304347827,{"$nulls":5},23.2,21,1.1047619047619048]
[null,"2016-12-23",52,24.4,22.3,1.0941704035874438,{"$nulls":5},24.9,22.5,1.1066666666666667,{"$nulls":4},23.8,23,1.0347826086956522,{"$nulls":5},23.2,21,1.1047619047619048]
[null,"2016-12-24",53]
[null,"2016-12-25",54]
[null,"2016-12-26",55]
[null,"2016-12-27",56]
[null,"2016-12-28",57]
[null,"2016-12-29",58]
[null,"2016-12-30",59]
[null,"2016-12-31",60]
[null,"2017-01-01",61]
[null,"2017-01-02",62,24.9,24.9,1,null,null,null,2,{"$f":"(I28)+J28","v":2},25.7,25.7,1,null,null,1.57,{"$f":"(P28)+Q28","v":1.57},24.6,24.6,1,null,null,null,2,{"$f":"(X28)+Y28","v":2},26.2,26.2,1,null,null,1.57,{"$f":"(AE28)+AF28","v":1.57}]
[null,"2017-01-03",63,21.8,24.9,0.87550200803212863,null,null,null,2.7,{"$f":"(I29)+J29","v":2.7},23.2,25.7,0.90272373540856032,null,null,1.57,1.57,21.3,24.6,0.86585365853658536,null,null,null,3,{"$f":"(X29)+Y29","v":3},22.3,26.2,0.85114503816793896,null,null,2.2000000000000002,{"$f":"(AE29)+AF29","v":2.2000000000000002}]
[null,"2017-01-04",64,21.5,24.9,0.86345381526104426,null,null,null,3.3,3.3,22.9,25.7,0.89105058365758749,null,null,1.4,1.4,20.9,24.6,0.84959349593495925,null,null,null,3.1,3.1,21.3,26.2,0.8129770992366413,null,null,2.4,2.4]
[null,"2017-01-05",65,21,24.9,0.84337349397590367,null,0,{"$f":"H31*0.2043","v":0},3.2,3.2,22.4,25.7,0.87159533073929962,null,0.5,1,1.5,20.9,24.6,0.84959349593495925,null,0.4,{"$f":"W31*0.2043","v":8.1720000000000015E-2},3,3.0817199999999998,21,26.2,0.80152671755725191,null,0.5,2.2999999999999998,2.8]
[null,"2017-01-06",66,21,24.9,0.84337349397590367,null,0.6,{"$f":"H32*0.2043","v":0.12257999999999999},3.1,3.2225800000000002,22,25.7,0.85603112840466933,null,0.97,0.6,1.5699999999999998,20.9,24.6,0.84959349593495925,null,0.6,{"$f":"W32*0.2043","v":0.12257999999999999},2.9,3.02258,21.7,26.2,0.8282442748091603,null,0.5,2.2999999999999998,2.8]
[null,"2017-01-07",67,21,24.9,0.84337349397590367,null,0.6,0.12257999999999999,3.3,3.42258,22.1,25.7,0.8599221789883269,null,1,0.56999999999999995,1.5699999999999998,20.2,24.6,0.82113821138211374,null,0.8,0.16344000000000003,3.5,3.66344,21.7,26.2,0.8282442748091603,null,0.7,2.2999999999999998,3]
[null,"2017-01-08",68,21.4,24.9,0.85943775100401609,null,null,null,3.5,3.5,22,25.7,0.85603112840466933,null,null,1.6,1.6,20.9,24.6,0.84959349593495925,null,null,0,3,3,22.2,26.2,0.84732824427480913,null,null,2.2999999999999998,2.2999999999999998]
[null,"2017-01-09",69,21.1,24.9,0.84738955823293183,null,0.5,0.10215,3.2,3.3021500000000001,22.6,25.7,0.87937743190661488,null,0.95,0.62,1.5699999999999998,20.6,24.6,0.83739837398373984,null,0.5,0.10215,3.2,3.3021500000000001,21.7,26.2,0.8282442748091603,null,0.75,1.82,2.5700000000000003]
[null,"2017-01-10",70,21,24.9,0.84337349397590367,null,0.4,8.1720000000000015E-2,3.2,3.28172,22.9,25.7,0.89105058365758749,null,0.75,0.65,1.4,20.8,24.6,0.84552845528455278,null,0.65,0.13279500000000002,2.99,3.1227950000000004,22,26.2,0.83969465648854968,null,0.65,1.95,2.6]
[null,"2017-01-11",71,21.1,24.9,0.84738955823293183,null,0.35,7.1504999999999999E-2,3.5,3.5715050000000002,22.9,25.7,0.89105058365758749,null,1,0.3,1.3,20.7,24.6,0.84146341463414631,null,0.5,0.10215,3.4,3.5021499999999999,21.9,26.2,0.83587786259541985,null,1,2.5,3.5]
[null,"2017-01-12",72,21,24.9,0.84337349397590367,null,0.95,0.19408500000000001,3,3.1940849999999998,22.6,25.7,0.87937743190661488,null,1,0.4,1.4,20.9,24.6,0.84959349593495925,null,0.68,0.13892400000000002,3,3.1389239999999998,22.4,26.2,0.85496183206106868,null,0.6,2.2000000000000002,2.8000000000000003]
[null,"2017-01-13",73,21.2,24.9,0.85140562248995988,null,1.25,0.25537500000000002,2.65,2.9053749999999998,23,25.7,0.89494163424124518,null,1.3,{"$f":"R39-P39","v":0},1.3,20.7,24.6,0.84146341463414631,null,1.45,0.29623500000000003,2.3499999999999996,2.6462349999999999,22.4,26.2,0.85496183206106868,null,0.6,{"$f":"AG39-AE39","v":2.1999999999999997},2.8]
[null,"2017-01-14",74,21.3,24.9,0.85542168674698804,null,1,0.20430000000000001,3.1,3.3043,22.8,25.7,0.88715953307393003,null,1,0.3,1.3,20.3,24.6,0.82520325203252032,null,1.2,0.24515999999999999,3.7,3.94516,22.8,26.2,0.87022900763358779,null,0.6,2.2000000000000002,2.8]
[null,"2017-01-15",75,21,24.9,0.84337349397590367,null,1.3,0.26559000000000005,3.1,3.3655900000000001,22.8,25.7,0.88715953307393003,null,1.3,{"$f":"R41-P41","v":0},1.3,20.9,24.6,0.84959349593495925,null,1.8,0.36774000000000001,3.1000000000000005,3.4677400000000005,22.7,26.2,0.86641221374045796,null,0.55000000000000004,{"$f":"AG41-AE41","v":2.25},2.8]
[null,"2017-01-16",76,20.9,24.9,0.8393574297188755,null,1.35,0.27580500000000002,3.2,3.4758050000000003,22.7,25.7,0.88326848249027234,null,1.1000000000000001,0.19999999999999996,1.3,20.8,24.6,0.84552845528455278,null,1.7,0.34731000000000001,3.3999999999999995,3.7473099999999997,22.5,26.2,0.85877862595419852,null,0.7,2.0999999999999996,2.8]
[null,"2017-01-17",77,20.7,24.9,0.83132530120481929,null,2.78,0.56795399999999996,3.22,3.787954,22.5,25.7,{"$f":"L43/M43","v":0.8754863813229572},null,0.81,0.49,1.3,20.8,24.6,0.84552845528455278,null,2.9,0.59247000000000005,3.1999999999999997,3.7924699999999998,22.2,26.2,0.84732824427480913,null,0,2.8,2.8]
[null,"2017-01-18",78,21.4,24.9,0.85943775100401609,null,2.14,0.43720200000000004,{"$f":"K44-I44","v":3.162798},3.6,22.5,25.7,{"$f":"L44/M44","v":0.8754863813229572},null,0.38,0.87,1.25,21.5,24.6,0.8739837398373983,null,2.11,0.43107299999999998,{"$f":"Z44-X44","v":2.9689269999999999},3.4,22.7,26.2,0.86641221374045796,null,0.06,2.64,2.7]
[null,"2017-01-19",79,21.5,24.9,0.86345381526104426,null,2.4300000000000002,0.49644900000000003,{"$f":"K45-I45","v":3.0035509999999999},3.5,22.4,25.7,0.87159533073929962,null,0.53,0.66999999999999993,1.2,21.3,24.6,0.86585365853658536,null,3.25,0.66397499999999998,{"$f":"Z45-X45","v":2.7360249999999997},3.4,22.7,26.2,0.86641221374045796,null,0.02,2.48,2.5]
[null,"2017-01-20",80,21.6,24.9,0.86746987951807242,null,2.54,0.51892199999999999,2.881078,3.4,22.4,25.7,0.87159533073929962,null,0.59,0.51000000000000012,1.1000000000000001,21,24.6,0.85365853658536583,null,2.29,0.46784700000000001,3.0321530000000001,3.5,21.3,26.2,0.8129770992366413,null,0.01,2.79,2.8]
[null,"2017-01-21",81,22.3,24.9,0.89558232931726911,null,2.57,0.52505100000000005,2.7749489999999999,3.3,22.1,25.7,0.8599221789883269,null,0.55000000000000004,0.55000000000000004,1.1000000000000001,21.2,24.6,0.86178861788617878,null,3.31,0.67623300000000008,2.7237669999999996,3.4,22.3,26.2,0.85114503816793896,null,0.01,2.6900000000000004,2.7]
[null,"2017-01-22",82,21.8,24.9,0.87550200803212863,null,null,0,3.3,3.3,22,25.7,0.85603112840466933,null,null,1.1000000000000001,1.1000000000000001,21.1,24.6,0.85772357723577242,null,null,0,3.4,3.4,22.2,26.2,0.84732824427480913,null,null,2.7,2.7]
[null,"2017-01-23",83,21.7,24.9,0.87148594377510047,null,2.35,0.48010500000000006,2.8198949999999998,3.3,21.8,25.7,0.84824902723735418,null,0.83,0.37,1.2,21.3,24.6,0.86585365853658536,null,2.68,0.54752400000000001,2.8524759999999998,3.4,22.3,26.2,0.85114503816793896,null,0.53,1,1.53]
[null,"2017-01-24",84,21.9,24.9,0.87951807228915657,null,2.95,0.60268500000000003,2.6473149999999999,3.25,21.6,25.7,0.84046692607003903,null,0.99,0.26,1.25,21,24.6,0.85365853658536583,null,3.03,0.61902899999999994,2.7809710000000001,3.4,21.3,26.2,0.8129770992366413,null,0.66,2.34,3]
[null,"2017-01-25",85,22.2,24.9,0.89156626506024095,null,1.69,0.34526699999999999,2.8047329999999997,3.15,21.6,25.7,0.84046692607003903,null,0.88,0.47000000000000008,1.35,21.2,24.6,0.86178861788617878,null,3.32,0.67827599999999999,2.721724,3.4,22.2,26.2,0.84732824427480913,null,0.28999999999999998,2.5099999999999998,2.8]
[null,"2017-01-26",86,21.9,24.9,0.87951807228915657,null,2.65,0.54139499999999996,2.558605,3.1,21.6,25.7,0.84046692607003903,null,0.69,0.71,1.4,21.3,24.6,0.86585365853658536,null,3.03,0.61902899999999994,2.7809710000000001,3.4,22.6,26.2,0.86259541984732835,null,0.1,2.6,2.7]
[null,"2017-01-27",87,21.9,24.9,0.87951807228915657,209,{"$f":"G53*0.0085","v":1.7765000000000002},{"$f":"H53*0.2043","v":0.36293895000000004},2.6370610499999998,3,21.9,25.7,0.85214007782101164,112,{"$f":"O53*0.0084","v":0.94079999999999997},0.40920000000000012,1.35,21.2,24.6,0.86178861788617878,242,{"$f":"V53*0.0085","v":2.0569999999999999},0.42024509999999998,2.9797549000000001,3.4,22.7,26.2,0.86641221374045796,42,{"$f":"AD53*0.009","v":0.37799999999999995},2.222,2.6]
[null,"2017-01-28",88,21.9,24.9,0.87951807228915657,215,{"$f":"G54*0.0085","v":1.8275000000000001},0.37335825000000006,2.52664175,2.9,21.6,25.7,0.84046692607003903,139,{"$f":"O54*0.0084","v":1.1676},0.23239999999999994,1.4,21.5,24.6,0.8739837398373983,272,{"$f":"V54*0.0085","v":2.3120000000000003},0.47234160000000008,2.8276583999999998,3.3,22.4,26.2,0.85496183206106868,52,{"$f":"AD54*0.009","v":0.46799999999999997},2.1819999999999999,2.65]
[null,"2017-01-29",89,21.8,24.9,0.87550200803212863,null,null,0,2.8,2.8,21.5,25.7,0.83657587548638135,null,null,1.4,1.4,21.5,24.6,0.8739837398373983,null,null,null,3.2,3.2,23,26.2,0.87786259541984735,null,null,2.5,2.5]
[null,"2017-01-30",90,21.4,24.9,0.85943775100401609,83,0.70550000000000002,0.14413365,2.70586635,2.85,21.9,25.7,0.85214007782101164,145,1.218,0.18199999999999994,1.4,21.1,24.6,0.85772357723577242,98,0.83300000000000007,0.17018190000000002,3.1298180999999996,3.3,22.5,26.2,0.85877862595419852,68,0.61199999999999999,1.9379999999999997,2.5499999999999998]
[null,"2017-01-31",91,21.5,24.9,0.86345381526104426,84,0.71400000000000008,0.14587020000000003,2.6541297999999998,2.8,21.8,25.7,0.84824902723735418,145,1.218,0.18199999999999994,1.4,21.5,24.6,0.8739837398373983,118,1.0030000000000001,0.20491290000000004,2.9950871000000001,3.2,22.7,26.2,0.86641221374045796,19,0.17099999999999999,2.3290000000000002,2.5]
[null,"2017-02-01",92,21.2,24.9,0.85140562248995988,97,0.82450000000000001,0.16844535000000002,2.6815546500000003,2.85,21.6,25.7,0.84046692607003903,200,1.68,0,1.68,21.1,24.6,0.85772357723577242,70,0.59500000000000008,0.12155850000000003,3.1284415000000001,3.25,22.8,26.2,0.87022900763358779,43,0.38699999999999996,2.0129999999999999,2.4]
[null,"2017-02-02",93,21,24.9,0.84337349397590367,141,1.1985000000000001,0.24485355000000003,2.6051464499999999,2.85,21.7,25.7,0.8443579766536965,150,1.26,0.1399999999999999,1.4,21,24.6,0.85365853658536583,91,0.77350000000000008,0.15802605000000003,3.0919739499999999,3.25,22.5,26.2,0.85877862595419852,12,0.10799999999999998,2.2919999999999998,2.4]
[null,"2017-02-03",94,20.7,24.9,{"$f":"D60/E60","v":0.83132530120481929},125,1.0625,0.21706875,2.6829312499999998,2.9,21.6,25.7,{"$f":"L60/M60","v":0.84046692607003903},145,1.218,0.23199999999999998,1.45,21.2,24.6,{"$f":"S60/T60","v":0.86178861788617878},123,1.0455000000000001,0.21359565000000003,2.9864043499999999,3.2,22.9,26.2,{"$f":"AA60/AB60","v":0.87404580152671751},11,9.8999999999999991E-2,2.2009999999999996,2.2999999999999998]
[null,"2017-02-04",95,20.7,24.9,0.83132530120481929,119,1.0115000000000001,0.20664945000000001,2.7433505500000002,2.95,21.6,25.7,0.84046692607003903,66,0.5544,0.89559999999999995,1.45,21,24.6,0.85365853658536583,108,0.91800000000000004,0.1875474,3.0124526,3.2,23,26.2,0.87786259541984735,25,0.22499999999999998,1.9750000000000001,2.2000000000000002]
[null,"2017-02-05",96,20.5,24.9,0.82329317269076308,null,null,0,3.05,3.05,21.8,25.7,0.84824902723735418,null,null,1.45,1.45,21.1,24.6,0.85772357723577242,null,null,null,3.2,3.2,22.9,26.2,0.87404580152671751,null,null,2.15,2.15]
[null,"2017-02-06",97,20.7,24.9,0.83132530120481929,133,1.1305000000000001,0.23096115000000003,2.8190388499999997,3.05,22.2,25.7,0.86381322957198448,66,0.5544,0.84559999999999991,1.4,21.1,24.6,0.85772357723577242,118,1.0030000000000001,0.20491290000000004,2.9950871000000001,3.2,22.7,26.2,0.86641221374045796,18,0.16199999999999998,1.9380000000000002,2.1]
[null,"2017-02-07",98,20.6,24.9,0.82730923694779124,140,1.1900000000000002,0.24311700000000006,2.9068829999999997,3.15,22.3,25.7,0.86770428015564205,75,0.63,0.72000000000000008,1.35,21,24.6,0.85365853658536583,115,0.97750000000000004,0.19970325000000003,3.00029675,3.2,22.6,26.2,0.86259541984732835,109,0.98099999999999987,1.1190000000000002,2.1]
[null,"2017-02-08",99,20.7,24.9,0.83132530120481929,145,1.2325000000000002,0.25179975000000004,2.8982002499999999,3.15,22.1,25.7,0.8599221789883269,121,1.0164,0.33360000000000012,1.35,20.9,24.6,0.84959349593495925,109,0.9265000000000001,0.18928395000000003,3.0107160500000001,3.2,22.1,26.2,0.84351145038167952,72,0.64799999999999991,1.5520000000000003,2.2000000000000002]
[null,"2017-02-09",100,20.3,24.9,0.81526104417670686,146,1.2410000000000001,0.25353630000000005,2.9964637000000001,3.25,21.9,25.7,0.85214007782101164,156,1.3104,3.960000000000008E-2,1.35,21,24.6,0.85365853658536583,99,0.84150000000000003,0.17191845,3.02808155,3.2,22.1,26.2,0.84351145038167952,78,0.70199999999999996,1.4980000000000002,2.2000000000000002]
[null,"2017-02-10",101,20.9,24.9,0.8393574297188755,133,1.1305000000000001,0.23096115000000003,2.96903885,3.2,21.6,25.7,0.84046692607003903,154,1.2935999999999999,0.10640000000000005,1.4,20.8,24.6,0.84552845528455278,117,0.99450000000000005,0.20317635000000003,2.9968236500000001,3.2,22.5,26.2,0.85877862595419852,77,0.69299999999999995,1.4569999999999999,2.15]
[null,"2017-02-11",102,21,24.9,0.84337349397590367,139,1.1815,0.24138045,2.9786195500000003,3.22,21.4,25.7,0.83268482490272366,168,1.4112,8.879999999999999E-2,1.5,20.8,24.6,0.84552845528455278,126,1.0710000000000002,0.21880530000000004,2.9811947000000001,3.2,22.4,26.2,0.85496183206106868,87,0.78299999999999992,1.367,2.15]
[null,"2017-02-12",103,21.3,24.9,0.85542168674698804,132,1.1220000000000001,0.22922460000000003,2.9207753999999997,3.15,21.2,25.7,0.82490272373540852,164,1.3775999999999999,0.22240000000000015,1.6,20.9,24.6,0.84959349593495925,133,1.1305000000000001,0.23096115000000003,2.96903885,3.2,22.5,26.2,0.85877862595419852,104,0.93599999999999994,1.1640000000000001,2.1]
[null,"2017-02-13",104,21.4,24.9,0.85943775100401609,130,1.105,0.22575149999999999,2.8742485000000002,3.1,21.2,25.7,0.82490272373540852,174,1.4616,0.33840000000000003,1.8,21.1,24.6,0.85772357723577242,131,1.1135000000000002,0.22748805000000005,2.9725119500000003,3.2,22.4,26.2,0.85496183206106868,121,1.089,1.0110000000000001,2.1]
[null,"2017-02-14",105,21.3,24.9,0.85542168674698804,138,1.173,0.23964390000000002,2.8603561000000002,3.1,21.4,25.7,0.83268482490272366,180,1.512,0.43799999999999994,1.95,20.9,24.6,0.84959349593495925,140,1.1900000000000002,0.24311700000000006,2.9568829999999999,3.2,21.9,26.2,0.83587786259541985,131,1.1789999999999998,1.121,2.2999999999999998]
[null,"2017-02-15",106,21.4,24.9,0.85943775100401609,140,1.1900000000000002,0.24311700000000006,2.8568829999999998,3.1,21.6,25.7,0.84046692607003903,124,1.0415999999999999,0.9084000000000001,1.95,20.9,24.6,0.84959349593495925,132,1.1220000000000001,0.22922460000000003,2.9707754,3.2,21.9,26.2,0.83587786259541985,115,1.0349999999999999,1.365,2.4]
[null,"2017-02-16",107,21.7,24.9,0.87148594377510047,111,0.94350000000000012,0.19275705000000004,2.7072429499999999,2.9,22.1,25.7,0.8599221789883269,122,1.0247999999999999,0.87519999999999998,1.9,20.9,24.6,0.84959349593495925,179,1.5215000000000001,0.31084245000000005,2.8891575500000002,3.2,22.3,26.2,0.85114503816793896,123,1.107,1.1929999999999998,2.2999999999999998]
[null,"2017-02-17",108,21.6,24.9,0.86746987951807242,133,1.1305000000000001,0.23096115000000003,2.5690388499999997,2.8,22.3,25.7,0.86770428015564205,138,1.1592,0.69080000000000008,1.85,21,24.6,0.85365853658536583,203,1.7255,0.35251965000000002,2.8474803500000001,3.2,22.3,26.2,0.85114503816793896,123,1.107,1.1929999999999998,2.2999999999999998]
[null,"2017-02-18",109,21.5,24.9,0.86345381526104426,133,1.1305000000000001,0.23096115000000003,2.5690388499999997,2.8,22.3,25.7,0.86770428015564205,137,1.1507999999999998,0.64920000000000022,1.8,21,24.6,0.85365853658536583,202,1.7170000000000001,0.35078310000000001,2.8492169000000001,3.2,22,26.2,0.83969465648854968,136,1.224,1.1759999999999999,2.4]
[null,"2017-02-19",110,21.2,24.9,0.85140562248995988,null,null,0,2.85,2.85,22.4,25.7,0.87159533073929962,null,null,1.7,1.7,20.5,24.6,0.83333333333333326,null,null,0,3.3,3.3,21.8,26.2,0.83206106870229013,null,null,2.5,2.5]
[null,"2017-02-20",111,21.2,24.9,0.85140562248995988,125,1.0625,0.21706875,2.6329312499999999,2.85,22.9,25.7,0.89105058365758749,144,1.2096,0.39040000000000008,1.6,20.6,24.6,0.83739837398373984,187,1.5895000000000001,0.32473485000000002,3.0752651499999999,3.4,22.2,26.2,0.84732824427480913,136,1.224,1.2260000000000002,2.4500000000000002]
[null,"2017-02-21",112,21.5,24.9,0.86345381526104426,135,1.1475000000000002,0.23443425000000004,2.5655657499999998,2.8,22.8,25.7,0.88715953307393003,86,0.72239999999999993,0.82760000000000011,1.55,20.8,24.6,0.84552845528455278,205,1.7425000000000002,0.35599275000000002,3.0440072499999999,3.4,22.3,26.2,0.85114503816793896,136,1.224,1.2260000000000002,2.4500000000000002]
[null,"2017-02-22",113,21.5,24.9,{"$f":"D79/E79","v":0.86345381526104426},134,1.139,0.23269770000000001,2.5173022999999999,2.75,22.9,25.7,0.89105058365758749,104,0.87359999999999993,0.57640000000000002,1.45,20.9,24.6,0.84959349593495925,197,1.6745000000000001,0.34210035000000005,3.05789965,3.4,22.3,26.2,0.85114503816793896,137,1.2329999999999999,1.2170000000000003,2.4500000000000002]
[null,"2017-02-23",114,20.6,24.9,0.82730923694779124,121,1.0285,0.21012254999999999,2.8898774500000002,3.1,22.6,25.7,0.87937743190661488,93,0.78120000000000001,0.66879999999999995,1.45,20.8,24.6,0.84552845528455278,175,1.4875,0.30389625000000003,3.0961037499999997,3.4,22.1,26.2,0.84351145038167952,142,1.2779999999999998,1.1720000000000004,2.4500000000000002]
[null,"2017-02-24",115,21.5,24.9,0.86345381526104426,138,1.173,0.23964390000000002,2.5103561000000001,2.75,22.5,25.7,0.8754863813229572,103,0.86519999999999997,0.53479999999999994,1.4,21.4,24.6,0.86991869918699172,191,1.6235000000000002,0.33168105000000003,2.9683189499999996,3.3,22.1,26.2,0.84351145038167952,132,1.1879999999999999,1.2620000000000002,2.4500000000000002]
[null,"2017-02-25",116,21.1,24.9,0.84738955823293183,55,0.46750000000000003,9.5510250000000005E-2,2.7544897500000003,2.85,22.4,25.7,0.87159533073929962,157,1.3188,0,1.32,20.8,24.6,0.84552845528455278,187,1.5895000000000001,0.32473485000000002,3.0752651499999999,3.4,22.1,26.2,0.84351145038167952,141,1.2689999999999999,1.1810000000000003,2.4500000000000002]
[null,"2017-02-26",117,21.1,24.9,0.84738955823293183,null,null,0,2.85,2.85,22,25.7,0.85603112840466933,null,null,1.35,1.35,20.9,24.6,0.84959349593495925,null,null,0,3.4,3.4,22,26.2,0.83969465648854968,null,null,2.5,2.5]
[null,"2017-02-27",118,21,24.9,0.84337349397590367,107,0.90950000000000009,0.18581085000000003,2.7141891499999997,2.9,22.4,25.7,0.87159533073929962,147,1.2347999999999999,6.5200000000000147E-2,1.3,21,24.6,0.85365853658536583,171,1.4535,0.29695005000000002,3.0530499500000001,3.35,22.8,26.2,0.87022900763358779,125,1.125,1.2749999999999999,2.4]
[null,"2017-02-28",119,21.4,24.9,0.85943775100401609,125,1.0625,0.21706875,2.6329312499999999,2.85,22.2,25.7,0.86381322957198448,185,1.5539999999999998,-3.9999999999997815E-3,1.55,21.1,24.6,0.85772357723577242,160,1.36,0.27784800000000004,3.0221519999999997,3.3,22,26.2,0.83969465648854968,82,0.73799999999999999,1.7120000000000002,2.4500000000000002]
[null,"2017-03-01",120,20.5,24.9,{"$f":"D86/E86","v":0.82329317269076308},102,{"$f":"G86*0.0085","v":0.8670000000000001},{"$f":"H86*0.2043","v":0.17712810000000004},{"$f":"K86-I86","v":2.8228719},3,22,25.7,{"$f":"L86/M86","v":0.85603112840466933},175,{"$f":"O86*0.0084","v":1.47},{"$f":"R86-P86","v":0},1.47,21,24.6,{"$f":"S86/T86","v":0.85365853658536583},134,{"$f":"V86*0.0085","v":1.139},{"$f":"W86*0.2043","v":0.23269770000000001},{"$f":"Z86-X86","v":3.0673022999999997},3.3,23.2,26.2,{"$f":"AA86/AB86","v":0.8854961832061069},81,{"$f":"AD86*0.009","v":0.72899999999999998},{"$f":"AG86-AE86","v":1.5709999999999997},2.2999999999999998]
[null,"2017-03-02",121,21.1,24.9,0.84738955823293183,70,0.59500000000000008,0.12155850000000003,2.7784415,2.9,21.7,25.7,0.8443579766536965,171,1.4363999999999999,3.6000000000000476E-3,1.44,20.7,24.6,0.84146341463414631,128,1.0880000000000001,0.22227840000000001,3.1277216000000001,3.35,23.1,26.2,0.88167938931297718,57,0.51300000000000001,1.7869999999999999,2.2999999999999998]
[null,"2017-03-03",122,21.1,24.9,0.84738955823293183,117,0.99450000000000005,0.20317635000000003,2.6968236499999998,2.9,21.7,25.7,0.8443579766536965,158,1.3271999999999999,0.12280000000000002,1.45,20.8,24.6,0.84552845528455278,147,1.2495000000000001,0.25527285,3.0947271500000002,3.35,22.8,26.2,0.87022900763358779,61,0.54899999999999993,1.7509999999999999,2.2999999999999998]
[null,"2017-03-04",123,20.7,24.9,0.83132530120481929,null,null,0,3,3,21.5,25.7,0.83657587548638135,null,null,1.5,1.5,20.3,24.6,0.82520325203252032,null,null,0,3.5,3.5,22.6,26.2,0.86259541984732835,null,null,2.2999999999999998,2.2999999999999998]
[null,"2017-03-05",124,20.9,24.9,0.8393574297188755,null,null,0,3,3,21.9,25.7,0.85214007782101164,null,null,1.45,1.45,20.399999999999999,24.6,0.82926829268292668,null,null,0,3.5,3.5,23.1,26.2,0.88167938931297718,null,null,2.2000000000000002,2.2000000000000002]
[null,"2017-03-06",125,21.3,24.9,0.85542168674698804,109,0.9265000000000001,0.18928395000000003,2.7107160499999998,2.9,22.4,25.7,0.87159533073929962,216,{"$f":"O91*0.004","v":0.86399999999999999},0.33599999999999997,1.2,20.5,24.6,0.83333333333333326,383,3.2555000000000001,0.66509865000000001,2.83490135,3.5,23,26.2,0.87786259541984735,52,{"$f":"AD91*0.004","v":0.20800000000000002},1.8920000000000001,2.1]
[null,"2017-03-07",126,21.7,24.9,0.87148594377510047,118,1.0030000000000001,0.20491290000000004,null,"ad lib",21.9,25.7,0.85214007782101164,173,1.4531999999999998,-3.1999999999998696E-3,1.45,20.9,24.6,0.84959349593495925,148,1.258,0.2570094,null,"ad lib",23.2,26.2,0.8854961832061069,80,0.72,1.08,1.8]
[null,"2017-03-08",127,26.6,24.9,1.0682730923694781,{"$nulls":5},22.2,25.7,0.86381322957198448,237,1.9907999999999999,-7.9999999999991189E-4,1.99,25.4,24.6,1.032520325203252,{"$nulls":5},22.4,26.2,0.85496183206106868,35,0.315,1.6850000000000001,2]
[null,"2017-03-09",128,26.9,24.9,1.0803212851405624,14,0.11900000000000001,2.4311700000000002E-2,null,null,21.9,25.7,0.85214007782101164,218,1.8311999999999999,null,"ad lib",27,24.6,1.097560975609756,56,0.47600000000000003,9.7246800000000008E-2,null,null,22.6,26.2,0.86259541984732835,149,1.341,null,"ad lib"]
[null,"2017-03-10",129,28.1,24.9,1.1285140562248996,{"$nulls":5},26.2,25.7,1.0194552529182879,{"$nulls":4},27.8,24.6,1.1300813008130082,{"$nulls":5},24.6,26.2,0.93893129770992378]
[null,"2017-03-11",130]
[null,"2017-03-12",131]
[null,"2017-03-13",132,27.4,24.9,{"$f":"D98/E98","v":1.1004016064257027},{"$nulls":5},27.8,25.7,{"$f":"L98/M98","v":1.0817120622568095},{"$nulls":4},28,24.6,{"$f":"S98/T98","v":1.1382113821138211},{"$nulls":5},27,26.2,{"$f":"AA98/AB98","v":1.0305343511450382}]
[null,"2017-03-14",133]
[null,"2017-03-15",134,27.4,24.9,1.1004016064257027,{"$nulls":5},28,25.7,1.0894941634241246,{"$nulls":4},27.4,24.6,1.1138211382113821,{"$nulls":5},27.2,26.2,1.0381679389312977]
[null,"2017-03-16",135]
[null,"2017-03-17",136,27.9,24.9,{"$f":"D102/E102","v":1.1204819277108433},{"$nulls":5},28.1,25.7,{"$f":"L102/M102","v":1.0933852140077822},{"$nulls":4},28.9,24.6,{"$f":"S102/T102","v":1.1747967479674795},{"$nulls":5},27,26.2,{"$f":"AA102/AB102","v":1.0305343511450382}]
[null,"2017-03-18",137]
[null,"2017-03-19",138]
[null,"2017-03-20",139,28.8,24.9,{"$f":"D105/E105","v":1.1566265060240966},{"$nulls":5},28.2,25.7,{"$f":"L105/M105","v":1.0972762645914398},{"$nulls":4},29.3,24.6,{"$f":"S105/T105","v":1.1910569105691056},{"$nulls":5},27.5,26.2,{"$f":"AA105/AB105","v":1.0496183206106871}]
[null,"2017-03-21",139]
[null,"2017-03-22",139]
[null,"2017-03-23",139]
[null,"2017-03-24",139]
[null,"2017-03-25",139]
[null,"2017-03-26",139]
[null,"2017-03-27",139]
[null,"2017-03-28",139,29.2,24.9,{"$f":"D113/E113","v":1.172690763052209},{"$nulls":5},29,25.7,{"$f":"L113/M113","v":1.1284046692607004},{"$nulls":4},30.8,24.6,{"$f":"S113/T113","v":1.2520325203252032},{"$nulls":5},28.8,26.2,{"$f":"AA113/AB113","v":1.0992366412213741}]

{"sheet":"W05-W08","index":1,"n_rows":113,"n_cols":34,"rows_kept":113,"cut":false,"hidden":false,"merged":[]}
[]
[null,"Weight overview mice W05, W06, W07, W08"]
[]
[{"$nulls":8},"gram",{"$nulls":14},"gram"]
[null,null,null,"W05",null,null,null,"ml","soy to","gram",null,"W06",21.2,null,null,"ml","ml",null,"W07",null,null,null,"ml","soy to","gram",null,"W08",21.8,null,null,"ml","ml"]
[null,"Day","Age","Weight","Ref","%","Drops","Task","chow","Suppl","Total","Weight","Ref","%","Drops","Task","Suppl","Total","Weight","Ref","%","Drops","Task","chow","Suppl","Total","Weight","Ref","%","Drops","Task","Suppl","Total"]
[null,"2016-12-12",41,22.2,22.3,{"$f":"D7/E7","v":0.99551569506726456},{"$nulls":5},22.2,22.2,{"$f":"L7/M7","v":1},{"$nulls":4},21.3,22,{"$f":"S7/T7","v":0.96818181818181825},{"$nulls":5},21.5,21.9,{"$f":"AA7/AB7","v":0.98173515981735171}]
[null,"2016-12-13",42,22.7,22.3,1.0179372197309415,{"$nulls":5},22.7,22.2,1.0225225225225225,{"$nulls":4},22.4,22,1.0181818181818181,{"$nulls":5},22.1,21.9,1.0091324200913243]
[null,"2016-12-14",43,22.1,22.3,0.99103139013452923,{"$nulls":5},21.7,22.2,0.97747747747747749,{"$nulls":4},22.9,22,1.0409090909090908,{"$nulls":5},22.8,21.9,1.0410958904109591]
[null,"2016-12-15",44,21.3,22.3,0.95515695067264572,{"$nulls":5},20.7,22.2,0.93243243243243246,{"$nulls":4},21.5,22,0.97727272727272729,{"$nulls":5},21.2,21.9,0.96803652968036535]
[null,"2016-12-16",45,21.5,22.3,0.9641255605381166,{"$nulls":5},21.5,22.2,0.96846846846846846,{"$nulls":4},20.8,22,0.94545454545454544,{"$nulls":5},19.600000000000001,21.9,0.89497716894977186]
[null,"2016-12-17",46,22.6,22.3,1.0134529147982063,{"$nulls":5},21.6,22.2,0.97297297297297303,{"$nulls":4},21.7,22,0.98636363636363633,{"$nulls":5},21.6,21.9,0.98630136986301387]
[null,"2016-12-18",47,23.1,22.3,1.0358744394618835,{"$nulls":5},21.8,22.2,0.98198198198198205,{"$nulls":4},22.3,22,1.0136363636363637,{"$nulls":5},22.8,21.9,1.0410958904109591]
[null,"2016-12-19",48,24.2,22.3,1.0852017937219731,{"$nulls":5},22.2,22.2,1,{"$nulls":4},23.1,22,1.05,{"$nulls":5},23.4,21.9,1.0684931506849316]
[null,"2016-12-20",49,24.1,22.3,1.0807174887892377,{"$nulls":5},23.8,22.2,1.0720720720720722,{"$nulls":4},22.7,22,1.0318181818181817,{"$nulls":5},24.1,21.9,1.1004566210045663]
[null,"2016-12-21",50,24.6,22.3,1.1031390134529149,{"$nulls":5},23,22.2,1.0360360360360361,{"$nulls":4},23.1,22,1.05,{"$nulls":5},24.1,21.9,1.1004566210045663]
[null,"2016-12-22",51,22.9,22.3,1.0269058295964124,{"$nulls":5},22.8,22.2,1.0270270270270272,{"$nulls":4},22.7,22,1.0318181818181817,{"$nulls":5},24.4,21.9,1.1141552511415524]
[null,"2016-12-23",52,21.8,22.3,0.97757847533632292,{"$nulls":5},23.3,22.2,1.0495495495495497,{"$nulls":4},22.9,22,1.0409090909090908,{"$nulls":5},23.7,21.9,1.0821917808219179]
[null,"2016-12-24",53,24.1,22.3,1.0807174887892377]
[null,"2016-12-25",54]
[null,"2016-12-26",55]
[null,"2016-12-27",56]
[null,"2016-12-28",57]
[null,"2016-12-29",58]
[null,"2016-12-30",59]
[null,"2016-12-31",60]
[null,"2017-01-01",61]
[null,"2017-01-02",62,25.9,25.9,1,null,null,null,2,{"$f":"(I28)+J28","v":2},24.9,24.9,1,null,null,1.57,{"$f":"(P28)+Q28","v":1.57},23.3,23.3,1,null,null,null,2,{"$f":"(X28)+Y28","v":2},25.7,25.7,1,null,null,1.57,{"$f":"(AE28)+AF28","v":1.57}]
[null,"2017-01-03",63,22.5,25.9,0.86872586872586877,null,null,null,3,{"$f":"(I29)+J29","v":3},22.6,24.9,0.90763052208835349,null,null,1.57,{"$f":"(P29)+Q29","v":1.57},21,23.3,0.90128755364806867,null,null,null,2.2000000000000002,{"$f":"(X29)+Y29","v":2.2000000000000002},23.2,25.7,0.90272373540856032,null,null,1.57,{"$f":"(AE29)+AF29","v":1.57}]
[null,"2017-01-04",64,22.4,25.9,0.86486486486486491,null,null,null,2.8,2.8,22.2,24.9,0.89156626506024095,null,null,1.5,1.5,20.399999999999999,23.3,0.87553648068669521,null,null,null,2.7,2.7,22.9,25.7,0.89105058365758749,null,null,1.4,1.4]
[null,"2017-01-05",65,21.6,25.9,0.83397683397683409,null,0.4,{"$f":"H31*0.2043","v":8.1720000000000015E-2},3.1,3.1817200000000003,21.8,24.9,0.87550200803212863,null,0.4,1.17,1.5699999999999998,19.899999999999999,23.3,0.85407725321888406,null,0.4,{"$f":"W31*0.2043","v":8.1720000000000015E-2},2.9,2.9817200000000001,22.1,25.7,0.8599221789883269,null,0.4,1.17,1.5699999999999998]
[null,"2017-01-06",66,22,25.9,0.8494208494208495,null,0.7,{"$f":"H32*0.2043","v":0.14301},3.1,3.2430099999999999,21.4,24.9,0.85943775100401609,null,0.4,1.17,1.5699999999999998,20,23.3,0.85836909871244638,null,0.5,{"$f":"W32*0.2043","v":0.10215},2.6,2.7021500000000001,22.2,25.7,0.86381322957198448,null,0.7,0.87,1.5699999999999998]
[null,"2017-01-07",67,21.6,25.9,0.83397683397683409,null,0.7,0.14301,3.3,3.4430099999999997,21.5,24.9,0.86345381526104426,null,0.5,1.07,1.57,19.5,23.3,0.83690987124463512,null,0.55000000000000004,0.11236500000000002,3.1,3.2123650000000001,22,25.7,0.85603112840466933,null,0.75,0.82,1.5699999999999998]
[null,"2017-01-08",68,22.6,25.9,0.87258687258687273,null,null,0,3,3,21.5,24.9,0.86345381526104426,null,null,1.57,1.57,20.6,23.3,0.88412017167381973,null,null,0,3,3,21.9,25.7,0.85214007782101164,null,null,1.57,1.57]
[null,"2017-01-09",69,21.9,25.9,0.84555984555984554,null,0.5,0.10215,3.2,3.3021500000000001,21.8,24.9,0.87550200803212863,null,0.7,0.87,1.5699999999999998,19.8,23.3,0.84978540772532185,null,0.55000000000000004,0.11236500000000002,3.1,3.2123650000000001,21.9,25.7,0.85214007782101164,null,0.8,0.77,1.57]
[null,"2017-01-10",70,22.3,25.9,0.86100386100386106,null,0.65,0.13279500000000002,3.01,3.142795,21.6,24.9,0.86746987951807242,null,0.6,1,1.6,20.2,23.3,0.86695278969957079,null,0.5,0.10215,2.9,3.0021499999999999,22.1,25.7,0.8599221789883269,null,0.45,1.05,1.5]
[null,"2017-01-11",71,22,25.9,0.8494208494208495,null,0.45,9.1935000000000003E-2,3.3,3.3919349999999997,21.8,24.9,0.87550200803212863,null,0.75,0.65,1.4,19.899999999999999,23.3,0.85407725321888406,null,0.45,9.1935000000000003E-2,3.5,3.5919349999999999,22.1,25.7,0.8599221789883269,null,0.83,0.67,1.5]
[null,"2017-01-12",72,22,25.9,0.8494208494208495,null,0.55000000000000004,0.11236500000000002,3.2,3.3123650000000002,21.6,24.9,0.86746987951807242,null,0.95,0.5,1.45,20,23.3,0.85836909871244638,null,0.65,0.13279500000000002,3.28,3.412795,22.1,25.7,0.8599221789883269,null,0.85,0.65,1.5]
[null,"2017-01-13",73,22.5,25.9,0.86872586872586877,null,1.4,0.28602,2.1,2.3860200000000003,21.6,24.9,0.86746987951807242,null,0.9,{"$f":"R39-P39","v":0.49999999999999989},1.4,20.3,23.3,0.871244635193133,null,1.4,0.28602,2.4,2.6860200000000001,22.1,25.7,0.8599221789883269,null,0.9,{"$f":"AG39-AE39","v":0.54999999999999993},1.45]
[null,"2017-01-14",74,22,25.9,0.8494208494208495,null,1,0.20430000000000001,3.1,3.3043,21.5,24.9,0.86345381526104426,null,0.85,0.45,1.3,20.100000000000001,23.3,0.86266094420600858,null,1,0.20430000000000001,3,3.2042999999999999,22,25.7,0.85603112840466933,null,0.65,0.9,1.55]
[null,"2017-01-15",75,22.2,25.9,0.85714285714285721,null,1.75,0.35752500000000004,2.4500000000000002,2.807525,21.5,24.9,0.86345381526104426,null,1,{"$f":"R41-P41","v":0.30000000000000004},1.3,20.100000000000001,23.3,0.86266094420600858,null,1.75,0.35752500000000004,2.5,2.8575249999999999,22.2,25.7,0.86381322957198448,null,0.6,{"$f":"AG41-AE41","v":0.85},1.45]
[null,"2017-01-16",76,22.1,25.9,0.85328185328185335,null,2,0.40860000000000002,2.2999999999999998,2.7085999999999997,21.2,24.9,0.85140562248995988,null,0.9,0.49999999999999989,1.4,19.600000000000001,23.3,0.84120171673819744,null,1.7,0.34731000000000001,2.7,3.0473100000000004,22.2,25.7,0.86381322957198448,null,0.7,0.75,1.45]
[null,"2017-01-17",77,21.9,25.9,0.84555984555984554,null,2,0.40860000000000002,2.5,2.9085999999999999,21.2,24.9,0.85140562248995988,null,0,1.4,1.4,19.5,23.3,0.83690987124463512,null,1.93,0.39429900000000001,3.2700000000000005,3.6642990000000006,22.1,25.7,0.8599221789883269,null,1.06,0.3899999999999999,1.45]
[null,"2017-01-18",78,22,25.9,0.8494208494208495,null,2.93,0.5985990000000001,{"$f":"K44-I44","v":2.3014009999999998},2.9,21.2,24.9,0.85140562248995988,null,0.04,1.3599999999999999,1.4,20.3,23.3,0.871244635193133,null,1.94,0.39634200000000003,{"$f":"Z44-X44","v":2.803658},3.2,22.1,25.7,0.8599221789883269,null,0.66,0.73999999999999988,1.4]
[null,"2017-01-19",79,21.6,25.9,0.83397683397683409,null,2.36,0.48214800000000002,{"$f":"K45-I45","v":2.6178520000000001},3.1,21.4,24.9,0.85943775100401609,null,0,1.3,1.3,20,23.3,0.85836909871244638,null,2.0299999999999998,0.41472899999999996,{"$f":"Z45-X45","v":2.8852709999999999},3.3,22.3,25.7,0.86770428015564205,null,0.87,0.43000000000000005,1.3]
[null,"2017-01-20",80,22.1,25.9,0.85328185328185335,null,3.23,0.65988900000000006,2.3401109999999998,3,20.7,24.9,0.83132530120481929,null,0.05,1.3499999999999999,1.4,20.3,23.3,0.871244635193133,null,1.0900000000000001,0.22268700000000002,2.9773130000000001,3.2,21.9,25.7,0.85214007782101164,null,0.33,1.02,1.35]
[null,"2017-01-21",81,21.8,25.9,0.84169884169884179,null,3.49,0.71300700000000006,2.3769929999999997,3.09,21.3,24.9,0.85542168674698804,null,0.06,1.29,1.35,20.100000000000001,23.3,0.86266094420600858,null,1.18,0.24107400000000001,2.9589259999999999,3.2,22.8,25.7,0.88715953307393003,null,0.38,0.92,1.3]
[null,"2017-01-22",82,21.8,25.9,0.84169884169884179,null,null,0,3.1,3.1,21.5,24.9,0.86345381526104426,null,null,1.3,1.3,20.5,23.3,0.87982832618025753,null,null,0,3.13,3.13,22.7,25.7,0.88326848249027234,null,null,1.25,1.25]
[null,"2017-01-23",83,21.8,25.9,0.84169884169884179,null,3.35,0.68440500000000004,2.5155950000000002,3.2,21.5,24.9,0.86345381526104426,null,0.25,1.05,1.3,20.2,23.3,0.86695278969957079,null,1.24,0.253332,2.9466680000000003,3.2,22.6,25.7,0.87937743190661488,null,0.75,0.5,1.25]
[null,"2017-01-24",84,21.8,25.9,0.84169884169884179,null,3,0.6129,2.6371000000000002,3.25,21.5,24.9,0.86345381526104426,null,0.4,0.85,1.25,20.100000000000001,23.3,0.86266094420600858,null,0.54,0.11032200000000002,2.9896780000000001,3.1,22.4,25.7,0.87159533073929962,null,0.74,0.51,1.25]
[null,"2017-01-25",85,22.2,25.9,0.85714285714285721,null,2.94,0.60064200000000001,2.5993580000000001,3.2,21.8,24.9,0.87550200803212863,null,0.23,0.97,1.2,20.5,23.3,0.87982832618025753,null,0.39,7.9677000000000012E-2,2.9203229999999998,3,22.3,25.7,0.86770428015564205,null,0.59,0.66,1.25]
[null,"2017-01-26",86,22,25.9,0.8494208494208495,null,3.12,0.63741600000000009,2.612584,3.25,21.7,24.9,0.87148594377510047,null,0.31,0.83999999999999986,1.1499999999999999,20.100000000000001,23.3,0.86266094420600858,null,0.37,7.5591000000000005E-2,2.9244089999999998,3,22.4,25.7,0.87159533073929962,null,0.53,0.66999999999999993,1.2]
[null,"2017-01-27",87,22.2,25.9,0.85714285714285721,237,{"$f":"G53*0.0085","v":2.0145},0.41156235000000002,2.8384376499999999,3.25,21.5,24.9,0.86345381526104426,61,{"$f":"O53*0.0084","v":0.51239999999999997},0.58760000000000012,1.1000000000000001,20.100000000000001,23.3,0.86266094420600858,19,{"$f":"V53*0.0085","v":0.1615},3.2994450000000002E-2,2.7670055499999999,2.8,22.4,25.7,0.87159533073929962,100,{"$f":"AD53*0.009","v":0.89999999999999991},0.25,1.1499999999999999]
[null,"2017-01-28",88,22.3,25.9,0.86100386100386106,270,{"$f":"G54*0.0085","v":2.2950000000000004},0.46886850000000008,2.7311315,3.2,21,24.9,0.84337349397590367,116,{"$f":"O54*0.0084","v":0.97439999999999993},0.22560000000000002,1.2,20.399999999999999,23.3,0.87553648068669521,36,{"$f":"V54*0.0085","v":0.30600000000000005},6.251580000000001E-2,2.6374842000000003,2.7,22,25.7,0.85603112840466933,116,{"$f":"AD54*0.009","v":1.0439999999999998},0.15600000000000014,1.2]
[null,"2017-01-29",89,22.7,25.9,0.87644787644787647,null,null,0,3.1,3.1,20.6,24.9,0.82730923694779124,null,null,1.3,1.3,20.2,23.3,0.86695278969957079,null,null,0,2.7,2.7,21.8,25.7,0.84824902723735418,null,null,1.25,1.25]
[null,"2017-01-30",90,22.2,25.9,0.85714285714285721,107,0.90950000000000009,0.18581085000000003,2.9641891499999997,3.15,20.6,24.9,0.82730923694779124,73,0.61319999999999997,0.78679999999999994,1.4,19.7,23.3,0.84549356223175964,66,0.56100000000000005,0.11461230000000001,2.6353876999999999,2.75,22.3,25.7,0.86770428015564205,192,1.7279999999999998,2.0000000000002238E-3,1.73]
[null,"2017-01-31",91,23,25.9,0.88803088803088803,102,0.8670000000000001,0.17712810000000004,2.8728718999999998,3.05,20.3,24.9,0.81526104417670686,178,1.4951999999999999,0.10480000000000023,1.6,20.3,23.3,0.871244635193133,18,0.15300000000000002,3.1257900000000005E-2,2.6187421,2.65,22.3,25.7,0.86770428015564205,137,1.2329999999999999,-2.9999999999998916E-3,1.23]
[null,"2017-02-01",92,22.7,25.9,0.87644787644787647,120,1.02,0.20838600000000002,2.8416139999999999,3.05,19.899999999999999,24.9,0.79919678714859432,164,1.3775999999999999,1.0024,2.38,20,23.3,0.85836909871244638,55,0.46750000000000003,9.5510250000000005E-2,2.6044897500000004,2.7,22.1,25.7,0.8599221789883269,180,1.6199999999999999,0,1.62]
[null,"2017-02-02",93,22.6,25.9,0.87258687258687273,122,1.0370000000000001,0.21185910000000005,2.7881409000000001,3,20.3,24.9,0.81526104417670686,106,0.89039999999999997,-3.9999999999995595E-4,0.89,20.2,23.3,0.86695278969957079,97,0.82450000000000001,0.16844535000000002,2.4815546500000001,2.65,22.2,25.7,0.86381322957198448,168,1.5119999999999998,1.4880000000000002,3]
[null,"2017-02-03",94,22.7,25.9,{"$f":"D60/E60","v":0.87644787644787647},134,1.139,0.23269770000000001,2.6673022999999998,2.9,19.5,24.9,{"$f":"L60/M60","v":0.78313253012048201},226,1.8983999999999999,1.1016000000000001,3,20.5,23.3,{"$f":"S60/T60","v":0.87982832618025753},133,1.1305000000000001,0.23096115000000003,2.3190388499999997,2.5499999999999998,23.6,25.7,{"$f":"AA60/AB60","v":0.91828793774319073},108,0.97199999999999998,0.17799999999999994,1.1499999999999999]
[null,"2017-02-04",95,22.6,25.9,0.87258687258687273,136,1.1560000000000001,0.23617080000000004,2.5638291999999998,2.8,20,24.9,0.80321285140562249,134,1.1255999999999999,1.8744000000000001,3,20.100000000000001,23.3,0.86266094420600858,92,0.78200000000000003,0.1597626,2.3902373999999997,2.5499999999999998,23,25.7,0.89494163424124518,54,0.48599999999999999,0.6140000000000001,1.1000000000000001]
[null,"2017-02-05",96,22,25.9,0.8494208494208495,null,null,0,2.9,2.9,20.3,24.9,0.81526104417670686,null,null,3,3,19.7,23.3,0.84549356223175964,null,null,0,2.6,2.6,22.8,25.7,0.88715953307393003,null,null,1.1000000000000001,1.1000000000000001]
[null,"2017-02-06",97,21.9,25.9,0.84555984555984554,146,1.2410000000000001,0.25353630000000005,2.6964637000000002,2.95,21,24.9,0.84337349397590367,94,0.78959999999999997,1.0104000000000002,1.8,19.8,23.3,0.84978540772532185,87,0.73950000000000005,0.15107985000000002,2.3989201499999999,2.5499999999999998,22.8,25.7,0.88715953307393003,64,0.57599999999999996,0.42400000000000004,1,"                                               "]
[null,"2017-02-07",98,21.7,25.9,0.83783783783783783,152,1.292,0.26395560000000001,2.7860443999999998,3.05,20.3,24.9,0.81526104417670686,114,0.9575999999999999,1.4424000000000001,2.4,20.100000000000001,23.3,0.86266094420600858,88,0.748,0.15281640000000002,2.3471836000000001,2.5,22.4,25.7,0.87159533073929962,130,1.17,0,1.17]
[null,"2017-02-08",99,21.8,25.9,0.84169884169884179,132,1.1220000000000001,0.22922460000000003,2.8207753999999996,3.05,20.5,24.9,0.82329317269076308,140,1.1759999999999999,1.224,2.4,20.3,23.3,0.871244635193133,109,0.9265000000000001,0.18928395000000003,2.2107160499999998,2.4,21.9,25.7,0.85214007782101164,105,0.94499999999999995,0.35500000000000009,1.3]
[null,"2017-02-09",100,21.7,25.9,0.83783783783783783,146,1.2410000000000001,0.25353630000000005,2.8464637000000002,3.1,20.399999999999999,24.9,0.81927710843373491,132,1.1088,1.4912000000000001,2.6,19.899999999999999,23.3,0.85407725321888406,127,1.0795000000000001,0.22054185000000004,{"$f":"2.45-0.22","v":2.23},2.4500000000000002,22.1,25.7,0.8599221789883269,112,1.008,0.24199999999999999,1.25]
[null,"2017-02-10",101,22.1,25.9,0.85328185328185335,141,1.1985000000000001,0.24485355000000003,2.8051464499999996,3.05,20.399999999999999,24.9,0.81927710843373491,140,1.1759999999999999,1.6239999999999999,2.8,20,23.3,0.85836909871244638,120,1.02,0.20838600000000002,2.191614,2.4,21.4,25.7,0.83268482490272366,130,1.17,0.13000000000000012,1.3]
[null,"2017-02-11",102,22.4,25.9,0.86486486486486491,135,1.1475000000000002,0.23443425000000004,2.7655657499999999,3,20.3,24.9,0.81526104417670686,161,1.3523999999999998,1.6476000000000002,3,19.8,23.3,0.84978540772532185,121,1.0285,0.21012254999999999,2.2398774500000003,2.4500000000000002,21.2,25.7,0.82490272373540852,160,1.44,0,1.44]
[null,"2017-02-12",103,22.3,25.9,0.86100386100386106,132,1.1220000000000001,0.22922460000000003,2.7707753999999998,3,20.3,24.9,0.81526104417670686,170,1.4279999999999999,1.6720000000000002,3.1,19.899999999999999,23.3,0.85407725321888406,126,1.0710000000000002,0.21880530000000004,2.1811946999999998,2.4,21.2,25.7,0.82490272373540852,168,1.5119999999999998,-1.9999999999997797E-3,1.51]
[null,"2017-02-13",104,22.3,25.9,0.86100386100386106,140,1.1900000000000002,0.24311700000000006,2.7068829999999999,2.95,20.7,24.9,0.83132530120481929,166,1.3943999999999999,1.7056000000000002,3.1,19.8,23.3,0.84978540772532185,124,1.054,0.21533220000000003,2.2346678,2.4500000000000002,21.1,25.7,0.82101167315175105,161,1.4489999999999998,0.25100000000000011,1.7]
[null,"2017-02-14",105,22,25.9,0.8494208494208495,135,1.1475000000000002,0.23443425000000004,2.7655657499999999,3,20.9,24.9,0.8393574297188755,106,0.89039999999999997,2.3096000000000001,3.2,19.899999999999999,23.3,0.85407725321888406,122,1.0370000000000001,0.21185910000000005,2.1881409000000001,2.4,21.4,25.7,0.83268482490272366,195,1.7549999999999999,4.5000000000000151E-2,1.8]
[null,"2017-02-15",106,21.9,25.9,0.84555984555984554,130,1.105,0.22575149999999999,2.8242484999999999,3.05,20.9,24.9,0.8393574297188755,137,1.1507999999999998,2.1492,3.3,19.899999999999999,23.3,0.85407725321888406,116,0.9860000000000001,0.20143980000000003,2.1985601999999997,2.4,21.6,25.7,0.84046692607003903,173,1.5569999999999999,0.2430000000000001,1.8]
[null,"2017-02-16",107,22,25.9,0.8494208494208495,132,1.1220000000000001,0.22922460000000003,2.8207753999999996,3.05,20.7,24.9,0.83132530120481929,96,0.80640000000000001,2.6936,3.5,19.600000000000001,23.3,0.84120171673819744,118,1.0030000000000001,0.20491290000000004,2.2450871000000001,2.4500000000000002,21.9,25.7,0.85214007782101164,150,1.3499999999999999,0.40000000000000013,1.75]
[null,"2017-02-17",108,22.3,25.9,0.86100386100386106,135,1.1475000000000002,0.23443425000000004,2.7655657499999999,3,20.7,24.9,0.83132530120481929,93,0.78120000000000001,2.9188000000000001,3.7,19.8,23.3,0.84978540772532185,124,1.054,0.21533220000000003,2.2346678,2.4500000000000002,22.1,25.7,0.8599221789883269,134,1.206,0.49399999999999999,1.7]
[null,"2017-02-18",109,22.2,25.9,0.85714285714285721,134,1.139,0.23269770000000001,2.7673022999999999,3,21.3,24.9,0.85542168674698804,105,0.8819999999999999,2.718,3.6,19.8,23.3,0.84978540772532185,128,1.0880000000000001,0.22227840000000001,2.2277216000000002,2.4500000000000002,22.3,25.7,0.86770428015564205,127,1.143,0.45700000000000007,1.6]
[null,"2017-02-19",110,22.1,25.9,0.85328185328185335,null,null,0,3,3,21.2,24.9,0.85140562248995988,null,null,3.65,3.65,19.600000000000001,23.3,0.84120171673819744,null,null,0,2.5,2.5,22.3,25.7,0.86770428015564205,null,null,1.5,1.5]
[null,"2017-02-20",111,22.3,25.9,0.86100386100386106,134,1.139,0.23269770000000001,2.6673022999999998,2.9,21,24.9,0.84337349397590367,138,1.1592,2.5407999999999999,3.7,19.7,23.3,0.84549356223175964,110,0.93500000000000005,0.19102050000000001,2.3089795,2.5,22.8,25.7,0.88715953307393003,144,1.2959999999999998,0.10400000000000009,1.4]
[null,"2017-02-21",112,22.2,25.9,0.85714285714285721,136,1.1560000000000001,0.23617080000000004,2.6638291999999999,2.9,21.3,24.9,0.85542168674698804,107,0.89879999999999993,2.7511999999999999,3.65,20,23.3,0.85836909871244638,125,1.0625,0.21706875,2.23293125,2.4500000000000002,22.4,25.7,0.87159533073929962,163,1.4669999999999999,3.0000000000001137E-3,1.47]
[null,"2017-02-22",113,22.5,25.9,0.86872586872586877,122,1.0370000000000001,0.21185910000000005,2.5881409,2.8,21.9,24.9,0.87951807228915657,92,0.77279999999999993,2.7271999999999998,3.5,19.899999999999999,23.3,0.85407725321888406,111,0.94350000000000012,0.19275705000000004,2.2572429500000002,2.4500000000000002,22.2,25.7,0.86381322957198448,200,1.7999999999999998,0,1.8]
[null,"2017-02-23",114,22.1,25.9,0.85328185328185335,121,1.0285,0.21012254999999999,2.6398774500000002,2.85,21.7,24.9,0.87148594377510047,131,1.1003999999999998,2.3496000000000006,3.45,18.8,23.3,0.80686695278969955,79,0.6715000000000001,0.13718745000000002,2.7128125500000002,2.85,22.1,25.7,0.8599221789883269,166,1.494,-4.0000000000000036E-3,1.49]
[null,"2017-02-24",115,22.2,25.9,0.85714285714285721,130,1.105,0.22575149999999999,2.5742484999999999,2.8,21.7,24.9,0.87148594377510047,127,1.0668,2.2332000000000001,3.3,20,23.3,0.85836909871244638,124,1.054,0.21533220000000003,2.2346678,2.4500000000000002,22,25.7,0.85603112840466933,165,1.4849999999999999,-4.9999999999998934E-3,1.48]
[null,"2017-02-25",116,22.2,25.9,0.85714285714285721,127,1.0795000000000001,0.22054185000000004,2.52945815,2.75,21.7,24.9,0.87148594377510047,188,1.5791999999999999,1.5208000000000002,3.1,19.600000000000001,23.3,0.84120171673819744,88,0.748,0.15281640000000002,2.3471836000000001,2.5,22,25.7,0.85603112840466933,171,1.5389999999999999,1.0000000000001119E-3,1.54]
[null,"2017-02-26",117,22,25.9,0.8494208494208495,null,null,0,2.75,2.75,20.9,24.9,0.8393574297188755,null,null,3.2,3.2,19.600000000000001,23.3,0.84120171673819744,null,null,0,2.5499999999999998,2.5499999999999998,22.1,25.7,0.8599221789883269,null,null,1.45,1.45]
[null,"2017-02-27",118,21.8,25.9,0.84169884169884179,136,1.1560000000000001,0.23617080000000004,2.5638291999999998,2.8,21,24.9,0.84337349397590367,180,1.512,1.6880000000000002,3.2,19.399999999999999,23.3,0.83261802575107291,105,0.89250000000000007,0.18233775000000002,2.4676622500000001,2.65,22.6,25.7,0.87937743190661488,192,1.7279999999999998,2.0000000000002238E-3,1.73]
[null,"2017-02-28",119,21.6,25.9,0.83397683397683409,122,1.0370000000000001,0.21185910000000005,2.6881409000000001,2.9,20.8,24.9,0.83534136546184745,191,1.6043999999999998,1.6956,3.3,20,23.3,0.85836909871244638,111,0.94350000000000012,0.19275705000000004,2.4072429500000001,2.6,22.5,25.7,0.8754863813229572,156,1.4039999999999999,-4.0000000000000036E-3,1.4]
[null,"2017-03-01",120,21.8,25.9,{"$f":"D86/E86","v":0.84169884169884179},115,{"$f":"G86*0.0085","v":0.97750000000000004},{"$f":"H86*0.2043","v":0.19970325000000003},{"$f":"K86-I86","v":2.7002967499999997},2.9,20.399999999999999,24.9,{"$f":"L86/M86","v":0.81927710843373491},222,{"$f":"O86*0.0084","v":1.8647999999999998},{"$f":"R86-P86","v":1.7352000000000003},3.6,19.7,23.3,{"$f":"S86/T86","v":0.84549356223175964},89,{"$f":"V86*0.0085","v":0.75650000000000006},{"$f":"W86*0.2043","v":0.15455295000000002},{"$f":"Z86-X86","v":2.4954470500000001},2.65,22.3,25.7,{"$f":"AA86/AB86","v":0.86770428015564205},182,{"$f":"AD86*0.009","v":1.6379999999999999},{"$f":"AG86-AE86","v":2.0000000000000018E-3},1.64]
[null,"2017-03-02",121,21.8,25.9,0.84169884169884179,128,1.0880000000000001,0.22227840000000001,2.6777215999999999,2.9,20.3,24.9,0.81526104417670686,172,1.4447999999999999,2.3552,3.8,20.2,23.3,0.86695278969957079,118,1.0030000000000001,0.20491290000000004,2.3950871,2.6,22.3,25.7,0.86770428015564205,196,1.7639999999999998,-3.9999999999997815E-3,1.76]
[null,"2017-03-03",122,22,25.9,0.8494208494208495,100,0.85000000000000009,0.17365500000000003,2.676345,2.85,20.6,24.9,0.82730923694779124,198,1.6631999999999998,2.1368,3.8,20.100000000000001,23.3,0.86266094420600858,129,1.0965,0.22401495000000002,2.3759850500000002,2.6,22.3,25.7,0.86770428015564205,177,1.593,-2.9999999999998916E-3,1.59]
[null,"2017-03-04",123,21.8,25.9,0.84169884169884179,null,null,0,2.9,2.9,20.6,24.9,0.82730923694779124,null,null,3.8,3.8,19.8,23.3,0.84978540772532185,null,null,0,2.6,2.6,22.3,25.7,0.86770428015564205,null,null,1.4,1.4]
[null,"2017-03-05",124,21.8,25.9,0.84169884169884179,null,null,0,2.9,2.9,20.8,24.9,0.83534136546184745,null,null,3.8,3.8,19.7,23.3,0.84549356223175964,null,null,0,2.65,2.65,22.7,25.7,0.88326848249027234,null,null,1.3,1.3]
[null,"2017-03-06",125,22.2,25.9,0.85714285714285721,129,1.0965,0.22401495000000002,2.6259850500000002,2.85,21.4,24.9,0.85943775100401609,256,{"$f":"O91*0.004","v":1.024},2.6760000000000002,3.7,20.2,23.3,0.86695278969957079,228,1.9380000000000002,0.39593340000000005,2.1540665999999997,2.5499999999999998,23,25.7,0.89494163424124518,203,{"$f":"AD91*0.004","v":0.81200000000000006},0.18799999999999994,1]
[null,"2017-03-07",126,22,25.9,0.8494208494208495,120,1.02,0.20838600000000002,null,"ad lib",21.4,24.9,0.85943775100401609,169,1.4196,2.1804000000000001,3.6,20.2,23.3,0.86695278969957079,119,1.0115000000000001,0.20664945000000001,null,"ad lib",22.4,25.7,0.87159533073929962,168,1.5119999999999998,-1.9999999999997797E-3,1.51]
[null,"2017-03-08",127,26.2,25.9,1.0115830115830116,{"$nulls":5},20.8,24.9,0.83534136546184745,92,0.77279999999999993,2.9272,3.7,24.8,23.3,1.0643776824034334,{"$nulls":5},22.2,25.7,0.86381322957198448,136,1.224,0.27600000000000002,1.5]
[null,"2017-03-09",128,27.3,25.9,1.0540540540540542,3,2.5500000000000002E-2,5.2096500000000006E-3,null,null,21.5,24.9,0.86345381526104426,265,2.226,null,"ad lib",25.1,23.3,1.0772532188841202,42,0.35700000000000004,7.2935100000000017E-2,null,null,22.4,25.7,0.87159533073929962,224,2.016,null,"ad lib"]
[null,"2017-03-10",129,27.1,25.9,1.0463320463320465,{"$nulls":5},24.1,24.9,0.96787148594377526,{"$nulls":4},25.9,23.3,1.1115879828326178,{"$nulls":5},26.6,25.7,1.0350194552529184]
[null,"2017-03-11",130]
[null,"2017-03-12",131]
[null,"2017-03-13",132,27.5,25.9,{"$f":"D98/E98","v":1.0617760617760619},{"$nulls":5},25.8,24.9,{"$f":"L98/M98","v":1.036144578313253},{"$nulls":4},26.8,23.3,{"$f":"S98/T98","v":1.150214592274678},{"$nulls":5},27.4,25.7,{"$f":"AA98/AB98","v":1.066147859922179}]
[null,"2017-03-14",133]
[null,"2017-03-15",134,27.7,25.9,1.0694980694980696,{"$nulls":5},25.8,24.9,1.036144578313253,{"$nulls":4},26.6,23.3,1.1416309012875536,{"$nulls":5},27.7,25.7,1.0778210116731517]
[null,"2017-03-16",135]
[null,"2017-03-17",136,27.7,25.9,{"$f":"D102/E102","v":1.0694980694980696},{"$nulls":5},26.4,24.9,{"$f":"L102/M102","v":1.0602409638554218},{"$nulls":4},27.4,23.3,{"$f":"S102/T102","v":1.1759656652360515},{"$nulls":5},28.4,25.7,{"$f":"AA102/AB102","v":1.1050583657587549}]
[null,"2017-03-18",137]
[null,"2017-03-19",138]
[null,"2017-03-20",139,28.9,25.9,{"$f":"D105/E105","v":1.1158301158301158},{"$nulls":5},27.4,24.9,{"$f":"L105/M105","v":1.1004016064257027},{"$nulls":4},26.8,23.3,{"$f":"S105/T105","v":1.150214592274678},{"$nulls":5},28.5,25.7,{"$f":"AA105/AB105","v":1.1089494163424125}]
[null,"2017-03-21",139]
[null,"2017-03-22",139]
[null,"2017-03-23",139]
[null,"2017-03-24",139]
[null,"2017-03-25",139]
[null,"2017-03-26",139]
[null,"2017-03-27",139]
[null,"2017-03-28",139,28.8,25.9,{"$f":"D113/E113","v":1.111969111969112},{"$nulls":5},26.6,24.9,{"$f":"L113/M113","v":1.0682730923694781},{"$nulls":4},27.6,23.3,{"$f":"S113/T113","v":1.1845493562231759},{"$nulls":5},28.9,25.7,{"$f":"AA113/AB113","v":1.1245136186770428}]

{"sheet":"W09-W12","index":2,"n_rows":113,"n_cols":33,"rows_kept":113,"cut":false,"hidden":false,"merged":[]}
[]
[null,"Weight overview mice W09, W10, W11, W12"]
[]
[{"$nulls":8},"gram",{"$nulls":14},"gram"]
[null,null,null,"W09",21.8,null,null,"ml","soy to","gram",null,"W10",21.3,null,null,"ml","ml",null,"W11",21.3,null,null,"ml","soy to","gram",null,"W12",21.5,null,null,"ml","ml"]
[null,"Day","Age","Weight","Ref","%","Drops","Task","chow","Suppl","Total","Weight","Ref","%","Drops","Task","Suppl","Total","Weight","Ref","%","Drops","Task","chow","Suppl","Total","Weight","Ref","%","Drops","Task","Suppl","Total"]
[null,"2016-12-12",41,22.2,21.9,{"$f":"D7/E7","v":1.0136986301369864},{"$nulls":5},21.1,22,{"$f":"L7/M7","v":0.95909090909090911},{"$nulls":4},21.8,22.3,{"$f":"S7/T7","v":0.97757847533632292},{"$nulls":5},21.7,21.7,{"$f":"AA7/AB7","v":1}]
[null,"2016-12-13",42,22.1,21.9,1.0091324200913243,{"$nulls":5},22.3,22,1.0136363636363637,{"$nulls":4},22.5,22.3,1.0089686098654709,{"$nulls":5},21.8,21.7,1.0046082949308757]
[null,"2016-12-14",43,22.2,21.9,1.0136986301369864,{"$nulls":5},22.6,22,1.0272727272727273,{"$nulls":4},22.4,22.3,1.0044843049327354,{"$nulls":5},22.1,21.7,1.0184331797235024]
[null,"2016-12-15",44,21.1,21.9,0.96347031963470331,{"$nulls":5},21.9,22,0.99545454545454537,{"$nulls":4},22.3,22.3,1,{"$nulls":5},21.3,21.7,0.98156682027649778]
[null,"2016-12-16",45,20,21.9,0.91324200913242015,{"$nulls":5},20.9,22,0.95,{"$nulls":4},20.9,22.3,0.93721973094170397,{"$nulls":5},20.2,21.7,0.93087557603686633]
[null,"2016-12-17",46,21.7,21.9,0.9908675799086758,{"$nulls":5},21.9,22,0.99545454545454537,{"$nulls":4},21.5,22.3,0.9641255605381166,{"$nulls":5},19.899999999999999,21.7,0.91705069124423955]
[null,"2016-12-18",47,22.2,21.9,1.0136986301369864,{"$nulls":5},22.7,22,1.0318181818181817,{"$nulls":4},22.3,22.3,1,{"$nulls":5},20.8,21.7,0.95852534562211988]
[null,"2016-12-19",48,22.8,21.9,1.0410958904109591,{"$nulls":5},23.3,22,1.0590909090909091,{"$nulls":4},23,22.3,1.0313901345291479,{"$nulls":5},21.9,21.7,1.0092165898617511]
[null,"2016-12-20",49,23.5,21.9,1.0730593607305936,{"$nulls":5},23.8,22,1.0818181818181818,{"$nulls":4},23.8,22.3,1.0672645739910314,{"$nulls":5},22.3,21.7,1.0276497695852536]
[null,"2016-12-21",50,23.5,21.9,1.0730593607305936,{"$nulls":5},23.2,22,1.0545454545454545,{"$nulls":4},23,22.3,1.0313901345291479,{"$nulls":5},22.6,21.7,1.0414746543778803]
[null,"2016-12-22",51,23.8,21.9,1.08675799086758,{"$nulls":5},23.4,22,1.0636363636363635,{"$nulls":4},22.6,22.3,1.0134529147982063,{"$nulls":5},23.1,21.7,1.0645161290322582]
[null,"2016-12-23",52,23.2,21.9,1.0593607305936072,{"$nulls":5},23.6,22,1.0727272727272728,{"$nulls":4},23.2,22.3,1.0403587443946187,{"$nulls":5},22.8,21.7,1.0506912442396314]
[null,"2016-12-24",53]
[null,"2016-12-25",54]
[null,"2016-12-26",55]
[null,"2016-12-27",56]
[null,"2016-12-28",57]
[null,"2016-12-29",58]
[null,"2016-12-30",59]
[null,"2016-12-31",60]
[null,"2017-01-01",61]
[null,"2017-01-02",62,25.7,25.7,1,null,null,null,2,{"$f":"(I28)+J28","v":2},25.1,25.1,1,null,null,1.57,{"$f":"(P28)+Q28","v":1.57},25,25,1,null,null,null,2,{"$f":"(X28)+Y28","v":2},25.3,25.3,1,null,null,1.57,{"$f":"(AE28)+AF28","v":1.57}]
[null,"2017-01-03",63,22,25.7,0.85603112840466933,null,null,null,2.9,{"$f":"(I29)+J29","v":2.9},23,25.1,0.91633466135458164,null,null,1.57,{"$f":"(P29)+Q29","v":1.57},21.6,25,0.8640000000000001,null,null,null,3,{"$f":"(X29)+Y29","v":3},23.5,25.3,0.92885375494071143,null,null,1.57,{"$f":"(AE29)+AF29","v":1.57}]
[null,"2017-01-04",64,22.3,25.7,0.86770428015564205,null,null,null,2.6,2.6,22.8,25.1,0.9083665338645418,null,null,1.5,1.5,21.6,25,0.8640000000000001,null,null,null,2.5,2.5,22.4,25.3,0.88537549407114613,null,null,1.5,1.5]
[null,"2017-01-05",65,21.1,25.7,0.82101167315175105,null,0.1,{"$f":"H31*0.2043","v":2.0430000000000004E-2},3.3,3.32043,22.5,25.1,0.89641434262948205,null,0.4,1.17,1.5699999999999998,20.3,25,0.81200000000000006,null,0.3,{"$f":"W31*0.2043","v":6.1289999999999997E-2},2.9,2.96129,21.7,25.3,0.85770750988142286,null,0.4,1.17,1.5699999999999998]
[null,"2017-01-06",66,21.7,25.7,0.8443579766536965,null,0.25,{"$f":"H32*0.2043","v":5.1075000000000002E-2},3.3,3.3510749999999998,22.1,25.1,0.88047808764940239,null,0.5,1.07,1.57,20.2,25,0.80799999999999994,null,0.8,{"$f":"W32*0.2043","v":0.16344000000000003},3.5,3.66344,21,25.3,0.83003952569169959,null,0.4,1.9,2.2999999999999998]
[null,"2017-01-07",67,21.6,25.7,0.84046692607003903,null,0.35,7.1504999999999999E-2,3.4,3.4715050000000001,22.2,25.1,0.88446215139442219,null,0.8,0.77,1.57,20.6,25,0.82400000000000007,null,0.8,0.16344000000000003,3.6,3.7634400000000001,21.6,25.3,0.85375494071146252,null,0.56999999999999995,1,1.5699999999999998]
[null,"2017-01-08",68,22.6,25.7,0.87937743190661488,null,null,0,2.7,2.7,22,25.1,0.87649402390438247,null,null,1.57,1.57,21.4,25,0.85599999999999998,null,null,0,3,3,21.9,25.3,0.86561264822134376,null,null,1.57,1.57]
[null,"2017-01-09",69,21.7,25.7,0.8443579766536965,null,0.3,6.1289999999999997E-2,3,3.0612900000000001,22.1,25.1,0.88047808764940239,null,1,0.56999999999999995,1.5699999999999998,20.5,25,0.82,null,0.7,0.14301,3.4,3.5430099999999998,21.9,25.3,0.86561264822134376,null,0.7,0.87,1.5699999999999998]
[null,"2017-01-10",70,21.9,25.7,0.85214007782101164,null,0.3,6.1289999999999997E-2,2.8,2.8612899999999999,22.1,25.1,0.88047808764940239,null,0.75,0.65,1.4,20.7,25,0.82799999999999996,null,0.55000000000000004,0.11236500000000002,3.4,3.512365,21.8,25.3,0.86166007905138342,null,0.55000000000000004,1,1.55]
[null,"2017-01-11",71,21.7,25.7,0.8443579766536965,null,0.15,3.0644999999999999E-2,3.3,3.3306449999999996,22,25.1,0.87649402390438247,null,0.6,0.8,1.4,21.1,25,0.84400000000000008,null,0.4,8.1720000000000015E-2,3.6,3.6817200000000003,21.8,25.3,0.86166007905138342,null,0.7,0.87,1.5699999999999998]
[null,"2017-01-12",72,22,25.7,0.85603112840466933,null,0.6,0.12257999999999999,2.6,2.7225800000000002,21.7,25.1,0.86454183266932261,null,0.7,0.75,1.45,21.2,25,0.84799999999999998,null,0.93,0.18999900000000003,3,3.1899990000000003,21.8,25.3,0.86166007905138342,null,0.8,0.7,1.5]
[null,"2017-01-13",73,21.8,25.7,0.84824902723735418,null,0.85,0.173655,2.4499999999999997,2.6236549999999998,21.5,25.1,0.85657370517928277,null,0.9,{"$f":"R39-P39","v":0.6},1.5,21.4,25,0.85599999999999998,null,1.4,0.28602,2.4,2.6860200000000001,21.9,25.3,0.86561264822134376,null,0.65,{"$f":"AG39-AE39","v":0.79999999999999993},1.45]
[null,"2017-01-14",74,21.5,25.7,0.83657587548638135,null,0.75,0.153225,3.5,3.6532249999999999,21.6,25.1,0.8605577689243028,null,0.8,0.7,1.5,20.9,25,0.83599999999999997,null,1,0.20430000000000001,3.5,3.7042999999999999,21.8,25.3,0.86166007905138342,null,0.5,1,1.5]
[null,"2017-01-15",75,22,25.7,0.85603112840466933,null,1.8,0.36774000000000001,2.7,3.0677400000000001,21.3,25.1,0.84860557768924305,null,1,{"$f":"R41-P41","v":0.55000000000000004},1.55,21.4,25,0.85599999999999998,null,1.95,0.39838499999999999,2.8499999999999996,3.2483849999999999,21.8,25.3,0.86166007905138342,null,0.6,{"$f":"AG41-AE41","v":0.9},1.5]
[null,"2017-01-16",76,21.9,25.7,0.85214007782101164,null,1.6,0.32688000000000006,2.9,3.22688,21.3,25.1,0.84860557768924305,null,0.9,0.65,1.55,21.3,25,0.85199999999999998,null,1.9,0.38817000000000002,2.9,3.28817,21.9,25.3,0.86561264822134376,null,0.6,0.9,1.5]
[null,"2017-01-17",77,21.1,25.7,0.82101167315175105,null,0.94,0.19204199999999999,4.0600000000000005,4.2520420000000003,21.2,25.1,0.84462151394422302,null,0.1,1.5,1.6,20.6,25,0.82400000000000007,null,2.0499999999999998,0.41881499999999999,3.3,3.7188149999999998,21.8,25.3,0.86166007905138342,null,0.45,1.05,1.5]
[null,"2017-01-18",78,23.2,25.7,0.90272373540856032,null,0.46,9.3978000000000006E-2,{"$f":"K44-I44","v":3.4060220000000001},3.5,21.3,25.1,0.84860557768924305,null,0.03,1.57,1.6,21.8,25,0.872,null,3.13,0.639459,{"$f":"Z44-X44","v":2.7105410000000001},3.35,21.8,25.3,0.86166007905138342,null,0.14000000000000001,1.31,1.45]
[null,"2017-01-19",79,22.7,25.7,0.88326848249027234,null,1.69,0.34526699999999999,{"$f":"K45-I45","v":3.1547330000000002},3.5,21.3,25.1,0.84860557768924305,null,0.55000000000000004,1.05,1.6,21.4,25,0.85599999999999998,null,2.83,0.57816900000000004,{"$f":"Z45-X45","v":2.821831},3.4,21.7,25.3,0.85770750988142286,null,0.17,1.23,1.4]
[null,"2017-01-20",80,23,25.7,0.89494163424124518,null,1.21,0.24720300000000001,3.1527970000000001,3.4,21.4,25.1,0.85258964143426286,null,0.78,0.82000000000000006,1.6,21.4,25,0.85599999999999998,null,2.37,0.48419100000000004,2.9158089999999999,3.4,21.7,25.3,0.85770750988142286,null,0.12,1.2799999999999998,1.4]
[null,"2017-01-21",81,23,25.7,0.89494163424124518,null,1.58,0.32279400000000003,2.9772059999999998,3.3,21.2,25.1,0.84462151394422302,null,0.6,1,1.6,21.3,25,0.85199999999999998,null,2,0.40860000000000002,2.9914000000000001,3.4,21.9,25.3,0.86561264822134376,null,0.22,1.1300000000000001,1.35]
[null,"2017-01-22",82,23.3,25.7,0.9066147859922179,null,null,0,3.15,3.15,21.4,25.1,0.85258964143426286,null,null,1.6,1.6,22,25,0.88,null,null,0,3.3,3.3,21.8,25.3,0.86166007905138342,null,null,1.35,1.35]
[null,"2017-01-23",83,23.1,25.7,0.89883268482490275,null,2.46,0.50257799999999997,2.6474219999999997,3.15,21.3,25.1,0.84860557768924305,null,0.42,1.1800000000000002,1.6,21,25,0.84,null,2.4900000000000002,0.50870700000000002,2.9912929999999998,3.5,21.7,25.3,0.85770750988142286,null,0.68,0.67,1.35]
[null,"2017-01-24",84,23.2,25.7,0.90272373540856032,null,1.62,0.33096600000000004,2.6690339999999999,3,21.3,25.1,0.84860557768924305,null,0.68,0.92,1.6,21.3,25,0.85199999999999998,null,2.93,0.5985990000000001,2.8014009999999998,3.4,21.4,25.3,0.84584980237154139,null,0.49,0.90999999999999992,1.4]
[null,"2017-01-25",85,23.1,25.7,0.89883268482490275,null,1.5,0.30645,2.6935500000000001,3,21.5,25.1,0.85657370517928277,null,0.68,0.92,1.6,21.6,25,0.8640000000000001,null,1.86,0.37999800000000006,2.970002,3.35,20.9,25.3,0.82608695652173902,null,0.32,1.23,1.55]
[null,"2017-01-26",86,23,25.7,0.89494163424124518,null,1.55,0.31666500000000003,2.5833349999999999,2.9,21.3,25.1,0.84860557768924305,null,0.5,1.1000000000000001,1.6,21.7,25,0.86799999999999999,null,2.3199999999999998,0.47397600000000001,2.8260239999999999,3.3,21.3,25.3,0.84189723320158105,null,0.15,1.4000000000000001,1.55]
[null,"2017-01-27",87,22.4,25.7,0.87159533073929962,165,{"$f":"G53*0.0085","v":1.4025000000000001},0.28653075000000006,2.6134692499999996,2.9,21.6,25.1,0.8605577689243028,70,{"$f":"O53*0.0084","v":0.58799999999999997},0.91200000000000003,1.5,21.1,25,0.84400000000000008,115,{"$f":"V53*0.0085","v":0.97750000000000004},0.19970325000000003,3.1502967499999999,3.35,21.2,25.3,0.83794466403162049,72,{"$f":"AD53*0.009","v":0.64799999999999991},0.95200000000000018,1.6]
[null,"2017-01-28",88,22.4,25.7,0.87159533073929962,243,{"$f":"G54*0.0085","v":2.0655000000000001},0.42198165000000004,2.3780183499999996,2.8,21.5,25.1,0.85657370517928277,58,{"$f":"O54*0.0084","v":0.48719999999999997},1.0127999999999999,1.5,21.4,25,0.85599999999999998,185,{"$f":"V54*0.0085","v":1.5725},0.32126175000000001,2.9787382499999997,3.3,21.1,25.3,0.83399209486166015,51,{"$f":"AD54*0.009","v":0.45899999999999996},1.1909999999999998,1.65]
[null,"2017-01-29",89,22.8,25.7,0.88715953307393003,null,null,0,2.7,2.7,21.6,25.1,0.8605577689243028,null,null,1.45,1.45,21.5,25,0.86,null,null,0,3.2,3.2,21.4,25.3,0.84584980237154139,null,null,1.6,1.6]
[null,"2017-01-30",90,22.1,25.7,0.8599221789883269,127,1.0795000000000001,0.22054185000000004,2.4794581500000001,2.7,21.9,25.1,0.87250996015936244,75,0.63,0.76999999999999991,1.4,20.9,25,0.83599999999999997,85,0.72250000000000003,0.14760675000000001,3.1523932499999998,3.3,21.8,25.3,0.86166007905138342,113,1.0169999999999999,0.53300000000000014,1.55]
[null,"2017-01-31",91,22.4,25.7,0.87159533073929962,131,1.1135000000000002,0.22748805000000005,2.4225119499999996,2.65,21.8,25.1,0.86852589641434264,73,0.61319999999999997,0.78679999999999994,1.4,21.6,25,0.8640000000000001,61,0.51850000000000007,0.10592955000000003,3.1440704500000001,3.25,21.7,25.3,0.85770750988142286,130,1.17,0.38000000000000012,1.55]
[null,"2017-02-01",92,21.9,25.7,0.85214007782101164,127,1.0795000000000001,0.22054185000000004,2.4794581500000001,2.7,21.6,25.1,0.8605577689243028,119,0.99959999999999993,0.40039999999999998,1.4,21.1,25,0.84400000000000008,58,0.49300000000000005,0.10071990000000001,3.1492800999999999,3.25,21.5,25.3,0.84980237154150196,115,1.0349999999999999,0.51500000000000012,1.55]
[null,"2017-02-02",93,21.4,25.7,0.83268482490272366,138,1.173,0.23964390000000002,2.5603560999999999,2.8,21.4,25.1,0.85258964143426286,162,1.3608,3.9199999999999902E-2,1.4,20.8,25,0.83200000000000007,37,0.3145,6.425235E-2,3.23574765,3.3,21.5,25.3,0.84980237154150196,64,0.57599999999999996,0.97400000000000009,1.55]
[null,"2017-02-03",94,21.5,25.7,{"$f":"D60/E60","v":0.83657587548638135},138,1.173,0.23964390000000002,2.6603561,2.9,20.9,25.1,{"$f":"L60/M60","v":0.83266932270916327},111,0.9323999999999999,0.51760000000000006,1.45,20.9,25,{"$f":"S60/T60","v":0.83599999999999997},86,0.73100000000000009,0.14934330000000004,3.2006567000000001,3.35,21.6,25.3,{"$f":"AA60/AB60","v":0.85375494071146252},35,0.315,1.2350000000000001,1.55]
[null,"2017-02-04",95,21.6,25.7,0.84046692607003903,144,1.2240000000000002,0.25006320000000004,2.6499367999999999,2.9,21,25.1,0.83665338645418319,46,0.38639999999999997,1.0636000000000001,1.45,21,25,0.84,89,0.75650000000000006,0.15455295000000002,3.1954470500000003,3.35,22,25.3,0.86956521739130432,15,0.13499999999999998,1.3149999999999999,1.45]
[null,"2017-02-05",96,21.3,25.7,0.8287937743190662,null,null,0,3,3,21.2,25.1,0.84462151394422302,null,null,1.45,1.45,21.3,25,0.85199999999999998,null,null,0,3.3,3.3,22.1,25.3,0.87351778656126489,null,null,1.4,1.4]
["                                                ","2017-02-06",97,21.1,25.7,0.82101167315175105,138,1.173,0.23964390000000002,2.8603561000000002,3.1,21.7,25.1,0.86454183266932261,83,0.69719999999999993,0.70279999999999998,1.4,21,25,0.84,98,0.83300000000000007,0.17018190000000002,3.1798180999999999,3.35,22.2,25.3,0.87747035573122523,17,0.153,1.147,1.3]
[null,"2017-02-07",98,21.8,25.7,0.84824902723735418,135,1.1475000000000002,0.23443425000000004,2.8155657499999998,3.05,21.4,25.1,0.85258964143426286,133,1.1172,0.30279999999999996,1.42,21.4,25,0.85599999999999998,94,0.79900000000000004,0.16323570000000001,3.1367642999999998,3.3,22,25.3,0.86956521739130432,63,0.56699999999999995,0.7330000000000001,1.3]
[null,"2017-02-08",99,21.7,25.7,0.8443579766536965,140,1.1900000000000002,0.24311700000000006,2.8368829999999998,3.08,21.2,25.1,0.84462151394422302,107,0.89879999999999993,0.55120000000000002,1.45,22.2,25,0.88800000000000001,81,0.6885,0.14066055,3.0593394500000004,3.2,21.8,25.3,0.86166007905138342,62,0.55799999999999994,0.7420000000000001,1.3]
[null,"2017-02-09",100,21.8,25.7,0.84824902723735418,127,1.0795000000000001,0.22054185000000004,2.85945815,3.08,21.1,25.1,0.84063745019920322,144,1.2096,0.27039999999999997,1.48,21.8,25,0.872,71,0.60350000000000004,0.12329505000000002,3.0767049500000003,3.2,21.6,25.3,0.85375494071146252,38,0.34199999999999997,1.008,1.35]
[null,"2017-02-10",101,22,25.7,0.85603112840466933,119,1.0115000000000001,0.20664945000000001,2.8433505499999998,3.05,21.1,25.1,0.84063745019920322,156,1.3104,0.16959999999999997,1.48,22,25,0.88,119,1.0115000000000001,0.20664945000000001,2.8933505500000001,3.1,21.6,25.3,0.85375494071146252,42,0.37799999999999995,0.9720000000000002,1.35]
[null,"2017-02-11",102,22.1,25.7,0.8599221789883269,152,1.292,0.26395560000000001,2.7360443999999999,3,20.7,25.1,0.82470119521912344,161,1.3523999999999998,0.19760000000000022,1.55,22,25,0.88,118,1.0030000000000001,0.20491290000000004,2.7950870999999999,3,21.6,25.3,0.85375494071146252,68,0.61199999999999999,0.7380000000000001,1.35]
[null,"2017-02-12",103,22.1,25.7,0.8599221789883269,137,1.1645000000000001,0.23790735000000002,2.7120926500000002,2.95,20.7,25.1,0.82470119521912344,148,1.2431999999999999,0.35680000000000023,1.6,22.1,25,0.88400000000000001,131,1.1135000000000002,0.22748805000000005,2.6725119499999996,2.9,21.5,25.3,0.84980237154150196,57,0.51300000000000001,0.83700000000000008,1.35]
[null,"2017-02-13",104,22.1,25.7,0.8599221789883269,175,1.4875,0.30389625000000003,2.5961037499999997,2.9,20.5,25.1,0.81673306772908361,151,1.2684,0.53160000000000007,1.8,22.1,25,0.88400000000000001,123,1.0455000000000001,0.21359565000000003,2.4864043499999999,2.7,21.4,25.3,0.84584980237154139,66,0.59399999999999997,0.80599999999999994,1.4]
[null,"2017-02-14",105,22.2,25.7,0.86381322957198448,174,1.4790000000000001,0.30215970000000003,2.5478402999999998,2.85,20.8,25.1,0.82868525896414336,165,1.3859999999999999,0.46400000000000019,1.85,21.8,25,0.872,167,1.4195000000000002,0.29000385000000006,2.40999615,2.7,21.3,25.3,0.84189723320158105,115,1.0349999999999999,0.41500000000000004,1.45]
[null,"2017-02-15",106,22.3,25.7,0.86770428015564205,216,1.8360000000000001,0.37509480000000001,2.3749052000000002,2.75,20.9,25.1,0.83266932270916327,173,1.4531999999999998,0.49680000000000013,1.95,21.9,25,0.87599999999999989,147,1.2495000000000001,0.25527285,2.2947271499999999,2.5499999999999998,21,25.3,0.83003952569169959,90,0.80999999999999994,0.7400000000000001,1.55]
[null,"2017-02-16",107,22.2,25.7,0.86381322957198448,207,1.7595000000000001,0.35946585000000003,2.3905341500000001,2.75,21,25.1,0.83665338645418319,180,1.512,0.48799999999999999,2,21.2,25,0.84799999999999998,187,1.5895000000000001,0.32473485000000002,2.3752651500000002,2.7,21,25.3,0.83003952569169959,82,0.73799999999999999,0.96199999999999997,1.7]
[null,"2017-02-17",108,21.9,25.7,0.85214007782101164,237,2.0145,0.41156235000000002,2.3384376499999999,2.75,20.9,25.1,0.83266932270916327,236,1.9823999999999999,0.11760000000000015,2.1,20.7,25,0.82799999999999996,188,1.5980000000000001,0.32647140000000002,2.5735285999999999,2.9,21,25.3,0.83003952569169959,96,0.86399999999999988,0.98600000000000021,1.85]
[null,"2017-02-18",109,22.2,25.7,0.86381322957198448,239,2.0315000000000003,0.41503545000000008,2.2849645500000002,2.7,21.1,25.1,0.84063745019920322,188,1.5791999999999999,0.52080000000000015,2.1,21.4,25,0.85599999999999998,183,1.5555000000000001,0.31778865000000006,2.4822113499999996,2.8,21.1,25.3,0.83399209486166015,83,0.747,1.153,1.9]
[null,"2017-02-19",110,21.7,25.7,0.8443579766536965,null,null,0,2.75,2.75,21.2,25.1,0.84462151394422302,null,null,2.1,2.1,21,25,0.84,null,null,0,2.85,2.85,21.2,25.3,0.83794466403162049,null,null,1.95,1.95]
[null,"2017-02-20",111,21.8,25.7,0.84824902723735418,253,2.1505000000000001,0.43934715000000002,2.3106528499999999,2.75,22.2,25.1,0.88446215139442219,162,1.3608,0.58919999999999995,1.95,20.100000000000001,25,0.80400000000000005,199,1.6915000000000002,0.34557345000000006,2.8544265500000003,3.2,21.7,25.3,0.85770750988142286,51,0.45899999999999996,1.4910000000000001,1.95]
[null,"2017-02-21",112,22,25.7,0.85603112840466933,287,2.4395000000000002,0.49838985000000008,2.2516101499999999,2.75,22.2,25.1,0.88446215139442219,196,1.6463999999999999,0.25360000000000005,1.9,21.4,25,0.85599999999999998,190,1.6150000000000002,0.32994450000000008,2.5700554999999996,2.9,21.8,25.3,0.86166007905138342,62,0.55799999999999994,1.3420000000000001,1.9]
[null,"2017-02-22",113,21.9,25.7,0.85214007782101164,277,2.3545000000000003,0.4810243500000001,2.2689756499999998,2.75,22.2,25.1,0.88446215139442219,200,1.68,0.12000000000000011,1.8,21.1,25,0.84400000000000008,214,1.8190000000000002,0.37162170000000005,2.6283783000000001,3,21.7,25.3,0.85770750988142286,76,0.68399999999999994,1.216,1.9]
[null,"2017-02-23",114,21.8,25.7,0.84824902723735418,278,2.36,0.48214800000000002,2.3178519999999998,2.8,22,25.1,{"$f":"L80/M80","v":0.87649402390438247},159,{"$f":"O80*0.0084","v":1.3355999999999999},0.4144000000000001,1.75,21,25,{"$f":"S80/T80","v":0.84},195,1.6575000000000002,0.33862725000000005,2.7113727499999998,3.05,21.6,25.3,0.85375494071146252,80,0.72,1.18,1.9]
[null,"2017-02-24",115,21.9,25.7,0.85214007782101164,281,2.3885000000000001,0.48797055000000006,2.26202945,2.75,22,25.1,0.87649402390438247,175,1.47,0.17999999999999994,1.65,21,25,0.84,184,1.5640000000000001,0.31952520000000001,2.7804747999999999,3.1,21.6,25.3,0.85375494071146252,99,0.8909999999999999,0.95900000000000019,1.85]
[null,"2017-02-25",116,21.6,25.7,0.84046692607003903,281,2.3885000000000001,0.48797055000000006,2.3120294499999998,2.8,21.7,25.1,0.86454183266932261,199,1.6716,-1.6000000000000458E-3,1.67,21,25,0.84,176,1.496,0.30563280000000004,2.7943671999999999,3.1,21.4,25.3,0.84584980237154139,72,0.64799999999999991,1.252,1.9]
[null,"2017-02-26",117,21.6,25.7,0.84046692607003903,null,null,0,2.85,2.85,21.7,25.1,0.86454183266932261,null,null,1.6,1.6,21.3,25,0.85199999999999998,null,null,0,3.1,3.1,21.5,25.3,0.84980237154150196,null,null,1.9,1.9]
[null,"2017-02-27",118,21.8,25.7,0.84824902723735418,244,2.0740000000000003,0.4237182000000001,2.3762817999999997,2.8,22.3,25.1,0.88844621513944222,171,1.4363999999999999,3.6000000000000476E-3,1.44,20.8,25,0.83200000000000007,191,1.6235000000000002,0.33168105000000003,2.8683189499999999,3.2,21.4,25.3,0.84584980237154139,73,0.65699999999999992,1.2429999999999999,1.9]
[null,"2017-02-28",119,21.9,25.7,0.85214007782101164,258,2.1930000000000001,0.44802990000000004,2.3519701,2.8,22.1,25.1,0.88047808764940239,223,1.8732,-3.1999999999998696E-3,1.87,21,25,0.84,199,1.6915000000000002,0.34557345000000006,2.8544265500000003,3.2,21.5,25.3,0.84980237154150196,54,0.48599999999999999,1.4139999999999999,1.9]
[null,"2017-03-01",120,21.3,25.7,{"$f":"D86/E86","v":0.8287937743190662},190,{"$f":"G86*0.0085","v":1.6150000000000002},{"$f":"H86*0.2043","v":0.32994450000000008},{"$f":"K86-I86","v":2.6700555000000001},3,22.1,25.1,{"$f":"L86/M86","v":0.88047808764940239},190,{"$f":"O86*0.0084","v":1.5959999999999999},{"$f":"R86-P86","v":4.0000000000002256E-3},1.6,21.4,25,{"$f":"S86/T86","v":0.85599999999999998},163,{"$f":"V86*0.0085","v":1.3855000000000002},{"$f":"W86*0.2043","v":0.28305765000000005},{"$f":"Z86-X86","v":2.8169423500000002},3.1,21.6,25.3,{"$f":"AA86/AB86","v":0.85375494071146252},60,{"$f":"AD86*0.009","v":0.53999999999999992},{"$f":"AG86-AE86","v":1.31},1.85]
[null,"2017-03-02",121,21.8,25.7,0.84824902723735418,212,1.802,0.36814860000000005,2.5318513999999999,2.9,22,25.1,0.87649402390438247,175,1.47,0,1.47,21.3,25,0.85199999999999998,156,1.3260000000000001,0.27090180000000003,2.8290982000000002,3.1,21.8,25.3,0.86166007905138342,56,0.504,1.296,1.8]
[null,"2017-03-03",122,21.7,25.7,0.8443579766536965,227,1.9295000000000002,0.39419685000000004,2.5058031499999998,2.9,22,25.1,0.87649402390438247,188,1.5791999999999999,8.0000000000013394E-4,1.58,21.4,25,0.85599999999999998,144,1.2240000000000002,0.25006320000000004,2.8499368,3.1,21.9,25.3,0.86561264822134376,67,0.60299999999999998,1.097,1.7]
[null,"2017-03-04",123,21.3,25.7,0.8287937743190662,null,null,0,3.1,3.1,21.8,25.1,0.86852589641434264,null,null,1.5,1.5,20.7,25,0.82799999999999996,null,null,0,3.3,3.3,21.7,25.3,0.85770750988142286,null,null,1.7,1.7]
[null,"2017-03-05",124,21.5,25.7,0.83657587548638135,null,null,0,3.1,3.1,22,25.1,0.87649402390438247,null,null,1.4,1.4,20.8,25,0.83200000000000007,null,null,0,3.3,3.3,21.7,25.3,0.85770750988142286,null,null,1.7,1.7]
[null,"2017-03-06",125,21.7,25.7,0.8443579766536965,228,1.9380000000000002,0.39593340000000005,2.6540665999999997,3.05,22.1,25.1,0.88047808764940239,172,{"$f":"O91*0.004","v":0.68800000000000006},0.5119999999999999,1.2,20.7,25,0.82799999999999996,126,1.0710000000000002,0.21880530000000004,3.1811946999999998,3.4,21.8,25.3,0.86166007905138342,102,0.91799999999999993,0.68200000000000016,1.6]
[null,"2017-03-07",126,22.6,25.7,0.87937743190661488,585,4.9725000000000001,1.0158817500000001,null,"ad lib",21,25.1,0.83665338645418319,164,1.3775999999999999,2.3999999999999577E-3,1.38,22,25,0.88,135,1.1475000000000002,0.23443425000000004,null,"ad lib",21.5,25.3,0.84980237154150196,84,0.75599999999999989,0.89400000000000002,1.65]
[null,"2017-03-08",127,27.1,25.7,1.0544747081712063,{"$nulls":5},21.4,25.1,0.85258964143426286,135,1.1339999999999999,0.16600000000000015,1.3,27.9,25,1.1159999999999999,{"$nulls":5},21.3,25.3,0.84189723320158105,229,2.0609999999999999,-9.9999999999988987E-4,2.06]
[null,"2017-03-09",128,27.5,25.7,1.0700389105058365,6,5.1000000000000004E-2,1.0419300000000001E-2,null,null,21.4,25.1,0.85258964143426286,275,2.31,null,"ad lib",27.8,25,1.1120000000000001,9,7.6500000000000012E-2,1.5628950000000003E-2,null,null,20.5,25.3,0.81027667984189722,230,2.0699999999999998,null,"ad lib"]
[null,"2017-03-10",129,27.7,25.7,1.0778210116731517,{"$nulls":5},26,25.1,1.0358565737051793,{"$nulls":4},28.6,25,1.1440000000000001,{"$nulls":5},23.9,25.3,0.94466403162055324]
[null,"2017-03-11",130]
[null,"2017-03-12",131]
[null,"2017-03-13",132,27.7,25.7,{"$f":"D98/E98","v":1.0778210116731517},{"$nulls":5},27,25.1,{"$f":"L98/M98","v":1.0756972111553784},{"$nulls":4},28.3,25,{"$f":"S98/T98","v":1.1320000000000001},{"$nulls":5},25.6,25.3,{"$f":"AA98/AB98","v":1.0118577075098814}]
[null,"2017-03-14",133]
[null,"2017-03-15",134,27.6,25.7,1.0739299610894943,{"$nulls":5},26.9,25.1,1.0717131474103585,{"$nulls":4},28.5,25,1.1399999999999999,{"$nulls":5},26,25.3,1.0276679841897234]
[null,"2017-03-16",135]
[null,"2017-03-17",136,27.1,25.7,{"$f":"D102/E102","v":1.0544747081712063},{"$nulls":5},27,25.1,{"$f":"L102/M102","v":1.0756972111553784},{"$nulls":4},28.2,25,{"$f":"S102/T102","v":1.1279999999999999},{"$nulls":5},26.6,25.3,{"$f":"AA102/AB102","v":1.0513833992094861}]
[null,"2017-03-18",137]
[null,"2017-03-19",138]
[null,"2017-03-20",139,28,25.7,{"$f":"D105/E105","v":1.0894941634241246},{"$nulls":5},27.2,25.1,{"$f":"L105/M105","v":1.0836653386454183},{"$nulls":4},28.6,25,{"$f":"S105/T105","v":1.1440000000000001},{"$nulls":5},27.1,25.3,{"$f":"AA105/AB105","v":1.0711462450592886}]
[null,"2017-03-21",139]
[null,"2017-03-22",139]
[null,"2017-03-23",139]
[null,"2017-03-24",139]
[null,"2017-03-25",139]
[null,"2017-03-26",139]
[null,"2017-03-27",139]
[null,"2017-03-28",139,28,25.7,{"$f":"D113/E113","v":1.0894941634241246},{"$nulls":5},28.8,25.1,{"$f":"L113/M113","v":1.1474103585657369},{"$nulls":4},29.2,25,{"$f":"S113/T113","v":1.1679999999999999},{"$nulls":5},28.6,25.3,{"$f":"AA113/AB113","v":1.1304347826086958}]

{"sheet":"3-6-7-14","index":3,"n_rows":113,"n_cols":32,"rows_kept":113,"cut":false,"hidden":false,"merged":[]}
[]
[null,"Weight overview mice 3-6-7-14"]
[]
[]
[null,null,null,3,{"$nulls":7},6,{"$nulls":6},7,{"$nulls":7},14]
[null,"Day","Age","Weight","Ref","%","Task","Suppl","Total",null,null,"Weight","Ref","%","Task","Suppl","Total",null,"Weight","Ref","%","Task","Suppl","Total",null,null,"Weight","Ref","%","Task","Suppl","Total"]
[null,"2016-12-12",41,20.5,21,{"$f":"D7/E7","v":0.97619047619047616},{"$nulls":5},21.6,21.7,{"$f":"L7/M7","v":0.99539170506912455},{"$nulls":4},18.100000000000001,18.8,{"$f":"S7/T7","v":0.9627659574468086},{"$nulls":5},21.1,21.5,{"$f":"AA7/AB7","v":0.98139534883720936}]
[null,"2016-12-13",42,21,21,1,{"$nulls":5},21.8,21.7,1.0046082949308757,{"$nulls":4},19,18.8,1.0106382978723405,{"$nulls":5},21.6,21.5,1.0046511627906978]
[null,"2016-12-14",43,21.4,21,1.019047619047619,{"$nulls":5},21.6,21.7,0.99539170506912455,{"$nulls":4},19.2,18.8,1.0212765957446808,{"$nulls":5},21.8,21.5,1.0139534883720931]
[null,"2016-12-15",44]
[null,"2016-12-16",45,21.7,21,1.0333333333333332,{"$nulls":5},19.3,21.7,0.88940092165898621,{"$nulls":4},21.1,18.8,1.1223404255319149,{"$nulls":5},22.2,21.5,1.0325581395348837]
[null,"2016-12-17",46]
[null,"2016-12-18",47,22.2,21,1.0571428571428572,{"$nulls":5},18.899999999999999,21.7,0.87096774193548387,{"$nulls":4},21.8,18.8,1.1595744680851063,{"$nulls":5},22.6,21.5,1.0511627906976744]
[null,"2016-12-19",48,22.3,21,1.0619047619047619,{"$nulls":5},21,21.7,0.967741935483871,{"$nulls":4},22.5,18.8,1.1968085106382977,{"$nulls":5},22.4,21.5,1.0418604651162791]
[null,"2016-12-20",49,22.5,21,1.0714285714285714,{"$nulls":5},23.6,21.7,1.0875576036866361,{"$nulls":4},23.1,18.8,1.2287234042553192,{"$nulls":5},23.2,21.5,1.0790697674418603]
[null,"2016-12-21",50,22.8,21,1.0857142857142859,{"$nulls":5},23.7,21.7,1.0921658986175116,{"$nulls":4},23.8,18.8,1.2659574468085106,{"$nulls":5},23.1,21.5,1.0744186046511628]
[null,"2016-12-22",51,23,21,1.0952380952380953,{"$nulls":5},24.2,21.7,1.1152073732718895,{"$nulls":4},25.8,18.8,1.3723404255319149,{"$nulls":5},23.1,21.5,1.0744186046511628]
[null,"2016-12-23",52,22.5,21,1.0714285714285714,{"$nulls":5},24,21.7,1.1059907834101383,{"$nulls":4},25,18.8,1.3297872340425532,{"$nulls":5},23,21.5,1.069767441860465]
[null,"2016-12-24",53]
[null,"2016-12-25",54]
[null,"2016-12-26",55]
[null,"2016-12-27",56]
[null,"2016-12-28",57]
[null,"2016-12-29",58]
[null,"2016-12-30",59]
[null,"2016-12-31",60]
[null,"2017-01-01",61]
[null,"2017-01-02",62,23.3,23.3,1,null,null,{"$f":"(G28*0.01)+H28","v":0},null,null,24.7,24.7,1,null,null,{"$f":"(O28*0.01)+P28","v":0},null,24.6,24.6,1,null,null,{"$f":"(V28*0.01)+W28","v":0},null,null,23.8,23.8,1,null,null,{"$f":"(AD28*0.01)+AE28","v":0}]
[null,"2017-01-03",63,24.6,23.3,1.055793991416309,null,null,0,null,null,25.4,24.7,1.0283400809716599,null,null,0,null,25.7,24.6,1.0447154471544715,null,null,0,null,null,24.8,23.8,1.0420168067226891,null,null,0]
[null,"2017-01-04",64,23.8,23.3,1.0214592274678111,null,null,0,null,null,25.3,24.7,1.0242914979757085,null,null,0,null,25.7,24.6,1.0447154471544715,null,null,0,null,null,24.8,23.8,1.0420168067226891,null,null,0]
[null,"2017-01-05",65,23.8,23.3,1.0214592274678111,null,null,0,null,null,25.3,24.7,1.0242914979757085,null,null,0,null,25.7,24.6,1.0447154471544715,null,null,0,null,null,24.7,23.8,1.03781512605042,null,null,0]
[null,"2017-01-06",66,24.5,23.3,1.0515021459227467,null,null,0,null,null,25.7,24.7,1.0404858299595141,null,null,0,null,25.7,24.6,1.0447154471544715,null,null,0,null,null,24.5,23.8,1.0294117647058822,null,null,0]
[null,"2017-01-07",67,24.8,23.3,1.0643776824034334,null,null,0,null,null,25.9,24.7,1.048582995951417,null,null,0,null,25.9,24.6,1.0528455284552845,null,null,0,null,null,24.4,23.8,1.0252100840336134,null,null,0]
[null,"2017-01-08",68,25,23.3,1.0729613733905579,null,null,0,null,null,25.5,24.7,1.0323886639676114,null,null,0,null,25.7,24.6,1.0447154471544715,null,null,0,null,null,24.2,23.8,1.0168067226890756,null,null,0]
[null,"2017-01-09",69,24.6,23.3,1.055793991416309,null,null,0,null,null,25.8,24.7,1.0445344129554657,null,null,0,null,26.5,24.6,1.0772357723577235,null,null,0,null,null,24.7,23.8,1.03781512605042,null,null,0]
[null,"2017-01-10",70,24.7,23.3,1.0600858369098711,null,null,0,null,null,26,24.7,1.0526315789473684,null,null,0,null,26.1,24.6,1.0609756097560976,null,null,0,null,null,25,23.8,1.0504201680672269,null,null,0]
[null,"2017-01-11",71,24.7,23.3,1.0600858369098711,null,null,0,null,null,26.1,24.7,1.0566801619433199,null,null,0,null,26,24.6,1.056910569105691,null,null,0,null,null,25,23.8,1.0504201680672269,null,null,0]
[null,"2017-01-12",72,24.7,23.3,1.0600858369098711,null,null,0,null,null,26.6,24.7,1.0769230769230771,null,null,0,null,26,24.6,1.056910569105691,null,null,0,null,null,24.6,23.8,1.0336134453781514,null,null,0]
[null,"2017-01-13",73,24.8,23.3,1.0643776824034334,null,null,0,null,null,26,24.7,1.0526315789473684,null,null,0,null,27,24.6,1.097560975609756,null,null,0,null,null,25.2,23.8,1.0588235294117647,null,null,0]
[null,"2017-01-14",74,24.4,23.3,1.0472103004291844,null,null,0,null,null,26.3,24.7,1.0647773279352228,null,null,0,null,26.5,24.6,1.0772357723577235,null,null,0,null,null,25,23.8,1.0504201680672269,null,null,0]
[null,"2017-01-15",75,24.6,23.3,1.055793991416309,null,null,0,null,null,26.1,24.7,1.0566801619433199,null,null,{"$f":"(O41*0.01)+P41","v":0},null,26.5,24.6,1.0772357723577235,null,null,{"$f":"(V41*0.01)+W41","v":0},null,null,24.9,23.8,1.0462184873949578,null,null,{"$f":"(AD41*0.01)+AE41","v":0}]
[null,"2017-01-16",76,25.3,23.3,1.0858369098712446,null,null,0,null,null,26.5,24.7,1.0728744939271255,null,null,{"$f":"(O42*0.01)+P42","v":0},null,26.7,24.6,1.0853658536585364,null,null,{"$f":"(V42*0.01)+W42","v":0},null,null,24.9,23.8,1.0462184873949578,null,null,{"$f":"(AD42*0.01)+AE42","v":0}]
[null,"2017-01-17",77,null,23.3,null,null,null,0,null,null,null,24.7,{"$nulls":18},0]
[null,"2017-01-18",78,null,23.3,null,null,null,0,null,null,null,24.7,{"$nulls":18},0]
[null,"2017-01-19",79,null,23.3,null,null,null,0,null,null,null,24.7,{"$nulls":18},0]
[null,"2017-01-20",80,null,23.3,null,null,null,0,null,null,null,24.7,{"$nulls":18},0]
[null,"2017-01-21",81,null,23.3,null,null,null,0,null,null,null,24.7,{"$nulls":18},0]
[null,"2017-01-22",82,null,23.3,null,null,null,0,null,null,null,24.7,{"$nulls":18},0]
[null,"2017-01-23",83,25.6,23.3,1.0987124463519313,null,null,0,null,null,27.5,24.7,1.1133603238866396,null,null,0,null,27,24.6,1.097560975609756,null,null,0,null,null,25.6,23.8,1.0756302521008403,null,null,0]
[null,"2017-01-24",84,null,23.3,null,null,null,0,null,null,null,24.7,{"$nulls":18},0]
[null,"2017-01-25",85,null,23.3,null,null,null,0,null,null,null,24.7,{"$nulls":18},0]
[null,"2017-01-26",86,null,23.3,null,null,null,0,null,null,null,24.7,{"$nulls":18},0]
[null,"2017-01-27",87,null,23.3,null,null,null,0,null,null,null,24.7,{"$nulls":18},0]
[null,"2017-01-28",88,null,23.3,null,null,null,0,null,null,null,24.7,{"$nulls":18},0]
[null,"2017-01-29",89,null,23.3,null,null,null,0,null,null,null,24.7,{"$nulls":18},0]
[null,"2017-01-30",90,25.7,23.3,1.1030042918454934,null,null,0,null,null,27,24.7,1.0931174089068827,null,null,0,null,27.2,24.6,1.1056910569105689,null,null,0,null,null,25.9,23.8,1.088235294117647,null,null,0]
[null,"2017-01-31",91,null,23.3,null,null,null,0,null,null,null,24.7,{"$nulls":18},0]
[null,"2017-02-01",92,null,23.3,null,null,null,0,null,null,null,24.7,{"$nulls":18},0]
[null,"2017-02-02",93,null,23.3,null,null,null,0,null,null,null,24.7,{"$nulls":18},0]
[null,"2017-02-03",94,null,23.3,null,null,null,{"$f":"(G60*0.01)+H60","v":0},null,null,null,24.7,{"$nulls":18},0]
[null,"2017-02-04",95,null,23.3,null,null,null,0,null,null,null,24.7,{"$nulls":18},0]
[null,"2017-02-05",96,null,23.3,null,null,null,0,null,null,null,24.7,{"$nulls":18},0]
[null,"2017-02-06",97,25.5,23.3,1.094420600858369,null,null,0,null,null,27.2,24.7,1.1012145748987854,null,null,0,null,27.2,24.6,1.1056910569105689,null,null,0,null,null,26.3,23.8,1.1050420168067228,null,null,0]
[null,"2017-02-07",98,null,23.3,null,null,null,0,null,null,null,24.7,{"$nulls":18},0]
[null,"2017-02-08",99,null,23.3,null,null,null,0,null,null,null,24.7,{"$nulls":18},0]
[null,"2017-02-09",100,null,23.3,null,null,null,0,null,null,null,24.7,{"$nulls":18},0]
[null,"2017-02-10",101,null,23.3,null,null,null,0,null,null,null,24.7,{"$nulls":18},0]
[null,"2017-02-11",102,null,23.3,null,null,null,0,null,null,null,24.7,{"$nulls":18},0]
[null,"2017-02-12",103,null,23.3,null,null,null,0,null,null,null,24.7,{"$nulls":18},0]
[null,"2017-02-13",104,25.8,23.3,1.1072961373390557,null,null,0,null,null,28.2,24.7,1.1417004048582995,null,null,0,null,27.5,24.6,1.1178861788617886,null,null,0,null,null,26.3,23.8,1.1050420168067228,null,null,0]
[null,"2017-02-14",105,null,23.3,null,null,null,0,null,null,null,24.7,{"$nulls":18},0]
[null,"2017-02-15",106,null,23.3,null,null,null,0,null,null,null,24.7,{"$nulls":18},0]
[null,"2017-02-16",107,null,23.3,null,null,null,0,null,null,null,24.7,{"$nulls":18},0]
[null,"2017-02-17",108,null,23.3,null,null,null,0,null,null,null,24.7,{"$nulls":18},0]
[null,"2017-02-18",109,null,23.3,null,null,null,0,null,null,null,24.7,{"$nulls":18},0]
[null,"2017-02-19",110,null,23.3,null,null,null,0,null,null,null,24.7,{"$nulls":18},0]
[null,"2017-02-20",111,26.3,23.3,{"$f":"D77/E77","v":1.1287553648068669},null,null,0,null,null,28.1,24.7,{"$f":"L77/M77","v":1.1376518218623484},null,null,0,null,28.3,24.6,{"$f":"S77/T77","v":1.1504065040650406},null,null,0,null,null,26.7,23.8,{"$f":"AA77/AB77","v":1.1218487394957983},null,null,0]
[null,"2017-02-21",112,null,23.3,null,null,null,0,null,null,null,24.7,{"$nulls":18},0]
[null,"2017-02-22",113,null,23.3,null,null,null,0,null,null,null,24.7,{"$nulls":18},0]
[null,"2017-02-23",114,null,23.3,null,null,null,0,null,null,null,24.7,{"$nulls":18},0]
[null,"2017-02-24",115,null,23.3,null,null,null,0,null,null,null,24.7,{"$nulls":18},0]
[null,"2017-02-25",116,null,23.3,null,null,null,0,null,null,null,24.7,{"$nulls":18},0]
[null,"2017-02-26",117,null,23.3,null,null,null,0,null,null,null,24.7,{"$nulls":18},0]
[null,"2017-02-27",118,26,23.3,1.1158798283261802,null,null,0,null,null,29.1,24.7,1.1781376518218625,null,null,0,null,28.2,24.6,1.1463414634146341,null,null,0,null,null,27.1,23.8,1.1386554621848739,null,null,0]
[null,"2017-02-28",119,null,23.3,null,null,null,0,null,null,null,24.7,{"$nulls":18},0]
[null,"2017-03-01",120,null,23.3,null,null,null,0,null,null,null,24.7,{"$nulls":18},{"$f":"(AD86*0.01)+AE86","v":0}]
[null,"2017-03-02",121,null,23.3,null,null,null,0,null,null,null,24.7,{"$nulls":18},0]
[null,"2017-03-03",122,null,23.3,null,null,null,0,null,null,null,24.7,{"$nulls":18},0]
[null,"2017-03-04",123,null,23.3,null,null,null,0,null,null,null,24.7,{"$nulls":18},0]
[null,"2017-03-05",124,null,23.3,null,null,null,0,null,null,null,24.7,{"$nulls":18},0]
[null,"2017-03-06",125,null,23.3,null,null,null,0,null,null,null,24.7,{"$nulls":18},0]
[null,"2017-03-07",126,26.6,23.3,{"$f":"D92/E92","v":1.1416309012875536},null,null,{"$f":"(G92*0.01)+H92","v":0},null,null,29.2,24.7,{"$f":"L92/M92","v":1.1821862348178138},null,null,{"$f":"(O92*0.01)+P92","v":0},null,28.7,24.6,{"$f":"S92/T92","v":1.1666666666666665},null,null,{"$f":"(V92*0.01)+W92","v":0},null,null,27.5,23.8,{"$f":"AA92/AB92","v":1.1554621848739495},null,null,0]
[null,"2017-03-08",127,null,23.3,null,null,null,0,null,null,null,24.7,null,null,null,0,null,null,24.6,null,null,null,0,null,null,null,23.8,null,null,null,0]
[null,"2017-03-09",128,null,23.3,null,null,null,0,null,null,null,24.7,null,null,null,0,null,null,24.6,null,null,null,0,null,null,null,23.8,null,null,null,0]
[null,"2017-03-10",129,null,23.3,null,null,null,0,null,null,null,24.7,null,null,null,0,null,null,24.6,null,null,null,0,null,null,null,23.8,null,null,null,0]
[null,"2017-03-11",130,null,23.3,null,null,null,0,null,null,null,24.7,null,null,null,{"$f":"(O96*0.01)+P96","v":0},null,null,24.6,null,null,null,{"$f":"(V96*0.01)+W96","v":0},null,null,null,23.8,null,null,null,{"$f":"(AD96*0.01)+AE96","v":0}]
[null,"2017-03-12",131,null,23.3,null,null,null,0,null,null,null,24.7,null,null,null,0,null,null,24.6,null,null,null,0,null,null,null,23.8,null,null,null,0]
[null,"2017-03-13",132,26.3,23.3,{"$f":"D98/E98","v":1.1287553648068669},null,null,0,null,null,28.9,24.7,{"$f":"L98/M98","v":1.1700404858299596},null,null,0,null,28.6,24.6,{"$f":"S98/T98","v":1.1626016260162602},null,null,0,null,null,27.2,23.8,{"$f":"AA98/AB98","v":1.1428571428571428},null,null,0]
[null,"2017-03-14",133,null,23.3,null,null,null,0,null,null,null,24.7,null,null,null,0,null,null,24.6,null,null,null,0,null,null,null,23.8,null,null,null,0]
[null,"2017-03-15",134,null,23.3,null,null,null,0,null,null,null,24.7,null,null,null,0,null,null,24.6,null,null,null,0,null,null,null,23.8,null,null,null,0]
[null,"2017-03-16",135,null,23.3,null,null,null,0,null,null,null,24.7,null,null,null,{"$f":"(O101*0.01)+P101","v":0},null,null,24.6,null,null,null,{"$f":"(V101*0.01)+W101","v":0},null,null,null,23.8,null,null,null,{"$f":"(AD101*0.01)+AE101","v":0}]
[null,"2017-03-17",136,null,23.3,null,null,null,0,null,null,null,24.7,null,null,null,0,null,null,24.6,null,null,null,0,null,null,null,23.8,null,null,null,0]
[null,"2017-03-18",137]
[null,"2017-03-19",138]
[null,"2017-03-20",139,26.6,23.3,{"$f":"D105/E105","v":1.1416309012875536},{"$nulls":5},29.8,24.7,{"$f":"L105/M105","v":1.2064777327935223},{"$nulls":4},28.9,24.6,{"$f":"S105/T105","v":1.1747967479674795},{"$nulls":5},27.6,23.8,{"$f":"AA105/AB105","v":1.1596638655462186}]
[null,"2017-03-21",139]
[null,"2017-03-22",139]
[null,"2017-03-23",139]
[null,"2017-03-24",139]
[null,"2017-03-25",139]
[null,"2017-03-26",139]
[null,"2017-03-27",139]
[null,"2017-03-28",139,28.6,23.3,{"$f":"D113/E113","v":1.2274678111587982},{"$nulls":5},30.2,24.7,{"$f":"L113/M113","v":1.2226720647773279},{"$nulls":4},29.8,24.6,{"$f":"S113/T113","v":1.2113821138211383},{"$nulls":5},28.9,23.8,{"$f":"AA113/AB113","v":1.2142857142857142}]

{"sheet":"Statistics1","index":4,"n_rows":113,"n_cols":10,"rows_kept":113,"cut":false,"hidden":false,"merged":[]}
[]
[]
[null,"Mouse","Stdev 1st 3 days"]
[null,"W01",0.46]
[null,"W02",0.66,null,null,null,"Implanted","Control","Implanted","Control"]
[null,"W03",0.34,null,"Day","Age","Weight","Weight","Weight","Weight"]
[null,"W04",0.4,null,"2016-12-12",41,{"$f":"AVERAGE('W01-W04'!F7,'W01-W04'!N7,'W01-W04'!U7,'W01-W04'!AC7,'W05-W08'!F7,'W05-W08'!N7,'W05-W08'!U7,'W05-W08'!AC7,'W09-W12'!F7,'W09-W12'!N7,'W09-W12'!U7,'W09-W12'!AC7)","v":0.99126522203138645},{"$f":"AVERAGE('3-6-7-14'!F7,'3-6-7-14'!N7,'3-6-7-14'!U7,'3-6-7-14'!AC7)","v":0.9789358718859047},{"$f":"AVERAGE('W01-W04'!D7,'W01-W04'!L7,'W01-W04'!S7,'W01-W04'!AA7,'W05-W08'!D7,'W05-W08'!L7,'W05-W08'!S7,'W05-W08'!AA7,'W09-W12'!D7,'W09-W12'!L7,'W09-W12'!S7,'W09-W12'!AA7)","v":21.900000000000002},{"$f":"AVERAGE('3-6-7-14'!D7,'3-6-7-14'!L7,'3-6-7-14'!S7,'3-6-7-14'!AA7)","v":20.325000000000003}]
[null,"W05",0.26,null,"2016-12-13",42,{"$f":"AVERAGE('W01-W04'!F8,'W01-W04'!N8,'W01-W04'!U8,'W01-W04'!AC8,'W05-W08'!F8,'W05-W08'!N8,'W05-W08'!U8,'W05-W08'!AC8,'W09-W12'!F8,'W09-W12'!N8,'W09-W12'!U8,'W09-W12'!AC8)","v":1.0169631899896239},{"$f":"AVERAGE('3-6-7-14'!F8,'3-6-7-14'!N8,'3-6-7-14'!U8,'3-6-7-14'!AC8)","v":1.0049744388984783},{"$f":"AVERAGE('W01-W04'!D8,'W01-W04'!L8,'W01-W04'!S8,'W01-W04'!AA8,'W05-W08'!D8,'W05-W08'!L8,'W05-W08'!S8,'W05-W08'!AA8,'W09-W12'!D8,'W09-W12'!L8,'W09-W12'!S8,'W09-W12'!AA8)","v":22.466666666666669},{"$f":"AVERAGE('3-6-7-14'!D8,'3-6-7-14'!L8,'3-6-7-14'!S8,'3-6-7-14'!AA8)","v":20.85}]
[null,"W06",0.41,null,"2016-12-14",43,{"$f":"AVERAGE('W01-W04'!F9,'W01-W04'!N9,'W01-W04'!U9,'W01-W04'!AC9,'W05-W08'!F9,'W05-W08'!N9,'W05-W08'!U9,'W05-W08'!AC9,'W09-W12'!F9,'W09-W12'!N9,'W09-W12'!U9,'W09-W12'!AC9)","v":1.0020543311489789},{"$f":"AVERAGE('3-6-7-14'!F9,'3-6-7-14'!N9,'3-6-7-14'!U9,'3-6-7-14'!AC9)","v":1.0124173520583792},{"$f":"AVERAGE('W01-W04'!D9,'W01-W04'!L9,'W01-W04'!S9,'W01-W04'!AA9,'W05-W08'!D9,'W05-W08'!L9,'W05-W08'!S9,'W05-W08'!AA9,'W09-W12'!D9,'W09-W12'!L9,'W09-W12'!S9,'W09-W12'!AA9)","v":22.133333333333336},{"$f":"AVERAGE('3-6-7-14'!D9,'3-6-7-14'!L9,'3-6-7-14'!S9,'3-6-7-14'!AA9)","v":21}]
[null,"W07",0.67,null,"2016-12-15",44,{"$f":"AVERAGE('W01-W04'!F10,'W01-W04'!N10,'W01-W04'!U10,'W01-W04'!AC10,'W05-W08'!F10,'W05-W08'!N10,'W05-W08'!U10,'W05-W08'!AC10,'W09-W12'!F10,'W09-W12'!N10,'W09-W12'!U10,'W09-W12'!AC10)","v":0.96231477501706097},null,{"$f":"AVERAGE('W01-W04'!D10,'W01-W04'!L10,'W01-W04'!S10,'W01-W04'!AA10,'W05-W08'!D10,'W05-W08'!L10,'W05-W08'!S10,'W05-W08'!AA10,'W09-W12'!D10,'W09-W12'!L10,'W09-W12'!S10,'W09-W12'!AA10)","v":21.258333333333336}]
[null,"W08",0.53,null,"2016-12-16",45,{"$f":"AVERAGE('W01-W04'!F11,'W01-W04'!N11,'W01-W04'!U11,'W01-W04'!AC11,'W05-W08'!F11,'W05-W08'!N11,'W05-W08'!U11,'W05-W08'!AC11,'W09-W12'!F11,'W09-W12'!N11,'W09-W12'!U11,'W09-W12'!AC11)","v":0.95719869234442656},{"$f":"AVERAGE('3-6-7-14'!F11,'3-6-7-14'!N11,'3-6-7-14'!U11,'3-6-7-14'!AC11)","v":1.0194082050147795},{"$f":"AVERAGE('W01-W04'!D11,'W01-W04'!L11,'W01-W04'!S11,'W01-W04'!AA11,'W05-W08'!D11,'W05-W08'!L11,'W05-W08'!S11,'W05-W08'!AA11,'W09-W12'!D11,'W09-W12'!L11,'W09-W12'!S11,'W09-W12'!AA11)","v":21.150000000000002},{"$f":"AVERAGE('3-6-7-14'!D11,'3-6-7-14'!L11,'3-6-7-14'!S11,'3-6-7-14'!AA11)","v":21.074999999999999}]
[null,"W09",0.05,null,"2016-12-17",46,{"$f":"AVERAGE('W01-W04'!F12,'W01-W04'!N12,'W01-W04'!U12,'W01-W04'!AC12,'W05-W08'!F12,'W05-W08'!N12,'W05-W08'!U12,'W05-W08'!AC12,'W09-W12'!F12,'W09-W12'!N12,'W09-W12'!U12,'W09-W12'!AC12)","v":0.9859875867736102},null,{"$f":"AVERAGE('W01-W04'!D12,'W01-W04'!L12,'W01-W04'!S12,'W01-W04'!AA12,'W05-W08'!D12,'W05-W08'!L12,'W05-W08'!S12,'W05-W08'!AA12,'W09-W12'!D12,'W09-W12'!L12,'W09-W12'!S12,'W09-W12'!AA12)","v":21.791666666666661}]
[null,"W10",0.65,null,"2016-12-18",47,{"$f":"AVERAGE('W01-W04'!F13,'W01-W04'!N13,'W01-W04'!U13,'W01-W04'!AC13,'W05-W08'!F13,'W05-W08'!N13,'W05-W08'!U13,'W05-W08'!AC13,'W09-W12'!F13,'W09-W12'!N13,'W09-W12'!U13,'W09-W12'!AC13)","v":1.0187433246568989},{"$f":"AVERAGE('3-6-7-14'!F13,'3-6-7-14'!N13,'3-6-7-14'!U13,'3-6-7-14'!AC13)","v":1.0347119644652805},{"$f":"AVERAGE('W01-W04'!D13,'W01-W04'!L13,'W01-W04'!S13,'W01-W04'!AA13,'W05-W08'!D13,'W05-W08'!L13,'W05-W08'!S13,'W05-W08'!AA13,'W09-W12'!D13,'W09-W12'!L13,'W09-W12'!S13,'W09-W12'!AA13)","v":22.508333333333336},{"$f":"AVERAGE('3-6-7-14'!D13,'3-6-7-14'!L13,'3-6-7-14'!S13,'3-6-7-14'!AA13)","v":21.375}]
[null,"W11",0.31,null,"2016-12-19",48,{"$f":"AVERAGE('W01-W04'!F14,'W01-W04'!N14,'W01-W04'!U14,'W01-W04'!AC14,'W05-W08'!F14,'W05-W08'!N14,'W05-W08'!U14,'W05-W08'!AC14,'W09-W12'!F14,'W09-W12'!N14,'W09-W12'!U14,'W09-W12'!AC14)","v":1.0469623515666875},{"$f":"AVERAGE('3-6-7-14'!F14,'3-6-7-14'!N14,'3-6-7-14'!U14,'3-6-7-14'!AC14)","v":1.0670789182858025},{"$f":"AVERAGE('W01-W04'!D14,'W01-W04'!L14,'W01-W04'!S14,'W01-W04'!AA14,'W05-W08'!D14,'W05-W08'!L14,'W05-W08'!S14,'W05-W08'!AA14,'W09-W12'!D14,'W09-W12'!L14,'W09-W12'!S14,'W09-W12'!AA14)","v":23.125},{"$f":"AVERAGE('3-6-7-14'!D14,'3-6-7-14'!L14,'3-6-7-14'!S14,'3-6-7-14'!AA14)","v":22.049999999999997}]
[null,"W12",0.17,null,"2016-12-20",49,{"$f":"AVERAGE('W01-W04'!F15,'W01-W04'!N15,'W01-W04'!U15,'W01-W04'!AC15,'W05-W08'!F15,'W05-W08'!N15,'W05-W08'!U15,'W05-W08'!AC15,'W09-W12'!F15,'W09-W12'!N15,'W09-W12'!U15,'W09-W12'!AC15)","v":1.0699172914035016},{"$f":"AVERAGE('3-6-7-14'!F15,'3-6-7-14'!N15,'3-6-7-14'!U15,'3-6-7-14'!AC15)","v":1.1166948367030969},{"$f":"AVERAGE('W01-W04'!D15,'W01-W04'!L15,'W01-W04'!S15,'W01-W04'!AA15,'W05-W08'!D15,'W05-W08'!L15,'W05-W08'!S15,'W05-W08'!AA15,'W09-W12'!D15,'W09-W12'!L15,'W09-W12'!S15,'W09-W12'!AA15)","v":23.633333333333336},{"$f":"AVERAGE('3-6-7-14'!D15,'3-6-7-14'!L15,'3-6-7-14'!S15,'3-6-7-14'!AA15)","v":23.1}]
[null,"Average stdev",{"$f":"AVERAGE(C4:C15)","v":0.40916666666666668},null,"2016-12-21",50,{"$f":"AVERAGE('W01-W04'!F16,'W01-W04'!N16,'W01-W04'!U16,'W01-W04'!AC16,'W05-W08'!F16,'W05-W08'!N16,'W05-W08'!U16,'W05-W08'!AC16,'W09-W12'!F16,'W09-W12'!N16,'W09-W12'!U16,'W09-W12'!AC16)","v":1.0677342486035994},{"$f":"AVERAGE('3-6-7-14'!F16,'3-6-7-14'!N16,'3-6-7-14'!U16,'3-6-7-14'!AC16)","v":1.1295640589478677},{"$f":"AVERAGE('W01-W04'!D16,'W01-W04'!L16,'W01-W04'!S16,'W01-W04'!AA16,'W05-W08'!D16,'W05-W08'!L16,'W05-W08'!S16,'W05-W08'!AA16,'W09-W12'!D16,'W09-W12'!L16,'W09-W12'!S16,'W09-W12'!AA16)","v":23.583333333333332},{"$f":"AVERAGE('3-6-7-14'!D16,'3-6-7-14'!L16,'3-6-7-14'!S16,'3-6-7-14'!AA16)","v":23.35}]
[null,"Range stdev","0.05 - 0.67",null,"2016-12-22",51,{"$f":"AVERAGE('W01-W04'!F17,'W01-W04'!N17,'W01-W04'!U17,'W01-W04'!AC17,'W05-W08'!F17,'W05-W08'!N17,'W05-W08'!U17,'W05-W08'!AC17,'W09-W12'!F17,'W09-W12'!N17,'W09-W12'!U17,'W09-W12'!AC17)","v":1.0573785434849003},{"$f":"AVERAGE('3-6-7-14'!F17,'3-6-7-14'!N17,'3-6-7-14'!U17,'3-6-7-14'!AC17)","v":1.1643011246732655},{"$f":"AVERAGE('W01-W04'!D17,'W01-W04'!L17,'W01-W04'!S17,'W01-W04'!AA17,'W05-W08'!D17,'W05-W08'!L17,'W05-W08'!S17,'W05-W08'!AA17,'W09-W12'!D17,'W09-W12'!L17,'W09-W12'!S17,'W09-W12'!AA17)","v":23.350000000000005},{"$f":"AVERAGE('3-6-7-14'!D17,'3-6-7-14'!L17,'3-6-7-14'!S17,'3-6-7-14'!AA17)","v":24.024999999999999}]
[{"$nulls":4},"2016-12-23",52,{"$f":"AVERAGE('W01-W04'!F18,'W01-W04'!N18,'W01-W04'!U18,'W01-W04'!AC18,'W05-W08'!F18,'W05-W08'!N18,'W05-W08'!U18,'W05-W08'!AC18,'W09-W12'!F18,'W09-W12'!N18,'W09-W12'!U18,'W09-W12'!AC18)","v":1.0594790393569731},{"$f":"AVERAGE('3-6-7-14'!F18,'3-6-7-14'!N18,'3-6-7-14'!U18,'3-6-7-14'!AC18)","v":1.144243507685432},{"$f":"AVERAGE('W01-W04'!D18,'W01-W04'!L18,'W01-W04'!S18,'W01-W04'!AA18,'W05-W08'!D18,'W05-W08'!L18,'W05-W08'!S18,'W05-W08'!AA18,'W09-W12'!D18,'W09-W12'!L18,'W09-W12'!S18,'W09-W12'!AA18)","v":23.400000000000002},{"$f":"AVERAGE('3-6-7-14'!D18,'3-6-7-14'!L18,'3-6-7-14'!S18,'3-6-7-14'!AA18)","v":23.625}]
[{"$nulls":4},"2016-12-24",53]
[{"$nulls":4},"2016-12-25",54]
[{"$nulls":4},"2016-12-26",55]
[{"$nulls":4},"2016-12-27",56]
[{"$nulls":4},"2016-12-28",57]
[{"$nulls":4},"2016-12-29",58]
[{"$nulls":4},"2016-12-30",59]
[{"$nulls":4},"2016-12-31",60]
[{"$nulls":4},"2017-01-01",61]
[{"$nulls":4},"2017-01-02",62,{"$f":"AVERAGE('W01-W04'!F28,'W01-W04'!N28,'W01-W04'!U28,'W01-W04'!AC28,'W05-W08'!F28,'W05-W08'!N28,'W05-W08'!U28,'W05-W08'!AC28,'W09-W12'!F28,'W09-W12'!N28,'W09-W12'!U28,'W09-W12'!AC28)","v":1},{"$f":"AVERAGE('3-6-7-14'!F28,'3-6-7-14'!N28,'3-6-7-14'!U28,'3-6-7-14'!AC28)","v":1},{"$f":"AVERAGE('W01-W04'!D28,'W01-W04'!L28,'W01-W04'!S28,'W01-W04'!AA28,'W05-W08'!D28,'W05-W08'!L28,'W05-W08'!S28,'W05-W08'!AA28,'W09-W12'!D28,'W09-W12'!L28,'W09-W12'!S28,'W09-W12'!AA28)","v":25.191666666666666},{"$f":"AVERAGE('3-6-7-14'!D28,'3-6-7-14'!L28,'3-6-7-14'!S28,'3-6-7-14'!AA28)","v":24.099999999999998}]
[{"$nulls":4},"2017-01-03",63,{"$f":"AVERAGE('W01-W04'!F29,'W01-W04'!N29,'W01-W04'!U29,'W01-W04'!AC29,'W05-W08'!F29,'W05-W08'!N29,'W05-W08'!U29,'W05-W08'!AC29,'W09-W12'!F29,'W09-W12'!N29,'W09-W12'!U29,'W09-W12'!AC29)","v":0.88673430539300213},{"$f":"AVERAGE('3-6-7-14'!F29,'3-6-7-14'!N29,'3-6-7-14'!U29,'3-6-7-14'!AC29)","v":1.0427165815662824},{"$f":"AVERAGE('W01-W04'!D29,'W01-W04'!L29,'W01-W04'!S29,'W01-W04'!AA29,'W05-W08'!D29,'W05-W08'!L29,'W05-W08'!S29,'W05-W08'!AA29,'W09-W12'!D29,'W09-W12'!L29,'W09-W12'!S29,'W09-W12'!AA29)","v":22.333333333333332},{"$f":"AVERAGE('3-6-7-14'!D29,'3-6-7-14'!L29,'3-6-7-14'!S29,'3-6-7-14'!AA29)","v":25.125}]
[{"$nulls":4},"2017-01-04",64,{"$f":"AVERAGE('W01-W04'!F30,'W01-W04'!N30,'W01-W04'!U30,'W01-W04'!AC30,'W05-W08'!F30,'W05-W08'!N30,'W05-W08'!U30,'W05-W08'!AC30,'W09-W12'!F30,'W09-W12'!N30,'W09-W12'!U30,'W09-W12'!AC30)","v":0.87212829137091263},{"$f":"AVERAGE('3-6-7-14'!F30,'3-6-7-14'!N30,'3-6-7-14'!U30,'3-6-7-14'!AC30)","v":1.03312074483017},{"$f":"AVERAGE('W01-W04'!D30,'W01-W04'!L30,'W01-W04'!S30,'W01-W04'!AA30,'W05-W08'!D30,'W05-W08'!L30,'W05-W08'!S30,'W05-W08'!AA30,'W09-W12'!D30,'W09-W12'!L30,'W09-W12'!S30,'W09-W12'!AA30)","v":21.966666666666669},{"$f":"AVERAGE('3-6-7-14'!D30,'3-6-7-14'!L30,'3-6-7-14'!S30,'3-6-7-14'!AA30)","v":24.9}]
[{"$nulls":4},"2017-01-05",65,{"$f":"AVERAGE('W01-W04'!F31,'W01-W04'!N31,'W01-W04'!U31,'W01-W04'!AC31,'W05-W08'!F31,'W05-W08'!N31,'W05-W08'!U31,'W05-W08'!AC31,'W09-W12'!F31,'W09-W12'!N31,'W09-W12'!U31,'W09-W12'!AC31)","v":0.84805840317385373},{"$f":"AVERAGE('3-6-7-14'!F31,'3-6-7-14'!N31,'3-6-7-14'!U31,'3-6-7-14'!AC31)","v":1.0320703246621028},{"$f":"AVERAGE('W01-W04'!D31,'W01-W04'!L31,'W01-W04'!S31,'W01-W04'!AA31,'W05-W08'!D31,'W05-W08'!L31,'W05-W08'!S31,'W05-W08'!AA31,'W09-W12'!D31,'W09-W12'!L31,'W09-W12'!S31,'W09-W12'!AA31)","v":21.358333333333334},{"$f":"AVERAGE('3-6-7-14'!D31,'3-6-7-14'!L31,'3-6-7-14'!S31,'3-6-7-14'!AA31)","v":24.875}]
[{"$nulls":4},"2017-01-06",66,{"$f":"AVERAGE('W01-W04'!F32,'W01-W04'!N32,'W01-W04'!U32,'W01-W04'!AC32,'W05-W08'!F32,'W05-W08'!N32,'W05-W08'!U32,'W05-W08'!AC32,'W09-W12'!F32,'W09-W12'!N32,'W09-W12'!U32,'W09-W12'!AC32)","v":0.84759657598573224},{"$f":"AVERAGE('3-6-7-14'!F32,'3-6-7-14'!N32,'3-6-7-14'!U32,'3-6-7-14'!AC32)","v":1.0415287969356537},{"$f":"AVERAGE('W01-W04'!D32,'W01-W04'!L32,'W01-W04'!S32,'W01-W04'!AA32,'W05-W08'!D32,'W05-W08'!L32,'W05-W08'!S32,'W05-W08'!AA32,'W09-W12'!D32,'W09-W12'!L32,'W09-W12'!S32,'W09-W12'!AA32)","v":21.349999999999994},{"$f":"AVERAGE('3-6-7-14'!D32,'3-6-7-14'!L32,'3-6-7-14'!S32,'3-6-7-14'!AA32)","v":25.1}]
[{"$nulls":4},"2017-01-07",67,{"$f":"AVERAGE('W01-W04'!F33,'W01-W04'!N33,'W01-W04'!U33,'W01-W04'!AC33,'W05-W08'!F33,'W05-W08'!N33,'W05-W08'!U33,'W05-W08'!AC33,'W09-W12'!F33,'W09-W12'!N33,'W09-W12'!U33,'W09-W12'!AC33)","v":0.84547781885155093},{"$f":"AVERAGE('3-6-7-14'!F33,'3-6-7-14'!N33,'3-6-7-14'!U33,'3-6-7-14'!AC33)","v":1.0477540727109371},{"$f":"AVERAGE('W01-W04'!D33,'W01-W04'!L33,'W01-W04'!S33,'W01-W04'!AA33,'W05-W08'!D33,'W05-W08'!L33,'W05-W08'!S33,'W05-W08'!AA33,'W09-W12'!D33,'W09-W12'!L33,'W09-W12'!S33,'W09-W12'!AA33)","v":21.299999999999997},{"$f":"AVERAGE('3-6-7-14'!D33,'3-6-7-14'!L33,'3-6-7-14'!S33,'3-6-7-14'!AA33)","v":25.25}]
[{"$nulls":4},"2017-01-08",68,{"$f":"AVERAGE('W01-W04'!F34,'W01-W04'!N34,'W01-W04'!U34,'W01-W04'!AC34,'W05-W08'!F34,'W05-W08'!N34,'W05-W08'!U34,'W05-W08'!AC34,'W09-W12'!F34,'W09-W12'!N34,'W09-W12'!U34,'W09-W12'!AC34)","v":0.86351463841612863},{"$f":"AVERAGE('3-6-7-14'!F34,'3-6-7-14'!N34,'3-6-7-14'!U34,'3-6-7-14'!AC34)","v":1.0417180518004292},{"$f":"AVERAGE('W01-W04'!D34,'W01-W04'!L34,'W01-W04'!S34,'W01-W04'!AA34,'W05-W08'!D34,'W05-W08'!L34,'W05-W08'!S34,'W05-W08'!AA34,'W09-W12'!D34,'W09-W12'!L34,'W09-W12'!S34,'W09-W12'!AA34)","v":21.75},{"$f":"AVERAGE('3-6-7-14'!D34,'3-6-7-14'!L34,'3-6-7-14'!S34,'3-6-7-14'!AA34)","v":25.1}]
[{"$nulls":4},"2017-01-09",69,{"$f":"AVERAGE('W01-W04'!F35,'W01-W04'!N35,'W01-W04'!U35,'W01-W04'!AC35,'W05-W08'!F35,'W05-W08'!N35,'W05-W08'!U35,'W05-W08'!AC35,'W09-W12'!F35,'W09-W12'!N35,'W09-W12'!U35,'W09-W12'!AC35)","v":0.85215380754959968},{"$f":"AVERAGE('3-6-7-14'!F35,'3-6-7-14'!N35,'3-6-7-14'!U35,'3-6-7-14'!AC35)","v":1.0538448256949795},{"$f":"AVERAGE('W01-W04'!D35,'W01-W04'!L35,'W01-W04'!S35,'W01-W04'!AA35,'W05-W08'!D35,'W05-W08'!L35,'W05-W08'!S35,'W05-W08'!AA35,'W09-W12'!D35,'W09-W12'!L35,'W09-W12'!S35,'W09-W12'!AA35)","v":21.466666666666669},{"$f":"AVERAGE('3-6-7-14'!D35,'3-6-7-14'!L35,'3-6-7-14'!S35,'3-6-7-14'!AA35)","v":25.400000000000002}]
[{"$nulls":4},"2017-01-10",70,{"$f":"AVERAGE('W01-W04'!F36,'W01-W04'!N36,'W01-W04'!U36,'W01-W04'!AC36,'W05-W08'!F36,'W05-W08'!N36,'W05-W08'!U36,'W05-W08'!AC36,'W09-W12'!F36,'W09-W12'!N36,'W09-W12'!U36,'W09-W12'!AC36)","v":0.85810617859485172},{"$f":"AVERAGE('3-6-7-14'!F36,'3-6-7-14'!N36,'3-6-7-14'!U36,'3-6-7-14'!AC36)","v":1.056028298420141},{"$f":"AVERAGE('W01-W04'!D36,'W01-W04'!L36,'W01-W04'!S36,'W01-W04'!AA36,'W05-W08'!D36,'W05-W08'!L36,'W05-W08'!S36,'W05-W08'!AA36,'W09-W12'!D36,'W09-W12'!L36,'W09-W12'!S36,'W09-W12'!AA36)","v":21.616666666666664},{"$f":"AVERAGE('3-6-7-14'!D36,'3-6-7-14'!L36,'3-6-7-14'!S36,'3-6-7-14'!AA36)","v":25.450000000000003}]
[{"$nulls":4},"2017-01-11",71,{"$f":"AVERAGE('W01-W04'!F37,'W01-W04'!N37,'W01-W04'!U37,'W01-W04'!AC37,'W05-W08'!F37,'W05-W08'!N37,'W05-W08'!U37,'W05-W08'!AC37,'W09-W12'!F37,'W09-W12'!N37,'W09-W12'!U37,'W09-W12'!AC37)","v":0.85676798236581142},{"$f":"AVERAGE('3-6-7-14'!F37,'3-6-7-14'!N37,'3-6-7-14'!U37,'3-6-7-14'!AC37)","v":1.0560241840065272},{"$f":"AVERAGE('W01-W04'!D37,'W01-W04'!L37,'W01-W04'!S37,'W01-W04'!AA37,'W05-W08'!D37,'W05-W08'!L37,'W05-W08'!S37,'W05-W08'!AA37,'W09-W12'!D37,'W09-W12'!L37,'W09-W12'!S37,'W09-W12'!AA37)","v":21.583333333333332},{"$f":"AVERAGE('3-6-7-14'!D37,'3-6-7-14'!L37,'3-6-7-14'!S37,'3-6-7-14'!AA37)","v":25.45}]
[{"$nulls":4},"2017-01-12",72,{"$f":"AVERAGE('W01-W04'!F38,'W01-W04'!N38,'W01-W04'!U38,'W01-W04'!AC38,'W05-W08'!F38,'W05-W08'!N38,'W05-W08'!U38,'W05-W08'!AC38,'W09-W12'!F38,'W09-W12'!N38,'W09-W12'!U38,'W09-W12'!AC38)","v":0.85772677505363493},{"$f":"AVERAGE('3-6-7-14'!F38,'3-6-7-14'!N38,'3-6-7-14'!U38,'3-6-7-14'!AC38)","v":1.0568832320791977},{"$f":"AVERAGE('W01-W04'!D38,'W01-W04'!L38,'W01-W04'!S38,'W01-W04'!AA38,'W05-W08'!D38,'W05-W08'!L38,'W05-W08'!S38,'W05-W08'!AA38,'W09-W12'!D38,'W09-W12'!L38,'W09-W12'!S38,'W09-W12'!AA38)","v":21.608333333333331},{"$f":"AVERAGE('3-6-7-14'!D38,'3-6-7-14'!L38,'3-6-7-14'!S38,'3-6-7-14'!AA38)","v":25.475000000000001}]
[{"$nulls":4},"2017-01-13",73,{"$f":"AVERAGE('W01-W04'!F39,'W01-W04'!N39,'W01-W04'!U39,'W01-W04'!AC39,'W05-W08'!F39,'W05-W08'!N39,'W05-W08'!U39,'W05-W08'!AC39,'W09-W12'!F39,'W09-W12'!N39,'W09-W12'!U39,'W09-W12'!AC39)","v":0.8613808705408168},{"$f":"AVERAGE('3-6-7-14'!F39,'3-6-7-14'!N39,'3-6-7-14'!U39,'3-6-7-14'!AC39)","v":1.0683484415930806},{"$f":"AVERAGE('W01-W04'!D39,'W01-W04'!L39,'W01-W04'!S39,'W01-W04'!AA39,'W05-W08'!D39,'W05-W08'!L39,'W05-W08'!S39,'W05-W08'!AA39,'W09-W12'!D39,'W09-W12'!L39,'W09-W12'!S39,'W09-W12'!AA39)","v":21.700000000000003},{"$f":"AVERAGE('3-6-7-14'!D39,'3-6-7-14'!L39,'3-6-7-14'!S39,'3-6-7-14'!AA39)","v":25.75}]
[{"$nulls":4},"2017-01-14",74,{"$f":"AVERAGE('W01-W04'!F40,'W01-W04'!N40,'W01-W04'!U40,'W01-W04'!AC40,'W05-W08'!F40,'W05-W08'!N40,'W05-W08'!U40,'W05-W08'!AC40,'W09-W12'!F40,'W09-W12'!N40,'W09-W12'!U40,'W09-W12'!AC40)","v":0.85536449502013878},{"$f":"AVERAGE('3-6-7-14'!F40,'3-6-7-14'!N40,'3-6-7-14'!U40,'3-6-7-14'!AC40)","v":1.0599108921973395},{"$f":"AVERAGE('W01-W04'!D40,'W01-W04'!L40,'W01-W04'!S40,'W01-W04'!AA40,'W05-W08'!D40,'W05-W08'!L40,'W05-W08'!S40,'W05-W08'!AA40,'W09-W12'!D40,'W09-W12'!L40,'W09-W12'!S40,'W09-W12'!AA40)","v":21.549999999999997},{"$f":"AVERAGE('3-6-7-14'!D40,'3-6-7-14'!L40,'3-6-7-14'!S40,'3-6-7-14'!AA40)","v":25.55}]
[{"$nulls":4},"2017-01-15",75,{"$f":"AVERAGE('W01-W04'!F41,'W01-W04'!N41,'W01-W04'!U41,'W01-W04'!AC41,'W05-W08'!F41,'W05-W08'!N41,'W05-W08'!U41,'W05-W08'!AC41,'W09-W12'!F41,'W09-W12'!N41,'W09-W12'!U41,'W09-W12'!AC41)","v":0.85965886400436997},{"$f":"AVERAGE('3-6-7-14'!F41,'3-6-7-14'!N41,'3-6-7-14'!U41,'3-6-7-14'!AC41)","v":1.0589821032780775},{"$f":"AVERAGE('W01-W04'!D41,'W01-W04'!L41,'W01-W04'!S41,'W01-W04'!AA41,'W05-W08'!D41,'W05-W08'!L41,'W05-W08'!S41,'W05-W08'!AA41,'W09-W12'!D41,'W09-W12'!L41,'W09-W12'!S41,'W09-W12'!AA41)","v":21.658333333333331},{"$f":"AVERAGE('3-6-7-14'!D41,'3-6-7-14'!L41,'3-6-7-14'!S41,'3-6-7-14'!AA41)","v":25.524999999999999}]
[{"$nulls":4},"2017-01-16",76,{"$f":"AVERAGE('W01-W04'!F42,'W01-W04'!N42,'W01-W04'!U42,'W01-W04'!AC42,'W05-W08'!F42,'W05-W08'!N42,'W05-W08'!U42,'W05-W08'!AC42,'W09-W12'!F42,'W09-W12'!N42,'W09-W12'!U42,'W09-W12'!AC42)","v":0.8545828099384577},{"$f":"AVERAGE('3-6-7-14'!F42,'3-6-7-14'!N42,'3-6-7-14'!U42,'3-6-7-14'!AC42)","v":1.072573936212966},{"$f":"AVERAGE('W01-W04'!D42,'W01-W04'!L42,'W01-W04'!S42,'W01-W04'!AA42,'W05-W08'!D42,'W05-W08'!L42,'W05-W08'!S42,'W05-W08'!AA42,'W09-W12'!D42,'W09-W12'!L42,'W09-W12'!S42,'W09-W12'!AA42)","v":21.533333333333331},{"$f":"AVERAGE('3-6-7-14'!D42,'3-6-7-14'!L42,'3-6-7-14'!S42,'3-6-7-14'!AA42)","v":25.85}]
[{"$nulls":4},"2017-01-17",77,{"$f":"AVERAGE('W01-W04'!F43,'W01-W04'!N43,'W01-W04'!U43,'W01-W04'!AC43,'W05-W08'!F43,'W05-W08'!N43,'W05-W08'!U43,'W05-W08'!AC43,'W09-W12'!F43,'W09-W12'!N43,'W09-W12'!U43,'W09-W12'!AC43)","v":0.84539659720977189},null,{"$f":"AVERAGE('W01-W04'!D43,'W01-W04'!L43,'W01-W04'!S43,'W01-W04'!AA43,'W05-W08'!D43,'W05-W08'!L43,'W05-W08'!S43,'W05-W08'!AA43,'W09-W12'!D43,'W09-W12'!L43,'W09-W12'!S43,'W09-W12'!AA43)","v":21.299999999999997}]
[{"$nulls":4},"2017-01-18",78,{"$f":"AVERAGE('W01-W04'!F44,'W01-W04'!N44,'W01-W04'!U44,'W01-W04'!AC44,'W05-W08'!F44,'W05-W08'!N44,'W05-W08'!U44,'W05-W08'!AC44,'W09-W12'!F44,'W09-W12'!N44,'W09-W12'!U44,'W09-W12'!AC44)","v":0.8660252303455237},null,{"$f":"AVERAGE('W01-W04'!D44,'W01-W04'!L44,'W01-W04'!S44,'W01-W04'!AA44,'W05-W08'!D44,'W05-W08'!L44,'W05-W08'!S44,'W05-W08'!AA44,'W09-W12'!D44,'W09-W12'!L44,'W09-W12'!S44,'W09-W12'!AA44)","v":21.816666666666666}]
[{"$nulls":4},"2017-01-19",79,{"$f":"AVERAGE('W01-W04'!F45,'W01-W04'!N45,'W01-W04'!U45,'W01-W04'!AC45,'W05-W08'!F45,'W05-W08'!N45,'W05-W08'!U45,'W05-W08'!AC45,'W09-W12'!F45,'W09-W12'!N45,'W09-W12'!U45,'W09-W12'!AC45)","v":0.86103204601560535},null,{"$f":"AVERAGE('W01-W04'!D45,'W01-W04'!L45,'W01-W04'!S45,'W01-W04'!AA45,'W05-W08'!D45,'W05-W08'!L45,'W05-W08'!S45,'W05-W08'!AA45,'W09-W12'!D45,'W09-W12'!L45,'W09-W12'!S45,'W09-W12'!AA45)","v":21.691666666666666}]
[{"$nulls":4},"2017-01-20",80,{"$f":"AVERAGE('W01-W04'!F46,'W01-W04'!N46,'W01-W04'!U46,'W01-W04'!AC46,'W05-W08'!F46,'W05-W08'!N46,'W05-W08'!U46,'W05-W08'!AC46,'W09-W12'!F46,'W09-W12'!N46,'W09-W12'!U46,'W09-W12'!AC46)","v":0.85624429159476045},null,{"$f":"AVERAGE('W01-W04'!D46,'W01-W04'!L46,'W01-W04'!S46,'W01-W04'!AA46,'W05-W08'!D46,'W05-W08'!L46,'W05-W08'!S46,'W05-W08'!AA46,'W09-W12'!D46,'W09-W12'!L46,'W09-W12'!S46,'W09-W12'!AA46)","v":21.566666666666666}]
[{"$nulls":4},"2017-01-21",81,{"$f":"AVERAGE('W01-W04'!F47,'W01-W04'!N47,'W01-W04'!U47,'W01-W04'!AC47,'W05-W08'!F47,'W05-W08'!N47,'W05-W08'!U47,'W05-W08'!AC47,'W09-W12'!F47,'W09-W12'!N47,'W09-W12'!U47,'W09-W12'!AC47)","v":0.86437958054102459},null,{"$f":"AVERAGE('W01-W04'!D47,'W01-W04'!L47,'W01-W04'!S47,'W01-W04'!AA47,'W05-W08'!D47,'W05-W08'!L47,'W05-W08'!S47,'W05-W08'!AA47,'W09-W12'!D47,'W09-W12'!L47,'W09-W12'!S47,'W09-W12'!AA47)","v":21.775000000000002}]
[{"$nulls":4},"2017-01-22",82,{"$f":"AVERAGE('W01-W04'!F48,'W01-W04'!N48,'W01-W04'!U48,'W01-W04'!AC48,'W05-W08'!F48,'W05-W08'!N48,'W05-W08'!U48,'W05-W08'!AC48,'W09-W12'!F48,'W09-W12'!N48,'W09-W12'!U48,'W09-W12'!AC48)","v":0.86714157750463838},null,{"$f":"AVERAGE('W01-W04'!D48,'W01-W04'!L48,'W01-W04'!S48,'W01-W04'!AA48,'W05-W08'!D48,'W05-W08'!L48,'W05-W08'!S48,'W05-W08'!AA48,'W09-W12'!D48,'W09-W12'!L48,'W09-W12'!S48,'W09-W12'!AA48)","v":21.841666666666669}]
[{"$nulls":4},"2017-01-23",83,{"$f":"AVERAGE('W01-W04'!F49,'W01-W04'!N49,'W01-W04'!U49,'W01-W04'!AC49,'W05-W08'!F49,'W05-W08'!N49,'W05-W08'!U49,'W05-W08'!AC49,'W09-W12'!F49,'W09-W12'!N49,'W09-W12'!U49,'W09-W12'!AC49)","v":0.86111352655655171},{"$f":"AVERAGE('3-6-7-14'!F49,'3-6-7-14'!N49,'3-6-7-14'!U49,'3-6-7-14'!AC49)","v":1.0963159994872917},{"$f":"AVERAGE('W01-W04'!D49,'W01-W04'!L49,'W01-W04'!S49,'W01-W04'!AA49,'W05-W08'!D49,'W05-W08'!L49,'W05-W08'!S49,'W05-W08'!AA49,'W09-W12'!D49,'W09-W12'!L49,'W09-W12'!S49,'W09-W12'!AA49)","v":21.691666666666663},{"$f":"AVERAGE('3-6-7-14'!D49,'3-6-7-14'!L49,'3-6-7-14'!S49,'3-6-7-14'!AA49)","v":26.424999999999997}]
[{"$nulls":4},"2017-01-24",84,{"$f":"AVERAGE('W01-W04'!F50,'W01-W04'!N50,'W01-W04'!U50,'W01-W04'!AC50,'W05-W08'!F50,'W05-W08'!N50,'W05-W08'!U50,'W05-W08'!AC50,'W09-W12'!F50,'W09-W12'!N50,'W09-W12'!U50,'W09-W12'!AC50)","v":0.85626739012964503},null,{"$f":"AVERAGE('W01-W04'!D50,'W01-W04'!L50,'W01-W04'!S50,'W01-W04'!AA50,'W05-W08'!D50,'W05-W08'!L50,'W05-W08'!S50,'W05-W08'!AA50,'W09-W12'!D50,'W09-W12'!L50,'W09-W12'!S50,'W09-W12'!AA50)","v":21.566666666666666}]
[{"$nulls":4},"2017-01-25",85,{"$f":"AVERAGE('W01-W04'!F51,'W01-W04'!N51,'W01-W04'!U51,'W01-W04'!AC51,'W05-W08'!F51,'W05-W08'!N51,'W05-W08'!U51,'W05-W08'!AC51,'W09-W12'!F51,'W09-W12'!N51,'W09-W12'!U51,'W09-W12'!AC51)","v":0.86390173927733993},null,{"$f":"AVERAGE('W01-W04'!D51,'W01-W04'!L51,'W01-W04'!S51,'W01-W04'!AA51,'W05-W08'!D51,'W05-W08'!L51,'W05-W08'!S51,'W05-W08'!AA51,'W09-W12'!D51,'W09-W12'!L51,'W09-W12'!S51,'W09-W12'!AA51)","v":21.758333333333336}]
[{"$nulls":4},"2017-01-26",86,{"$f":"AVERAGE('W01-W04'!F52,'W01-W04'!N52,'W01-W04'!U52,'W01-W04'!AC52,'W05-W08'!F52,'W05-W08'!N52,'W05-W08'!U52,'W05-W08'!AC52,'W09-W12'!F52,'W09-W12'!N52,'W09-W12'!U52,'W09-W12'!AC52)","v":0.86308679916803632},null,{"$f":"AVERAGE('W01-W04'!D52,'W01-W04'!L52,'W01-W04'!S52,'W01-W04'!AA52,'W05-W08'!D52,'W05-W08'!L52,'W05-W08'!S52,'W05-W08'!AA52,'W09-W12'!D52,'W09-W12'!L52,'W09-W12'!S52,'W09-W12'!AA52)","v":21.741666666666664}]
[{"$nulls":4},"2017-01-27",87,{"$f":"AVERAGE('W01-W04'!F53,'W01-W04'!N53,'W01-W04'!U53,'W01-W04'!AC53,'W05-W08'!F53,'W05-W08'!N53,'W05-W08'!U53,'W05-W08'!AC53,'W09-W12'!F53,'W09-W12'!N53,'W09-W12'!U53,'W09-W12'!AC53)","v":0.86073414106510304},null,{"$f":"AVERAGE('W01-W04'!D53,'W01-W04'!L53,'W01-W04'!S53,'W01-W04'!AA53,'W05-W08'!D53,'W05-W08'!L53,'W05-W08'!S53,'W05-W08'!AA53,'W09-W12'!D53,'W09-W12'!L53,'W09-W12'!S53,'W09-W12'!AA53)","v":21.683333333333334}]
[{"$nulls":4},"2017-01-28",88,{"$f":"AVERAGE('W01-W04'!F54,'W01-W04'!N54,'W01-W04'!U54,'W01-W04'!AC54,'W05-W08'!F54,'W05-W08'!N54,'W05-W08'!U54,'W05-W08'!AC54,'W09-W12'!F54,'W09-W12'!N54,'W09-W12'!U54,'W09-W12'!AC54)","v":0.85858638875908622},null,{"$f":"AVERAGE('W01-W04'!D54,'W01-W04'!L54,'W01-W04'!S54,'W01-W04'!AA54,'W05-W08'!D54,'W05-W08'!L54,'W05-W08'!S54,'W05-W08'!AA54,'W09-W12'!D54,'W09-W12'!L54,'W09-W12'!S54,'W09-W12'!AA54)","v":21.625}]
[{"$nulls":4},"2017-01-29",89,{"$f":"AVERAGE('W01-W04'!F55,'W01-W04'!N55,'W01-W04'!U55,'W01-W04'!AC55,'W05-W08'!F55,'W05-W08'!N55,'W05-W08'!U55,'W05-W08'!AC55,'W09-W12'!F55,'W09-W12'!N55,'W09-W12'!U55,'W09-W12'!AC55)","v":0.86137085445651007},null,{"$f":"AVERAGE('W01-W04'!D55,'W01-W04'!L55,'W01-W04'!S55,'W01-W04'!AA55,'W05-W08'!D55,'W05-W08'!L55,'W05-W08'!S55,'W05-W08'!AA55,'W09-W12'!D55,'W09-W12'!L55,'W09-W12'!S55,'W09-W12'!AA55)","v":21.7}]
[{"$nulls":4},"2017-01-30",90,{"$f":"AVERAGE('W01-W04'!F56,'W01-W04'!N56,'W01-W04'!U56,'W01-W04'!AC56,'W05-W08'!F56,'W05-W08'!N56,'W05-W08'!U56,'W05-W08'!AC56,'W09-W12'!F56,'W09-W12'!N56,'W09-W12'!U56,'W09-W12'!AC56)","v":0.85465184889101009},{"$f":"AVERAGE('3-6-7-14'!F56,'3-6-7-14'!N56,'3-6-7-14'!U56,'3-6-7-14'!AC56)","v":1.0975120129451479},{"$f":"AVERAGE('W01-W04'!D56,'W01-W04'!L56,'W01-W04'!S56,'W01-W04'!AA56,'W05-W08'!D56,'W05-W08'!L56,'W05-W08'!S56,'W05-W08'!AA56,'W09-W12'!D56,'W09-W12'!L56,'W09-W12'!S56,'W09-W12'!AA56)","v":21.533333333333335},{"$f":"AVERAGE('3-6-7-14'!D56,'3-6-7-14'!L56,'3-6-7-14'!S56,'3-6-7-14'!AA56)","v":26.450000000000003}]
[{"$nulls":4},"2017-01-31",91,{"$f":"AVERAGE('W01-W04'!F57,'W01-W04'!N57,'W01-W04'!U57,'W01-W04'!AC57,'W05-W08'!F57,'W05-W08'!N57,'W05-W08'!U57,'W05-W08'!AC57,'W09-W12'!F57,'W09-W12'!N57,'W09-W12'!U57,'W09-W12'!AC57)","v":0.86301403172230751},null,{"$f":"AVERAGE('W01-W04'!D57,'W01-W04'!L57,'W01-W04'!S57,'W01-W04'!AA57,'W05-W08'!D57,'W05-W08'!L57,'W05-W08'!S57,'W05-W08'!AA57,'W09-W12'!D57,'W09-W12'!L57,'W09-W12'!S57,'W09-W12'!AA57)","v":21.741666666666671}]
[{"$nulls":4},"2017-02-01",92,{"$f":"AVERAGE('W01-W04'!F58,'W01-W04'!N58,'W01-W04'!U58,'W01-W04'!AC58,'W05-W08'!F58,'W05-W08'!N58,'W05-W08'!U58,'W05-W08'!AC58,'W09-W12'!F58,'W09-W12'!N58,'W09-W12'!U58,'W09-W12'!AC58)","v":0.85168844108445152},null,{"$f":"AVERAGE('W01-W04'!D58,'W01-W04'!L58,'W01-W04'!S58,'W01-W04'!AA58,'W05-W08'!D58,'W05-W08'!L58,'W05-W08'!S58,'W05-W08'!AA58,'W09-W12'!D58,'W09-W12'!L58,'W09-W12'!S58,'W09-W12'!AA58)","v":21.458333333333332}]
[{"$nulls":4},"2017-02-02",93,{"$f":"AVERAGE('W01-W04'!F59,'W01-W04'!N59,'W01-W04'!U59,'W01-W04'!AC59,'W05-W08'!F59,'W05-W08'!N59,'W05-W08'!U59,'W05-W08'!AC59,'W09-W12'!F59,'W09-W12'!N59,'W09-W12'!U59,'W09-W12'!AC59)","v":0.84882161725689909},null,{"$f":"AVERAGE('W01-W04'!D59,'W01-W04'!L59,'W01-W04'!S59,'W01-W04'!AA59,'W05-W08'!D59,'W05-W08'!L59,'W05-W08'!S59,'W05-W08'!AA59,'W09-W12'!D59,'W09-W12'!L59,'W09-W12'!S59,'W09-W12'!AA59)","v":21.383333333333336}]
[{"$nulls":4},"2017-02-03",94,{"$f":"AVERAGE('W01-W04'!F60,'W01-W04'!N60,'W01-W04'!U60,'W01-W04'!AC60,'W05-W08'!F60,'W05-W08'!N60,'W05-W08'!U60,'W05-W08'!AC60,'W09-W12'!F60,'W09-W12'!N60,'W09-W12'!U60,'W09-W12'!AC60)","v":0.85202695467388079},null,{"$f":"AVERAGE('W01-W04'!D60,'W01-W04'!L60,'W01-W04'!S60,'W01-W04'!AA60,'W05-W08'!D60,'W05-W08'!L60,'W05-W08'!S60,'W05-W08'!AA60,'W09-W12'!D60,'W09-W12'!L60,'W09-W12'!S60,'W09-W12'!AA60)","v":21.466666666666669}]
[{"$nulls":4},"2017-02-04",95,{"$f":"AVERAGE('W01-W04'!F61,'W01-W04'!N61,'W01-W04'!U61,'W01-W04'!AC61,'W05-W08'!F61,'W05-W08'!N61,'W05-W08'!U61,'W05-W08'!AC61,'W09-W12'!F61,'W09-W12'!N61,'W09-W12'!U61,'W09-W12'!AC61)","v":0.85195009930294552},null,{"$f":"AVERAGE('W01-W04'!D61,'W01-W04'!L61,'W01-W04'!S61,'W01-W04'!AA61,'W05-W08'!D61,'W05-W08'!L61,'W05-W08'!S61,'W05-W08'!AA61,'W09-W12'!D61,'W09-W12'!L61,'W09-W12'!S61,'W09-W12'!AA61)","v":21.466666666666669}]
[{"$nulls":4},"2017-02-05",96,{"$f":"AVERAGE('W01-W04'!F62,'W01-W04'!N62,'W01-W04'!U62,'W01-W04'!AC62,'W05-W08'!F62,'W05-W08'!N62,'W05-W08'!U62,'W05-W08'!AC62,'W09-W12'!F62,'W09-W12'!N62,'W09-W12'!U62,'W09-W12'!AC62)","v":0.84996497020153416},null,{"$f":"AVERAGE('W01-W04'!D62,'W01-W04'!L62,'W01-W04'!S62,'W01-W04'!AA62,'W05-W08'!D62,'W05-W08'!L62,'W05-W08'!S62,'W05-W08'!AA62,'W09-W12'!D62,'W09-W12'!L62,'W09-W12'!S62,'W09-W12'!AA62)","v":21.416666666666668}]
[{"$nulls":4},"2017-02-06",97,{"$f":"AVERAGE('W01-W04'!F63,'W01-W04'!N63,'W01-W04'!U63,'W01-W04'!AC63,'W05-W08'!F63,'W05-W08'!N63,'W05-W08'!U63,'W05-W08'!AC63,'W09-W12'!F63,'W09-W12'!N63,'W09-W12'!U63,'W09-W12'!AC63)","v":0.85401470530336121},{"$f":"AVERAGE('3-6-7-14'!F63,'3-6-7-14'!N63,'3-6-7-14'!U63,'3-6-7-14'!AC63)","v":1.1015920623686115},{"$f":"AVERAGE('W01-W04'!D63,'W01-W04'!L63,'W01-W04'!S63,'W01-W04'!AA63,'W05-W08'!D63,'W05-W08'!L63,'W05-W08'!S63,'W05-W08'!AA63,'W09-W12'!D63,'W09-W12'!L63,'W09-W12'!S63,'W09-W12'!AA63)","v":21.516666666666666},{"$f":"AVERAGE('3-6-7-14'!D63,'3-6-7-14'!L63,'3-6-7-14'!S63,'3-6-7-14'!AA63)","v":26.55}]
[{"$nulls":4},"2017-02-07",98,{"$f":"AVERAGE('W01-W04'!F64,'W01-W04'!N64,'W01-W04'!U64,'W01-W04'!AC64,'W05-W08'!F64,'W05-W08'!N64,'W05-W08'!U64,'W05-W08'!AC64,'W09-W12'!F64,'W09-W12'!N64,'W09-W12'!U64,'W09-W12'!AC64)","v":0.85208554304657513},null,{"$f":"AVERAGE('W01-W04'!D64,'W01-W04'!L64,'W01-W04'!S64,'W01-W04'!AA64,'W05-W08'!D64,'W05-W08'!L64,'W05-W08'!S64,'W05-W08'!AA64,'W09-W12'!D64,'W09-W12'!L64,'W09-W12'!S64,'W09-W12'!AA64)","v":21.466666666666669}]
[{"$nulls":4},"2017-02-08",99,{"$f":"AVERAGE('W01-W04'!F65,'W01-W04'!N65,'W01-W04'!U65,'W01-W04'!AC65,'W05-W08'!F65,'W05-W08'!N65,'W05-W08'!U65,'W05-W08'!AC65,'W09-W12'!F65,'W09-W12'!N65,'W09-W12'!U65,'W09-W12'!AC65)","v":0.85094739363023619},null,{"$f":"AVERAGE('W01-W04'!D65,'W01-W04'!L65,'W01-W04'!S65,'W01-W04'!AA65,'W05-W08'!D65,'W05-W08'!L65,'W05-W08'!S65,'W05-W08'!AA65,'W09-W12'!D65,'W09-W12'!L65,'W09-W12'!S65,'W09-W12'!AA65)","v":21.433333333333334}]
[{"$nulls":4},"2017-02-09",100,{"$f":"AVERAGE('W01-W04'!F66,'W01-W04'!N66,'W01-W04'!U66,'W01-W04'!AC66,'W05-W08'!F66,'W05-W08'!N66,'W05-W08'!U66,'W05-W08'!AC66,'W09-W12'!F66,'W09-W12'!N66,'W09-W12'!U66,'W09-W12'!AC66)","v":0.84586057546596416},null,{"$f":"AVERAGE('W01-W04'!D66,'W01-W04'!L66,'W01-W04'!S66,'W01-W04'!AA66,'W05-W08'!D66,'W05-W08'!L66,'W05-W08'!S66,'W05-W08'!AA66,'W09-W12'!D66,'W09-W12'!L66,'W09-W12'!S66,'W09-W12'!AA66)","v":21.308333333333334}]
[{"$nulls":4},"2017-02-10",101,{"$f":"AVERAGE('W01-W04'!F67,'W01-W04'!N67,'W01-W04'!U67,'W01-W04'!AC67,'W05-W08'!F67,'W05-W08'!N67,'W05-W08'!U67,'W05-W08'!AC67,'W09-W12'!F67,'W09-W12'!N67,'W09-W12'!U67,'W09-W12'!AC67)","v":0.84818065347281324},null,{"$f":"AVERAGE('W01-W04'!D67,'W01-W04'!L67,'W01-W04'!S67,'W01-W04'!AA67,'W05-W08'!D67,'W05-W08'!L67,'W05-W08'!S67,'W05-W08'!AA67,'W09-W12'!D67,'W09-W12'!L67,'W09-W12'!S67,'W09-W12'!AA67)","v":21.366666666666671}]
[{"$nulls":4},"2017-02-11",102,{"$f":"AVERAGE('W01-W04'!F68,'W01-W04'!N68,'W01-W04'!U68,'W01-W04'!AC68,'W05-W08'!F68,'W05-W08'!N68,'W05-W08'!U68,'W05-W08'!AC68,'W09-W12'!F68,'W09-W12'!N68,'W09-W12'!U68,'W09-W12'!AC68)","v":0.84581174680378879},null,{"$f":"AVERAGE('W01-W04'!D68,'W01-W04'!L68,'W01-W04'!S68,'W01-W04'!AA68,'W05-W08'!D68,'W05-W08'!L68,'W05-W08'!S68,'W05-W08'!AA68,'W09-W12'!D68,'W09-W12'!L68,'W09-W12'!S68,'W09-W12'!AA68)","v":21.308333333333334}]
[{"$nulls":4},"2017-02-12",103,{"$f":"AVERAGE('W01-W04'!F69,'W01-W04'!N69,'W01-W04'!U69,'W01-W04'!AC69,'W05-W08'!F69,'W05-W08'!N69,'W05-W08'!U69,'W05-W08'!AC69,'W09-W12'!F69,'W09-W12'!N69,'W09-W12'!U69,'W09-W12'!AC69)","v":0.84686393002128069},null,{"$f":"AVERAGE('W01-W04'!D69,'W01-W04'!L69,'W01-W04'!S69,'W01-W04'!AA69,'W05-W08'!D69,'W05-W08'!L69,'W05-W08'!S69,'W05-W08'!AA69,'W09-W12'!D69,'W09-W12'!L69,'W09-W12'!S69,'W09-W12'!AA69)","v":21.333333333333332}]
[{"$nulls":4},"2017-02-13",104,{"$f":"AVERAGE('W01-W04'!F70,'W01-W04'!N70,'W01-W04'!U70,'W01-W04'!AC70,'W05-W08'!F70,'W05-W08'!N70,'W05-W08'!U70,'W05-W08'!AC70,'W09-W12'!F70,'W09-W12'!N70,'W09-W12'!U70,'W09-W12'!AC70)","v":0.84722143135091421},{"$f":"AVERAGE('3-6-7-14'!F70,'3-6-7-14'!N70,'3-6-7-14'!U70,'3-6-7-14'!AC70)","v":1.1179811844664669},{"$f":"AVERAGE('W01-W04'!D70,'W01-W04'!L70,'W01-W04'!S70,'W01-W04'!AA70,'W05-W08'!D70,'W05-W08'!L70,'W05-W08'!S70,'W05-W08'!AA70,'W09-W12'!D70,'W09-W12'!L70,'W09-W12'!S70,'W09-W12'!AA70)","v":21.341666666666665},{"$f":"AVERAGE('3-6-7-14'!D70,'3-6-7-14'!L70,'3-6-7-14'!S70,'3-6-7-14'!AA70)","v":26.95}]
[{"$nulls":4},"2017-02-14",105,{"$f":"AVERAGE('W01-W04'!F71,'W01-W04'!N71,'W01-W04'!U71,'W01-W04'!AC71,'W05-W08'!F71,'W05-W08'!N71,'W05-W08'!U71,'W05-W08'!AC71,'W09-W12'!F71,'W09-W12'!N71,'W09-W12'!U71,'W09-W12'!AC71)","v":0.84629282909826087},null,{"$f":"AVERAGE('W01-W04'!D71,'W01-W04'!L71,'W01-W04'!S71,'W01-W04'!AA71,'W05-W08'!D71,'W05-W08'!L71,'W05-W08'!S71,'W05-W08'!AA71,'W09-W12'!D71,'W09-W12'!L71,'W09-W12'!S71,'W09-W12'!AA71)","v":21.31666666666667}]
[{"$nulls":4},"2017-02-15",106,{"$f":"AVERAGE('W01-W04'!F72,'W01-W04'!N72,'W01-W04'!U72,'W01-W04'!AC72,'W05-W08'!F72,'W05-W08'!N72,'W05-W08'!U72,'W05-W08'!AC72,'W09-W12'!F72,'W09-W12'!N72,'W09-W12'!U72,'W09-W12'!AC72)","v":0.84760421822738197},null,{"$f":"AVERAGE('W01-W04'!D72,'W01-W04'!L72,'W01-W04'!S72,'W01-W04'!AA72,'W05-W08'!D72,'W05-W08'!L72,'W05-W08'!S72,'W05-W08'!AA72,'W09-W12'!D72,'W09-W12'!L72,'W09-W12'!S72,'W09-W12'!AA72)","v":21.350000000000005}]
[{"$nulls":4},"2017-02-16",107,{"$f":"AVERAGE('W01-W04'!F73,'W01-W04'!N73,'W01-W04'!U73,'W01-W04'!AC73,'W05-W08'!F73,'W05-W08'!N73,'W05-W08'!U73,'W05-W08'!AC73,'W09-W12'!F73,'W09-W12'!N73,'W09-W12'!U73,'W09-W12'!AC73)","v":0.84872839531408906},null,{"$f":"AVERAGE('W01-W04'!D73,'W01-W04'!L73,'W01-W04'!S73,'W01-W04'!AA73,'W05-W08'!D73,'W05-W08'!L73,'W05-W08'!S73,'W05-W08'!AA73,'W09-W12'!D73,'W09-W12'!L73,'W09-W12'!S73,'W09-W12'!AA73)","v":21.383333333333329}]
[{"$nulls":4},"2017-02-17",108,{"$f":"AVERAGE('W01-W04'!F74,'W01-W04'!N74,'W01-W04'!U74,'W01-W04'!AC74,'W05-W08'!F74,'W05-W08'!N74,'W05-W08'!U74,'W05-W08'!AC74,'W09-W12'!F74,'W09-W12'!N74,'W09-W12'!U74,'W09-W12'!AC74)","v":0.84873861746426826},null,{"$f":"AVERAGE('W01-W04'!D74,'W01-W04'!L74,'W01-W04'!S74,'W01-W04'!AA74,'W05-W08'!D74,'W05-W08'!L74,'W05-W08'!S74,'W05-W08'!AA74,'W09-W12'!D74,'W09-W12'!L74,'W09-W12'!S74,'W09-W12'!AA74)","v":21.383333333333336}]
[{"$nulls":4},"2017-02-18",109,{"$f":"AVERAGE('W01-W04'!F75,'W01-W04'!N75,'W01-W04'!U75,'W01-W04'!AC75,'W05-W08'!F75,'W05-W08'!N75,'W05-W08'!U75,'W05-W08'!AC75,'W09-W12'!F75,'W09-W12'!N75,'W09-W12'!U75,'W09-W12'!AC75)","v":0.85408402457452148},null,{"$f":"AVERAGE('W01-W04'!D75,'W01-W04'!L75,'W01-W04'!S75,'W01-W04'!AA75,'W05-W08'!D75,'W05-W08'!L75,'W05-W08'!S75,'W05-W08'!AA75,'W09-W12'!D75,'W09-W12'!L75,'W09-W12'!S75,'W09-W12'!AA75)","v":21.516666666666669}]
[{"$nulls":4},"2017-02-19",110,{"$f":"AVERAGE('W01-W04'!F76,'W01-W04'!N76,'W01-W04'!U76,'W01-W04'!AC76,'W05-W08'!F76,'W05-W08'!N76,'W05-W08'!U76,'W05-W08'!AC76,'W09-W12'!F76,'W09-W12'!N76,'W09-W12'!U76,'W09-W12'!AC76)","v":0.84740941521333968},null,{"$f":"AVERAGE('W01-W04'!D76,'W01-W04'!L76,'W01-W04'!S76,'W01-W04'!AA76,'W05-W08'!D76,'W05-W08'!L76,'W05-W08'!S76,'W05-W08'!AA76,'W09-W12'!D76,'W09-W12'!L76,'W09-W12'!S76,'W09-W12'!AA76)","v":21.349999999999998}]
[{"$nulls":4},"2017-02-20",111,{"$f":"AVERAGE('W01-W04'!F77,'W01-W04'!N77,'W01-W04'!U77,'W01-W04'!AC77,'W05-W08'!F77,'W05-W08'!N77,'W05-W08'!U77,'W05-W08'!AC77,'W09-W12'!F77,'W09-W12'!N77,'W09-W12'!U77,'W09-W12'!AC77)","v":0.85488599693372913},{"$f":"AVERAGE('3-6-7-14'!F77,'3-6-7-14'!N77,'3-6-7-14'!U77,'3-6-7-14'!AC77)","v":1.1346656075575137},{"$f":"AVERAGE('W01-W04'!D77,'W01-W04'!L77,'W01-W04'!S77,'W01-W04'!AA77,'W05-W08'!D77,'W05-W08'!L77,'W05-W08'!S77,'W05-W08'!AA77,'W09-W12'!D77,'W09-W12'!L77,'W09-W12'!S77,'W09-W12'!AA77)","v":21.541666666666668},{"$f":"AVERAGE('3-6-7-14'!D77,'3-6-7-14'!L77,'3-6-7-14'!S77,'3-6-7-14'!AA77)","v":27.35}]
[{"$nulls":4},"2017-02-21",112,{"$f":"AVERAGE('W01-W04'!F78,'W01-W04'!N78,'W01-W04'!U78,'W01-W04'!AC78,'W05-W08'!F78,'W05-W08'!N78,'W05-W08'!U78,'W05-W08'!AC78,'W09-W12'!F78,'W09-W12'!N78,'W09-W12'!U78,'W09-W12'!AC78)","v":0.86233076449829416},null,{"$f":"AVERAGE('W01-W04'!D78,'W01-W04'!L78,'W01-W04'!S78,'W01-W04'!AA78,'W05-W08'!D78,'W05-W08'!L78,'W05-W08'!S78,'W05-W08'!AA78,'W09-W12'!D78,'W09-W12'!L78,'W09-W12'!S78,'W09-W12'!AA78)","v":21.724999999999998}]
[{"$nulls":4},"2017-02-22",113,{"$f":"AVERAGE('W01-W04'!F79,'W01-W04'!N79,'W01-W04'!U79,'W01-W04'!AC79,'W05-W08'!F79,'W05-W08'!N79,'W05-W08'!U79,'W05-W08'!AC79,'W09-W12'!F79,'W09-W12'!N79,'W09-W12'!U79,'W09-W12'!AC79)","v":0.8633072579936899},null,{"$f":"AVERAGE('W01-W04'!D79,'W01-W04'!L79,'W01-W04'!S79,'W01-W04'!AA79,'W05-W08'!D79,'W05-W08'!L79,'W05-W08'!S79,'W05-W08'!AA79,'W09-W12'!D79,'W09-W12'!L79,'W09-W12'!S79,'W09-W12'!AA79)","v":21.75}]
[{"$nulls":4},"2017-02-23",114,{"$f":"AVERAGE('W01-W04'!F80,'W01-W04'!N80,'W01-W04'!U80,'W01-W04'!AC80,'W05-W08'!F80,'W05-W08'!N80,'W05-W08'!U80,'W05-W08'!AC80,'W09-W12'!F80,'W09-W12'!N80,'W09-W12'!U80,'W09-W12'!AC80)","v":0.85048179126740153},null,{"$f":"AVERAGE('W01-W04'!D80,'W01-W04'!L80,'W01-W04'!S80,'W01-W04'!AA80,'W05-W08'!D80,'W05-W08'!L80,'W05-W08'!S80,'W05-W08'!AA80,'W09-W12'!D80,'W09-W12'!L80,'W09-W12'!S80,'W09-W12'!AA80)","v":21.433333333333334}]
[{"$nulls":4},"2017-02-24",115,{"$f":"AVERAGE('W01-W04'!F81,'W01-W04'!N81,'W01-W04'!U81,'W01-W04'!AC81,'W05-W08'!F81,'W05-W08'!N81,'W05-W08'!U81,'W05-W08'!AC81,'W09-W12'!F81,'W09-W12'!N81,'W09-W12'!U81,'W09-W12'!AC81)","v":0.85981570138538366},null,{"$f":"AVERAGE('W01-W04'!D81,'W01-W04'!L81,'W01-W04'!S81,'W01-W04'!AA81,'W05-W08'!D81,'W05-W08'!L81,'W05-W08'!S81,'W05-W08'!AA81,'W09-W12'!D81,'W09-W12'!L81,'W09-W12'!S81,'W09-W12'!AA81)","v":21.658333333333335}]
[{"$nulls":4},"2017-02-25",116,{"$f":"AVERAGE('W01-W04'!F82,'W01-W04'!N82,'W01-W04'!U82,'W01-W04'!AC82,'W05-W08'!F82,'W05-W08'!N82,'W05-W08'!U82,'W05-W08'!AC82,'W09-W12'!F82,'W09-W12'!N82,'W09-W12'!U82,'W09-W12'!AC82)","v":0.85206208348418266},null,{"$f":"AVERAGE('W01-W04'!D82,'W01-W04'!L82,'W01-W04'!S82,'W01-W04'!AA82,'W05-W08'!D82,'W05-W08'!L82,'W05-W08'!S82,'W05-W08'!AA82,'W09-W12'!D82,'W09-W12'!L82,'W09-W12'!S82,'W09-W12'!AA82)","v":21.466666666666665}]
[{"$nulls":4},"2017-02-26",117,{"$f":"AVERAGE('W01-W04'!F83,'W01-W04'!N83,'W01-W04'!U83,'W01-W04'!AC83,'W05-W08'!F83,'W05-W08'!N83,'W05-W08'!U83,'W05-W08'!AC83,'W09-W12'!F83,'W09-W12'!N83,'W09-W12'!U83,'W09-W12'!AC83)","v":0.849118512017352},null,{"$f":"AVERAGE('W01-W04'!D83,'W01-W04'!L83,'W01-W04'!S83,'W01-W04'!AA83,'W05-W08'!D83,'W05-W08'!L83,'W05-W08'!S83,'W05-W08'!AA83,'W09-W12'!D83,'W09-W12'!L83,'W09-W12'!S83,'W09-W12'!AA83)","v":21.391666666666666}]
[{"$nulls":4},"2017-02-27",118,{"$f":"AVERAGE('W01-W04'!F84,'W01-W04'!N84,'W01-W04'!U84,'W01-W04'!AC84,'W05-W08'!F84,'W05-W08'!N84,'W05-W08'!U84,'W05-W08'!AC84,'W09-W12'!F84,'W09-W12'!N84,'W09-W12'!U84,'W09-W12'!AC84)","v":0.85420576725124409},{"$f":"AVERAGE('3-6-7-14'!F84,'3-6-7-14'!N84,'3-6-7-14'!U84,'3-6-7-14'!AC84)","v":1.1447536014368875},{"$f":"AVERAGE('W01-W04'!D84,'W01-W04'!L84,'W01-W04'!S84,'W01-W04'!AA84,'W05-W08'!D84,'W05-W08'!L84,'W05-W08'!S84,'W05-W08'!AA84,'W09-W12'!D84,'W09-W12'!L84,'W09-W12'!S84,'W09-W12'!AA84)","v":21.525000000000002},{"$f":"AVERAGE('3-6-7-14'!D84,'3-6-7-14'!L84,'3-6-7-14'!S84,'3-6-7-14'!AA84)","v":27.6}]
[{"$nulls":4},"2017-02-28",119,{"$f":"AVERAGE('W01-W04'!F85,'W01-W04'!N85,'W01-W04'!U85,'W01-W04'!AC85,'W05-W08'!F85,'W05-W08'!N85,'W05-W08'!U85,'W05-W08'!AC85,'W09-W12'!F85,'W09-W12'!N85,'W09-W12'!U85,'W09-W12'!AC85)","v":0.85385528589886028},null,{"$f":"AVERAGE('W01-W04'!D85,'W01-W04'!L85,'W01-W04'!S85,'W01-W04'!AA85,'W05-W08'!D85,'W05-W08'!L85,'W05-W08'!S85,'W05-W08'!AA85,'W09-W12'!D85,'W09-W12'!L85,'W09-W12'!S85,'W09-W12'!AA85)","v":21.508333333333336}]
[{"$nulls":4},"2017-03-01",120,{"$f":"AVERAGE('W01-W04'!F86,'W01-W04'!N86,'W01-W04'!U86,'W01-W04'!AC86,'W05-W08'!F86,'W05-W08'!N86,'W05-W08'!U86,'W05-W08'!AC86,'W09-W12'!F86,'W09-W12'!N86,'W09-W12'!U86,'W09-W12'!AC86)","v":0.85097330134056781},null,{"$f":"AVERAGE('W01-W04'!D86,'W01-W04'!L86,'W01-W04'!S86,'W01-W04'!AA86,'W05-W08'!D86,'W05-W08'!L86,'W05-W08'!S86,'W05-W08'!AA86,'W09-W12'!D86,'W09-W12'!L86,'W09-W12'!S86,'W09-W12'!AA86)","v":21.441666666666666}]
[{"$nulls":4},"2017-03-02",121,{"$f":"AVERAGE('W01-W04'!F87,'W01-W04'!N87,'W01-W04'!U87,'W01-W04'!AC87,'W05-W08'!F87,'W05-W08'!N87,'W05-W08'!U87,'W05-W08'!AC87,'W09-W12'!F87,'W09-W12'!N87,'W09-W12'!U87,'W09-W12'!AC87)","v":0.85374253539646938},null,{"$f":"AVERAGE('W01-W04'!D87,'W01-W04'!L87,'W01-W04'!S87,'W01-W04'!AA87,'W05-W08'!D87,'W05-W08'!L87,'W05-W08'!S87,'W05-W08'!AA87,'W09-W12'!D87,'W09-W12'!L87,'W09-W12'!S87,'W09-W12'!AA87)","v":21.508333333333336}]
[{"$nulls":4},"2017-03-03",122,{"$f":"AVERAGE('W01-W04'!F88,'W01-W04'!N88,'W01-W04'!U88,'W01-W04'!AC88,'W05-W08'!F88,'W05-W08'!N88,'W05-W08'!U88,'W05-W08'!AC88,'W09-W12'!F88,'W09-W12'!N88,'W09-W12'!U88,'W09-W12'!AC88)","v":0.85475541310954017},null,{"$f":"AVERAGE('W01-W04'!D88,'W01-W04'!L88,'W01-W04'!S88,'W01-W04'!AA88,'W05-W08'!D88,'W05-W08'!L88,'W05-W08'!S88,'W05-W08'!AA88,'W09-W12'!D88,'W09-W12'!L88,'W09-W12'!S88,'W09-W12'!AA88)","v":21.533333333333331}]
[{"$nulls":4},"2017-03-04",123,{"$f":"AVERAGE('W01-W04'!F89,'W01-W04'!N89,'W01-W04'!U89,'W01-W04'!AC89,'W05-W08'!F89,'W05-W08'!N89,'W05-W08'!U89,'W05-W08'!AC89,'W09-W12'!F89,'W09-W12'!N89,'W09-W12'!U89,'W09-W12'!AC89)","v":0.84376873297612287},null,{"$f":"AVERAGE('W01-W04'!D89,'W01-W04'!L89,'W01-W04'!S89,'W01-W04'!AA89,'W05-W08'!D89,'W05-W08'!L89,'W05-W08'!S89,'W05-W08'!AA89,'W09-W12'!D89,'W09-W12'!L89,'W09-W12'!S89,'W09-W12'!AA89)","v":21.258333333333336}]
[{"$nulls":4},"2017-03-05",124,{"$f":"AVERAGE('W01-W04'!F90,'W01-W04'!N90,'W01-W04'!U90,'W01-W04'!AC90,'W05-W08'!F90,'W05-W08'!N90,'W05-W08'!U90,'W05-W08'!AC90,'W09-W12'!F90,'W09-W12'!N90,'W09-W12'!U90,'W09-W12'!AC90)","v":0.8509187375575582},null,{"$f":"AVERAGE('W01-W04'!D90,'W01-W04'!L90,'W01-W04'!S90,'W01-W04'!AA90,'W05-W08'!D90,'W05-W08'!L90,'W05-W08'!S90,'W05-W08'!AA90,'W09-W12'!D90,'W09-W12'!L90,'W09-W12'!S90,'W09-W12'!AA90)","v":21.441666666666666}]
[{"$nulls":4},"2017-03-06",125,{"$f":"AVERAGE('W01-W04'!F91,'W01-W04'!N91,'W01-W04'!U91,'W01-W04'!AC91,'W05-W08'!F91,'W05-W08'!N91,'W05-W08'!U91,'W05-W08'!AC91,'W09-W12'!F91,'W09-W12'!N91,'W09-W12'!U91,'W09-W12'!AC91)","v":0.86093201014013643},null,{"$f":"AVERAGE('W01-W04'!D91,'W01-W04'!L91,'W01-W04'!S91,'W01-W04'!AA91,'W05-W08'!D91,'W05-W08'!L91,'W05-W08'!S91,'W05-W08'!AA91,'W09-W12'!D91,'W09-W12'!L91,'W09-W12'!S91,'W09-W12'!AA91)","v":21.691666666666663}]
[{"$nulls":4},"2017-03-07",126,{"$f":"AVERAGE('W01-W04'!F92,'W01-W04'!N92,'W01-W04'!U92,'W01-W04'!AC92,'W05-W08'!F92,'W05-W08'!N92,'W05-W08'!U92,'W05-W08'!AC92,'W09-W12'!F92,'W09-W12'!N92,'W09-W12'!U92,'W09-W12'!AC92)","v":0.86266296762526784},{"$f":"AVERAGE('3-6-7-14'!F92,'3-6-7-14'!N92,'3-6-7-14'!U92,'3-6-7-14'!AC92)","v":1.161486496911496},{"$f":"AVERAGE('W01-W04'!D92,'W01-W04'!L92,'W01-W04'!S92,'W01-W04'!AA92,'W05-W08'!D92,'W05-W08'!L92,'W05-W08'!S92,'W05-W08'!AA92,'W09-W12'!D92,'W09-W12'!L92,'W09-W12'!S92,'W09-W12'!AA92)","v":21.733333333333331},{"$f":"AVERAGE('3-6-7-14'!D92,'3-6-7-14'!L92,'3-6-7-14'!S92,'3-6-7-14'!AA92)","v":28}]
[{"$nulls":4},"2017-03-08",127,{"$f":"AVERAGE('W01-W04'!F93,'W01-W04'!N93,'W01-W04'!U93,'W01-W04'!AC93,'W05-W08'!F93,'W05-W08'!N93,'W05-W08'!U93,'W05-W08'!AC93,'W09-W12'!F93,'W09-W12'!N93,'W09-W12'!U93,'W09-W12'!AC93)","v":0.95497044591942581},null,{"$f":"AVERAGE('W01-W04'!D93,'W01-W04'!L93,'W01-W04'!S93,'W01-W04'!AA93,'W05-W08'!D93,'W05-W08'!L93,'W05-W08'!S93,'W05-W08'!AA93,'W09-W12'!D93,'W09-W12'!L93,'W09-W12'!S93,'W09-W12'!AA93)","v":24.025000000000002}]
[{"$nulls":4},"2017-03-09",128,{"$f":"AVERAGE('W01-W04'!F94,'W01-W04'!N94,'W01-W04'!U94,'W01-W04'!AC94,'W05-W08'!F94,'W05-W08'!N94,'W05-W08'!U94,'W05-W08'!AC94,'W09-W12'!F94,'W09-W12'!N94,'W09-W12'!U94,'W09-W12'!AC94)","v":0.96698995076159766},null,{"$f":"AVERAGE('W01-W04'!D94,'W01-W04'!L94,'W01-W04'!S94,'W01-W04'!AA94,'W05-W08'!D94,'W05-W08'!L94,'W05-W08'!S94,'W05-W08'!AA94,'W09-W12'!D94,'W09-W12'!L94,'W09-W12'!S94,'W09-W12'!AA94)","v":24.324999999999999}]
[{"$nulls":4},"2017-03-10",129,{"$f":"AVERAGE('W01-W04'!F95,'W01-W04'!N95,'W01-W04'!U95,'W01-W04'!AC95,'W05-W08'!F95,'W05-W08'!N95,'W05-W08'!U95,'W05-W08'!AC95,'W09-W12'!F95,'W09-W12'!N95,'W09-W12'!U95,'W09-W12'!AC95)","v":1.0483445412521968},null,{"$f":"AVERAGE('W01-W04'!D95,'W01-W04'!L95,'W01-W04'!S95,'W01-W04'!AA95,'W05-W08'!D95,'W05-W08'!L95,'W05-W08'!S95,'W05-W08'!AA95,'W09-W12'!D95,'W09-W12'!L95,'W09-W12'!S95,'W09-W12'!AA95)","v":26.383333333333329}]
[{"$nulls":4},"2017-03-11",130]
[{"$nulls":4},"2017-03-12",131]
[{"$nulls":4},"2017-03-13",132,{"$f":"AVERAGE('W01-W04'!F98,'W01-W04'!N98,'W01-W04'!U98,'W01-W04'!AC98,'W05-W08'!F98,'W05-W08'!N98,'W05-W08'!U98,'W05-W08'!AC98,'W09-W12'!F98,'W09-W12'!N98,'W09-W12'!U98,'W09-W12'!AC98)","v":1.0802098687138295},{"$f":"AVERAGE('3-6-7-14'!F98,'3-6-7-14'!N98,'3-6-7-14'!U98,'3-6-7-14'!AC98)","v":1.1510636548775572},{"$f":"AVERAGE('W01-W04'!D98,'W01-W04'!L98,'W01-W04'!S98,'W01-W04'!AA98,'W05-W08'!D98,'W05-W08'!L98,'W05-W08'!S98,'W05-W08'!AA98,'W09-W12'!D98,'W09-W12'!L98,'W09-W12'!S98,'W09-W12'!AA98)","v":27.191666666666666},{"$f":"AVERAGE('3-6-7-14'!D98,'3-6-7-14'!L98,'3-6-7-14'!S98,'3-6-7-14'!AA98)","v":27.750000000000004}]
[{"$nulls":4},"2017-03-14",133]
[{"$nulls":4},"2017-03-15",134,{"$f":"AVERAGE('W01-W04'!F100,'W01-W04'!N100,'W01-W04'!U100,'W01-W04'!AC100,'W05-W08'!F100,'W05-W08'!N100,'W05-W08'!U100,'W05-W08'!AC100,'W09-W12'!F100,'W09-W12'!N100,'W09-W12'!U100,'W09-W12'!AC100)","v":1.0816908750378424},null,{"$f":"AVERAGE('W01-W04'!D100,'W01-W04'!L100,'W01-W04'!S100,'W01-W04'!AA100,'W05-W08'!D100,'W05-W08'!L100,'W05-W08'!S100,'W05-W08'!AA100,'W09-W12'!D100,'W09-W12'!L100,'W09-W12'!S100,'W09-W12'!AA100)","v":27.233333333333331}]
[{"$nulls":4},"2017-03-16",135]
[{"$nulls":4},"2017-03-17",136,{"$f":"AVERAGE('W01-W04'!F102,'W01-W04'!N102,'W01-W04'!U102,'W01-W04'!AC102,'W05-W08'!F102,'W05-W08'!N102,'W05-W08'!U102,'W05-W08'!AC102,'W09-W12'!F102,'W09-W12'!N102,'W09-W12'!U102,'W09-W12'!AC102)","v":1.0949597186429594},null,{"$f":"AVERAGE('W01-W04'!D102,'W01-W04'!L102,'W01-W04'!S102,'W01-W04'!AA102,'W05-W08'!D102,'W05-W08'!L102,'W05-W08'!S102,'W05-W08'!AA102,'W09-W12'!D102,'W09-W12'!L102,'W09-W12'!S102,'W09-W12'!AA102)","v":27.558333333333334}]
[{"$nulls":4},"2017-03-18",137]
[{"$nulls":4},"2017-03-19",138]
[{"$nulls":4},"2017-03-20",139,{"$f":"AVERAGE('W01-W04'!F105,'W01-W04'!N105,'W01-W04'!U105,'W01-W04'!AC105,'W05-W08'!F105,'W05-W08'!N105,'W05-W08'!U105,'W05-W08'!AC105,'W09-W12'!F105,'W09-W12'!N105,'W09-W12'!U105,'W09-W12'!AC105)","v":1.1131899566497558},{"$f":"AVERAGE('3-6-7-14'!F105,'3-6-7-14'!N105,'3-6-7-14'!U105,'3-6-7-14'!AC105)","v":1.1706423118986935},{"$f":"AVERAGE('W01-W04'!D105,'W01-W04'!L105,'W01-W04'!S105,'W01-W04'!AA105,'W05-W08'!D105,'W05-W08'!L105,'W05-W08'!S105,'W05-W08'!AA105,'W09-W12'!D105,'W09-W12'!L105,'W09-W12'!S105,'W09-W12'!AA105)","v":28.025000000000006},{"$f":"AVERAGE('3-6-7-14'!D105,'3-6-7-14'!L105,'3-6-7-14'!S105,'3-6-7-14'!AA105)","v":28.225000000000001}]
[{"$nulls":4},"2017-03-21",140]
[{"$nulls":4},"2017-03-22",141]
[{"$nulls":4},"2017-03-23",142]
[{"$nulls":4},"2017-03-24",143]
[{"$nulls":4},"2017-03-25",144]
[{"$nulls":4},"2017-03-26",145]
[{"$nulls":4},"2017-03-27",146]
[{"$nulls":4},"2017-03-28",147,{"$f":"AVERAGE('W01-W04'!F113,'W01-W04'!N113,'W01-W04'!U113,'W01-W04'!AC113,'W05-W08'!F113,'W05-W08'!N113,'W05-W08'!U113,'W05-W08'!AC113,'W09-W12'!F113,'W09-W12'!N113,'W09-W12'!U113,'W09-W12'!AC113)","v":1.1397507564747373},{"$f":"AVERAGE('3-6-7-14'!F113,'3-6-7-14'!N113,'3-6-7-14'!U113,'3-6-7-14'!AC113)","v":1.2189519260107446},{"$f":"AVERAGE('W01-W04'!D113,'W01-W04'!L113,'W01-W04'!S113,'W01-W04'!AA113,'W05-W08'!D113,'W05-W08'!L113,'W05-W08'!S113,'W05-W08'!AA113,'W09-W12'!D113,'W09-W12'!L113,'W09-W12'!S113,'W09-W12'!AA113)","v":28.691666666666666},{"$f":"AVERAGE('3-6-7-14'!D113,'3-6-7-14'!L113,'3-6-7-14'!S113,'3-6-7-14'!AA113)","v":29.375}]

{"sheet":"Statistics2","index":5,"n_rows":113,"n_cols":13,"rows_kept":113,"cut":false,"hidden":false,"merged":[]}
[]
[]
[]
[]
[null,null,null,"Food-rstr","Water-rstr","Control","Food-rstr","Water-rstr","Control","Food-rstr","Water-rstr","Food-rstr","Water-rstr"]
[null,"Day","Age","Weight","Weight","Weight","Weight","Weight","Weight","Soy milk","Water","Total food","Total water"]
[null,"2016-12-12",41,{"$f":"AVERAGE('W01-W04'!F7,'W01-W04'!U7,'W05-W08'!F7,'W05-W08'!U7,'W09-W12'!F7,'W09-W12'!U7)","v":0.99027636379499417},{"$f":"AVERAGE('W01-W04'!N7,'W01-W04'!AC7,'W05-W08'!N7,'W05-W08'!AC7,'W09-W12'!N7,'W09-W12'!AC7)","v":0.99225408026777895},{"$f":"AVERAGE('3-6-7-14'!F7,'3-6-7-14'!N7,'3-6-7-14'!U7,'3-6-7-14'!AC7)","v":0.9789358718859047},{"$f":"AVERAGE('W01-W04'!D7,'W01-W04'!S7,'W05-W08'!D7,'W05-W08'!S7,'W09-W12'!D7,'W09-W12'!S7)","v":22.083333333333332},{"$f":"AVERAGE('W01-W04'!L7,'W01-W04'!AA7,'W05-W08'!L7,'W05-W08'!AA7,'W09-W12'!L7,'W09-W12'!AA7)","v":21.716666666666665},{"$f":"AVERAGE('3-6-7-14'!D7,'3-6-7-14'!L7,'3-6-7-14'!S7,'3-6-7-14'!AA7)","v":20.325000000000003}]
[null,"2016-12-13",42,{"$f":"AVERAGE('W01-W04'!F8,'W01-W04'!U8,'W05-W08'!F8,'W05-W08'!U8,'W09-W12'!F8,'W09-W12'!U8)","v":1.0171441713167919},{"$f":"AVERAGE('W01-W04'!N8,'W01-W04'!AC8,'W05-W08'!N8,'W05-W08'!AC8,'W09-W12'!N8,'W09-W12'!AC8)","v":1.0167822086624561},{"$f":"AVERAGE('3-6-7-14'!F8,'3-6-7-14'!N8,'3-6-7-14'!U8,'3-6-7-14'!AC8)","v":1.0049744388984783},{"$f":"AVERAGE('W01-W04'!D8,'W01-W04'!S8,'W05-W08'!D8,'W05-W08'!S8,'W09-W12'!D8,'W09-W12'!S8)","v":22.683333333333334},{"$f":"AVERAGE('W01-W04'!L8,'W01-W04'!AA8,'W05-W08'!L8,'W05-W08'!AA8,'W09-W12'!L8,'W09-W12'!AA8)","v":22.25},{"$f":"AVERAGE('3-6-7-14'!D8,'3-6-7-14'!L8,'3-6-7-14'!S8,'3-6-7-14'!AA8)","v":20.85}]
[null,"2016-12-14",43,{"$f":"AVERAGE('W01-W04'!F9,'W01-W04'!U9,'W05-W08'!F9,'W05-W08'!U9,'W09-W12'!F9,'W09-W12'!U9)","v":1.0024430688647992},{"$f":"AVERAGE('W01-W04'!N9,'W01-W04'!AC9,'W05-W08'!N9,'W05-W08'!AC9,'W09-W12'!N9,'W09-W12'!AC9)","v":1.0016655934331589},{"$f":"AVERAGE('3-6-7-14'!F9,'3-6-7-14'!N9,'3-6-7-14'!U9,'3-6-7-14'!AC9)","v":1.0124173520583792},{"$f":"AVERAGE('W01-W04'!D9,'W01-W04'!S9,'W05-W08'!D9,'W05-W08'!S9,'W09-W12'!D9,'W09-W12'!S9)","v":22.349999999999998},{"$f":"AVERAGE('W01-W04'!L9,'W01-W04'!AA9,'W05-W08'!L9,'W05-W08'!AA9,'W09-W12'!L9,'W09-W12'!AA9)","v":21.916666666666668},{"$f":"AVERAGE('3-6-7-14'!D9,'3-6-7-14'!L9,'3-6-7-14'!S9,'3-6-7-14'!AA9)","v":21}]
[null,"2016-12-15",44,{"$f":"AVERAGE('W01-W04'!F10,'W01-W04'!U10,'W05-W08'!F10,'W05-W08'!U10,'W09-W12'!F10,'W09-W12'!U10)","v":0.96446581814480448},{"$f":"AVERAGE('W01-W04'!N10,'W01-W04'!AC10,'W05-W08'!N10,'W05-W08'!AC10,'W09-W12'!N10,'W09-W12'!AC10)","v":0.96016373188931736},null,{"$f":"AVERAGE('W01-W04'!D10,'W01-W04'!S10,'W05-W08'!D10,'W05-W08'!S10,'W09-W12'!D10,'W09-W12'!S10)","v":21.5},{"$f":"AVERAGE('W01-W04'!L10,'W01-W04'!AA10,'W05-W08'!L10,'W05-W08'!AA10,'W09-W12'!L10,'W09-W12'!AA10)","v":21.016666666666669}]
[null,"2016-12-16",45,{"$f":"AVERAGE('W01-W04'!F11,'W01-W04'!U11,'W05-W08'!F11,'W05-W08'!U11,'W09-W12'!F11,'W09-W12'!U11)","v":0.95722215599130911},{"$f":"AVERAGE('W01-W04'!N11,'W01-W04'!AC11,'W05-W08'!N11,'W05-W08'!AC11,'W09-W12'!N11,'W09-W12'!AC11)","v":0.95717522869754423},{"$f":"AVERAGE('3-6-7-14'!F11,'3-6-7-14'!N11,'3-6-7-14'!U11,'3-6-7-14'!AC11)","v":1.0194082050147795},{"$f":"AVERAGE('W01-W04'!D11,'W01-W04'!S11,'W05-W08'!D11,'W05-W08'!S11,'W09-W12'!D11,'W09-W12'!S11)","v":21.349999999999998},{"$f":"AVERAGE('W01-W04'!L11,'W01-W04'!AA11,'W05-W08'!L11,'W05-W08'!AA11,'W09-W12'!L11,'W09-W12'!AA11)","v":20.95},{"$f":"AVERAGE('3-6-7-14'!D11,'3-6-7-14'!L11,'3-6-7-14'!S11,'3-6-7-14'!AA11)","v":21.074999999999999}]
[null,"2016-12-17",46,{"$f":"AVERAGE('W01-W04'!F12,'W01-W04'!U12,'W05-W08'!F12,'W05-W08'!U12,'W09-W12'!F12,'W09-W12'!U12)","v":0.99842460870412308},{"$f":"AVERAGE('W01-W04'!N12,'W01-W04'!AC12,'W05-W08'!N12,'W05-W08'!AC12,'W09-W12'!N12,'W09-W12'!AC12)","v":0.97355056484309677},null,{"$f":"AVERAGE('W01-W04'!D12,'W01-W04'!S12,'W05-W08'!D12,'W05-W08'!S12,'W09-W12'!D12,'W09-W12'!S12)","v":22.266666666666669},{"$f":"AVERAGE('W01-W04'!L12,'W01-W04'!AA12,'W05-W08'!L12,'W05-W08'!AA12,'W09-W12'!L12,'W09-W12'!AA12)","v":21.316666666666666}]
[null,"2016-12-18",47,{"$f":"AVERAGE('W01-W04'!F13,'W01-W04'!U13,'W05-W08'!F13,'W05-W08'!U13,'W09-W12'!F13,'W09-W12'!U13)","v":1.0238740879659296},{"$f":"AVERAGE('W01-W04'!N13,'W01-W04'!AC13,'W05-W08'!N13,'W05-W08'!AC13,'W09-W12'!N13,'W09-W12'!AC13)","v":1.0136125613478684},{"$f":"AVERAGE('3-6-7-14'!F13,'3-6-7-14'!N13,'3-6-7-14'!U13,'3-6-7-14'!AC13)","v":1.0347119644652805},{"$f":"AVERAGE('W01-W04'!D13,'W01-W04'!S13,'W05-W08'!D13,'W05-W08'!S13,'W09-W12'!D13,'W09-W12'!S13)","v":22.833333333333332},{"$f":"AVERAGE('W01-W04'!L13,'W01-W04'!AA13,'W05-W08'!L13,'W05-W08'!AA13,'W09-W12'!L13,'W09-W12'!AA13)","v":22.183333333333334},{"$f":"AVERAGE('3-6-7-14'!D13,'3-6-7-14'!L13,'3-6-7-14'!S13,'3-6-7-14'!AA13)","v":21.375}]
[null,"2016-12-19",48,{"$f":"AVERAGE('W01-W04'!F14,'W01-W04'!U14,'W05-W08'!F14,'W05-W08'!U14,'W09-W12'!F14,'W09-W12'!U14)","v":1.0449870287228766},{"$f":"AVERAGE('W01-W04'!N14,'W01-W04'!AC14,'W05-W08'!N14,'W05-W08'!AC14,'W09-W12'!N14,'W09-W12'!AC14)","v":1.0489376744104979},{"$f":"AVERAGE('3-6-7-14'!F14,'3-6-7-14'!N14,'3-6-7-14'!U14,'3-6-7-14'!AC14)","v":1.0670789182858025},{"$f":"AVERAGE('W01-W04'!D14,'W01-W04'!S14,'W05-W08'!D14,'W05-W08'!S14,'W09-W12'!D14,'W09-W12'!S14)","v":23.3},{"$f":"AVERAGE('W01-W04'!L14,'W01-W04'!AA14,'W05-W08'!L14,'W05-W08'!AA14,'W09-W12'!L14,'W09-W12'!AA14)","v":22.95},{"$f":"AVERAGE('3-6-7-14'!D14,'3-6-7-14'!L14,'3-6-7-14'!S14,'3-6-7-14'!AA14)","v":22.049999999999997}]
[null,"2016-12-20",49,{"$f":"AVERAGE('W01-W04'!F15,'W01-W04'!U15,'W05-W08'!F15,'W05-W08'!U15,'W09-W12'!F15,'W09-W12'!U15)","v":1.062888052113234},{"$f":"AVERAGE('W01-W04'!N15,'W01-W04'!AC15,'W05-W08'!N15,'W05-W08'!AC15,'W09-W12'!N15,'W09-W12'!AC15)","v":1.0769465306937689},{"$f":"AVERAGE('3-6-7-14'!F15,'3-6-7-14'!N15,'3-6-7-14'!U15,'3-6-7-14'!AC15)","v":1.1166948367030969},{"$f":"AVERAGE('W01-W04'!D15,'W01-W04'!S15,'W05-W08'!D15,'W05-W08'!S15,'W09-W12'!D15,'W09-W12'!S15)","v":23.700000000000003},{"$f":"AVERAGE('W01-W04'!L15,'W01-W04'!AA15,'W05-W08'!L15,'W05-W08'!AA15,'W09-W12'!L15,'W09-W12'!AA15)","v":23.566666666666666},{"$f":"AVERAGE('3-6-7-14'!D15,'3-6-7-14'!L15,'3-6-7-14'!S15,'3-6-7-14'!AA15)","v":23.1}]
[null,"2016-12-21",50,{"$f":"AVERAGE('W01-W04'!F16,'W01-W04'!U16,'W05-W08'!F16,'W05-W08'!U16,'W09-W12'!F16,'W09-W12'!U16)","v":1.0621131949433682},{"$f":"AVERAGE('W01-W04'!N16,'W01-W04'!AC16,'W05-W08'!N16,'W05-W08'!AC16,'W09-W12'!N16,'W09-W12'!AC16)","v":1.0733553022638309},{"$f":"AVERAGE('3-6-7-14'!F16,'3-6-7-14'!N16,'3-6-7-14'!U16,'3-6-7-14'!AC16)","v":1.1295640589478677},{"$f":"AVERAGE('W01-W04'!D16,'W01-W04'!S16,'W05-W08'!D16,'W05-W08'!S16,'W09-W12'!D16,'W09-W12'!S16)","v":23.683333333333334},{"$f":"AVERAGE('W01-W04'!L16,'W01-W04'!AA16,'W05-W08'!L16,'W05-W08'!AA16,'W09-W12'!L16,'W09-W12'!AA16)","v":23.483333333333334},{"$f":"AVERAGE('3-6-7-14'!D16,'3-6-7-14'!L16,'3-6-7-14'!S16,'3-6-7-14'!AA16)","v":23.35}]
[null,"2016-12-22",51,{"$f":"AVERAGE('W01-W04'!F17,'W01-W04'!U17,'W05-W08'!F17,'W05-W08'!U17,'W09-W12'!F17,'W09-W12'!U17)","v":1.0383335669625422},{"$f":"AVERAGE('W01-W04'!N17,'W01-W04'!AC17,'W05-W08'!N17,'W05-W08'!AC17,'W09-W12'!N17,'W09-W12'!AC17)","v":1.0764235200072585},{"$f":"AVERAGE('3-6-7-14'!F17,'3-6-7-14'!N17,'3-6-7-14'!U17,'3-6-7-14'!AC17)","v":1.1643011246732655},{"$f":"AVERAGE('W01-W04'!D17,'W01-W04'!S17,'W05-W08'!D17,'W05-W08'!S17,'W09-W12'!D17,'W09-W12'!S17)","v":23.150000000000002},{"$f":"AVERAGE('W01-W04'!L17,'W01-W04'!AA17,'W05-W08'!L17,'W05-W08'!AA17,'W09-W12'!L17,'W09-W12'!AA17)","v":23.549999999999997},{"$f":"AVERAGE('3-6-7-14'!D17,'3-6-7-14'!L17,'3-6-7-14'!S17,'3-6-7-14'!AA17)","v":24.024999999999999}]
[null,"2016-12-23",52,{"$f":"AVERAGE('W01-W04'!F18,'W01-W04'!U18,'W05-W08'!F18,'W05-W08'!U18,'W09-W12'!F18,'W09-W12'!U18)","v":1.0411933422527893},{"$f":"AVERAGE('W01-W04'!N18,'W01-W04'!AC18,'W05-W08'!N18,'W05-W08'!AC18,'W09-W12'!N18,'W09-W12'!AC18)","v":1.0777647364611573},{"$f":"AVERAGE('3-6-7-14'!F18,'3-6-7-14'!N18,'3-6-7-14'!U18,'3-6-7-14'!AC18)","v":1.144243507685432},{"$f":"AVERAGE('W01-W04'!D18,'W01-W04'!S18,'W05-W08'!D18,'W05-W08'!S18,'W09-W12'!D18,'W09-W12'!S18)","v":23.216666666666669},{"$f":"AVERAGE('W01-W04'!L18,'W01-W04'!AA18,'W05-W08'!L18,'W05-W08'!AA18,'W09-W12'!L18,'W09-W12'!AA18)","v":23.583333333333332},{"$f":"AVERAGE('3-6-7-14'!D18,'3-6-7-14'!L18,'3-6-7-14'!S18,'3-6-7-14'!AA18)","v":23.625}]
[null,"2016-12-24",53]
[null,"2016-12-25",54]
[null,"2016-12-26",55]
[null,"2016-12-27",56]
[null,"2016-12-28",57]
[null,"2016-12-29",58]
[null,"2016-12-30",59]
[null,"2016-12-31",60]
[null,"2017-01-01",61]
[null,"2017-01-02",62,{"$f":"AVERAGE('W01-W04'!F28,'W01-W04'!U28,'W05-W08'!F28,'W05-W08'!U28,'W09-W12'!F28,'W09-W12'!U28)","v":1},{"$f":"AVERAGE('W01-W04'!N28,'W01-W04'!AC28,'W05-W08'!N28,'W05-W08'!AC28,'W09-W12'!N28,'W09-W12'!AC28)","v":1},{"$f":"AVERAGE('3-6-7-14'!F28,'3-6-7-14'!N28,'3-6-7-14'!U28,'3-6-7-14'!AC28)","v":1},{"$f":"AVERAGE('W01-W04'!D28,'W01-W04'!S28,'W05-W08'!D28,'W05-W08'!S28,'W09-W12'!D28,'W09-W12'!S28)","v":24.900000000000002},{"$f":"AVERAGE('W01-W04'!L28,'W01-W04'!AA28,'W05-W08'!L28,'W05-W08'!AA28,'W09-W12'!L28,'W09-W12'!AA28)","v":25.483333333333334},{"$f":"AVERAGE('3-6-7-14'!D28,'3-6-7-14'!L28,'3-6-7-14'!S28,'3-6-7-14'!AA28)","v":24.099999999999998},null,null,{"$f":"AVERAGE('W01-W04'!K28,'W01-W04'!Z28,'W05-W08'!K28,'W05-W08'!Z28,'W09-W12'!K28,'W09-W12'!Z28)","v":2},{"$f":"AVERAGE('W01-W04'!R28,'W01-W04'!AG28,'W05-W08'!R28,'W05-W08'!AG28,'W09-W12'!R28,'W09-W12'!AG28)","v":1.57}]
[null,"2017-01-03",63,{"$f":"AVERAGE('W01-W04'!F29,'W01-W04'!U29,'W05-W08'!F29,'W05-W08'!U29,'W09-W12'!F29,'W09-W12'!U29)","v":0.87190003622455337},{"$f":"AVERAGE('W01-W04'!N29,'W01-W04'!AC29,'W05-W08'!N29,'W05-W08'!AC29,'W09-W12'!N29,'W09-W12'!AC29)","v":0.90156857456145101},{"$f":"AVERAGE('3-6-7-14'!F29,'3-6-7-14'!N29,'3-6-7-14'!U29,'3-6-7-14'!AC29)","v":1.0427165815662824},{"$f":"AVERAGE('W01-W04'!D29,'W01-W04'!S29,'W05-W08'!D29,'W05-W08'!S29,'W09-W12'!D29,'W09-W12'!S29)","v":21.7},{"$f":"AVERAGE('W01-W04'!L29,'W01-W04'!AA29,'W05-W08'!L29,'W05-W08'!AA29,'W09-W12'!L29,'W09-W12'!AA29)","v":22.966666666666669},{"$f":"AVERAGE('3-6-7-14'!D29,'3-6-7-14'!L29,'3-6-7-14'!S29,'3-6-7-14'!AA29)","v":25.125},null,null,{"$f":"AVERAGE('W01-W04'!K29,'W01-W04'!Z29,'W05-W08'!K29,'W05-W08'!Z29,'W09-W12'!K29,'W09-W12'!Z29)","v":2.7999999999999994},{"$f":"AVERAGE('W01-W04'!R29,'W01-W04'!AG29,'W05-W08'!R29,'W05-W08'!AG29,'W09-W12'!R29,'W09-W12'!AG29)","v":1.675}]
[null,"2017-01-04",64,{"$f":"AVERAGE('W01-W04'!F30,'W01-W04'!U30,'W05-W08'!F30,'W05-W08'!U30,'W09-W12'!F30,'W09-W12'!U30)","v":0.86419215615053424},{"$f":"AVERAGE('W01-W04'!N30,'W01-W04'!AC30,'W05-W08'!N30,'W05-W08'!AC30,'W09-W12'!N30,'W09-W12'!AC30)","v":0.8800644265912908},{"$f":"AVERAGE('3-6-7-14'!F30,'3-6-7-14'!N30,'3-6-7-14'!U30,'3-6-7-14'!AC30)","v":1.03312074483017},{"$f":"AVERAGE('W01-W04'!D30,'W01-W04'!S30,'W05-W08'!D30,'W05-W08'!S30,'W09-W12'!D30,'W09-W12'!S30)","v":21.516666666666666},{"$f":"AVERAGE('W01-W04'!L30,'W01-W04'!AA30,'W05-W08'!L30,'W05-W08'!AA30,'W09-W12'!L30,'W09-W12'!AA30)","v":22.416666666666668},{"$f":"AVERAGE('3-6-7-14'!D30,'3-6-7-14'!L30,'3-6-7-14'!S30,'3-6-7-14'!AA30)","v":24.9},null,null,{"$f":"AVERAGE('W01-W04'!K30,'W01-W04'!Z30,'W05-W08'!K30,'W05-W08'!Z30,'W09-W12'!K30,'W09-W12'!Z30)","v":2.8333333333333335},{"$f":"AVERAGE('W01-W04'!R30,'W01-W04'!AG30,'W05-W08'!R30,'W05-W08'!AG30,'W09-W12'!R30,'W09-W12'!AG30)","v":1.6166666666666665}]
[null,"2017-01-05",65,{"$f":"AVERAGE('W01-W04'!F31,'W01-W04'!U31,'W05-W08'!F31,'W05-W08'!U31,'W09-W12'!F31,'W09-W12'!U31)","v":0.83567212504305532},{"$f":"AVERAGE('W01-W04'!N31,'W01-W04'!AC31,'W05-W08'!N31,'W05-W08'!AC31,'W09-W12'!N31,'W09-W12'!AC31)","v":0.86044468130465201},{"$f":"AVERAGE('3-6-7-14'!F31,'3-6-7-14'!N31,'3-6-7-14'!U31,'3-6-7-14'!AC31)","v":1.0320703246621028},{"$f":"AVERAGE('W01-W04'!D31,'W01-W04'!S31,'W05-W08'!D31,'W05-W08'!S31,'W09-W12'!D31,'W09-W12'!S31)","v":20.8},{"$f":"AVERAGE('W01-W04'!L31,'W01-W04'!AA31,'W05-W08'!L31,'W05-W08'!AA31,'W09-W12'!L31,'W09-W12'!AA31)","v":21.916666666666668},{"$f":"AVERAGE('3-6-7-14'!D31,'3-6-7-14'!L31,'3-6-7-14'!S31,'3-6-7-14'!AA31)","v":24.875},{"$f":"AVERAGE('W01-W04'!H31,'W01-W04'!W31,'W05-W08'!H31,'W05-W08'!W31,'W09-W12'!H31,'W09-W12'!W31)","v":0.26666666666666672},{"$f":"AVERAGE('W01-W04'!P31,'W01-W04'!AE31,'W05-W08'!P31,'W05-W08'!AE31,'W09-W12'!P31,'W09-W12'!AE31)","v":0.43333333333333329},{"$f":"AVERAGE('W01-W04'!K31,'W01-W04'!Z31,'W05-W08'!K31,'W05-W08'!Z31,'W09-W12'!K31,'W09-W12'!Z31)","v":3.1211466666666667},{"$f":"AVERAGE('W01-W04'!R31,'W01-W04'!AG31,'W05-W08'!R31,'W05-W08'!AG31,'W09-W12'!R31,'W09-W12'!AG31)","v":1.7633333333333334}]
[null,"2017-01-06",66,{"$f":"AVERAGE('W01-W04'!F32,'W01-W04'!U32,'W05-W08'!F32,'W05-W08'!U32,'W09-W12'!F32,'W09-W12'!U32)","v":0.84218581911630919},{"$f":"AVERAGE('W01-W04'!N32,'W01-W04'!AC32,'W05-W08'!N32,'W05-W08'!AC32,'W09-W12'!N32,'W09-W12'!AC32)","v":0.85300733285515529},{"$f":"AVERAGE('3-6-7-14'!F32,'3-6-7-14'!N32,'3-6-7-14'!U32,'3-6-7-14'!AC32)","v":1.0415287969356537},{"$f":"AVERAGE('W01-W04'!D32,'W01-W04'!S32,'W05-W08'!D32,'W05-W08'!S32,'W09-W12'!D32,'W09-W12'!S32)","v":20.966666666666669},{"$f":"AVERAGE('W01-W04'!L32,'W01-W04'!AA32,'W05-W08'!L32,'W05-W08'!AA32,'W09-W12'!L32,'W09-W12'!AA32)","v":21.733333333333334},{"$f":"AVERAGE('3-6-7-14'!D32,'3-6-7-14'!L32,'3-6-7-14'!S32,'3-6-7-14'!AA32)","v":25.1},{"$f":"AVERAGE('W01-W04'!H32,'W01-W04'!W32,'W05-W08'!H32,'W05-W08'!W32,'W09-W12'!H32,'W09-W12'!W32)","v":0.57500000000000007},{"$f":"AVERAGE('W01-W04'!P32,'W01-W04'!AE32,'W05-W08'!P32,'W05-W08'!AE32,'W09-W12'!P32,'W09-W12'!AE32)","v":0.57833333333333337},{"$f":"AVERAGE('W01-W04'!K32,'W01-W04'!Z32,'W05-W08'!K32,'W05-W08'!Z32,'W09-W12'!K32,'W09-W12'!Z32)","v":3.2008058333333334},{"$f":"AVERAGE('W01-W04'!R32,'W01-W04'!AG32,'W05-W08'!R32,'W05-W08'!AG32,'W09-W12'!R32,'W09-W12'!AG32)","v":1.8966666666666665}]
[null,"2017-01-07",67,{"$f":"AVERAGE('W01-W04'!F33,'W01-W04'!U33,'W05-W08'!F33,'W05-W08'!U33,'W09-W12'!F33,'W09-W12'!U33)","v":0.8333108894415876},{"$f":"AVERAGE('W01-W04'!N33,'W01-W04'!AC33,'W05-W08'!N33,'W05-W08'!AC33,'W09-W12'!N33,'W09-W12'!AC33)","v":0.85764474826151427},{"$f":"AVERAGE('3-6-7-14'!F33,'3-6-7-14'!N33,'3-6-7-14'!U33,'3-6-7-14'!AC33)","v":1.0477540727109371},{"$f":"AVERAGE('W01-W04'!D33,'W01-W04'!S33,'W05-W08'!D33,'W05-W08'!S33,'W09-W12'!D33,'W09-W12'!S33)","v":20.75},{"$f":"AVERAGE('W01-W04'!L33,'W01-W04'!AA33,'W05-W08'!L33,'W05-W08'!AA33,'W09-W12'!L33,'W09-W12'!AA33)","v":21.849999999999998},{"$f":"AVERAGE('3-6-7-14'!D33,'3-6-7-14'!L33,'3-6-7-14'!S33,'3-6-7-14'!AA33)","v":25.25},{"$f":"AVERAGE('W01-W04'!H33,'W01-W04'!W33,'W05-W08'!H33,'W05-W08'!W33,'W09-W12'!H33,'W09-W12'!W33)","v":0.6333333333333333},{"$f":"AVERAGE('W01-W04'!P33,'W01-W04'!AE33,'W05-W08'!P33,'W05-W08'!AE33,'W09-W12'!P33,'W09-W12'!AE33)","v":0.72000000000000008},{"$f":"AVERAGE('W01-W04'!K33,'W01-W04'!Z33,'W05-W08'!K33,'W05-W08'!Z33,'W09-W12'!K33,'W09-W12'!Z33)","v":3.4960566666666661},{"$f":"AVERAGE('W01-W04'!R33,'W01-W04'!AG33,'W05-W08'!R33,'W05-W08'!AG33,'W09-W12'!R33,'W09-W12'!AG33)","v":1.8083333333333336}]
[null,"2017-01-08",68,{"$f":"AVERAGE('W01-W04'!F34,'W01-W04'!U34,'W05-W08'!F34,'W05-W08'!U34,'W09-W12'!F34,'W09-W12'!U34)","v":0.86685262051771383},{"$f":"AVERAGE('W01-W04'!N34,'W01-W04'!AC34,'W05-W08'!N34,'W05-W08'!AC34,'W09-W12'!N34,'W09-W12'!AC34)","v":0.86017665631454332},{"$f":"AVERAGE('3-6-7-14'!F34,'3-6-7-14'!N34,'3-6-7-14'!U34,'3-6-7-14'!AC34)","v":1.0417180518004292},{"$f":"AVERAGE('W01-W04'!D34,'W01-W04'!S34,'W05-W08'!D34,'W05-W08'!S34,'W09-W12'!D34,'W09-W12'!S34)","v":21.583333333333332},{"$f":"AVERAGE('W01-W04'!L34,'W01-W04'!AA34,'W05-W08'!L34,'W05-W08'!AA34,'W09-W12'!L34,'W09-W12'!AA34)","v":21.916666666666668},{"$f":"AVERAGE('3-6-7-14'!D34,'3-6-7-14'!L34,'3-6-7-14'!S34,'3-6-7-14'!AA34)","v":25.1},null,null,{"$f":"AVERAGE('W01-W04'!K34,'W01-W04'!Z34,'W05-W08'!K34,'W05-W08'!Z34,'W09-W12'!K34,'W09-W12'!Z34)","v":3.0333333333333332},{"$f":"AVERAGE('W01-W04'!R34,'W01-W04'!AG34,'W05-W08'!R34,'W05-W08'!AG34,'W09-W12'!R34,'W09-W12'!AG34)","v":1.6966666666666665}]
[null,"2017-01-09",69,{"$f":"AVERAGE('W01-W04'!F35,'W01-W04'!U35,'W05-W08'!F35,'W05-W08'!U35,'W09-W12'!F35,'W09-W12'!U35)","v":0.84074852702592262},{"$f":"AVERAGE('W01-W04'!N35,'W01-W04'!AC35,'W05-W08'!N35,'W05-W08'!AC35,'W09-W12'!N35,'W09-W12'!AC35)","v":0.86355908807327697},{"$f":"AVERAGE('3-6-7-14'!F35,'3-6-7-14'!N35,'3-6-7-14'!U35,'3-6-7-14'!AC35)","v":1.0538448256949795},{"$f":"AVERAGE('W01-W04'!D35,'W01-W04'!S35,'W05-W08'!D35,'W05-W08'!S35,'W09-W12'!D35,'W09-W12'!S35)","v":20.933333333333334},{"$f":"AVERAGE('W01-W04'!L35,'W01-W04'!AA35,'W05-W08'!L35,'W05-W08'!AA35,'W09-W12'!L35,'W09-W12'!AA35)","v":22},{"$f":"AVERAGE('3-6-7-14'!D35,'3-6-7-14'!L35,'3-6-7-14'!S35,'3-6-7-14'!AA35)","v":25.400000000000002},{"$f":"AVERAGE('W01-W04'!H35,'W01-W04'!W35,'W05-W08'!H35,'W05-W08'!W35,'W09-W12'!H35,'W09-W12'!W35)","v":0.5083333333333333},{"$f":"AVERAGE('W01-W04'!P35,'W01-W04'!AE35,'W05-W08'!P35,'W05-W08'!AE35,'W09-W12'!P35,'W09-W12'!AE35)","v":0.81666666666666676},{"$f":"AVERAGE('W01-W04'!K35,'W01-W04'!Z35,'W05-W08'!K35,'W05-W08'!Z35,'W09-W12'!K35,'W09-W12'!Z35)","v":3.2871858333333335},{"$f":"AVERAGE('W01-W04'!R35,'W01-W04'!AG35,'W05-W08'!R35,'W05-W08'!AG35,'W09-W12'!R35,'W09-W12'!AG35)","v":1.736666666666667}]
[null,"2017-01-10",70,{"$f":"AVERAGE('W01-W04'!F36,'W01-W04'!U36,'W05-W08'!F36,'W05-W08'!U36,'W09-W12'!F36,'W09-W12'!U36)","v":0.84949977963081669},{"$f":"AVERAGE('W01-W04'!N36,'W01-W04'!AC36,'W05-W08'!N36,'W05-W08'!AC36,'W09-W12'!N36,'W09-W12'!AC36)","v":0.86671257755888709},{"$f":"AVERAGE('3-6-7-14'!F36,'3-6-7-14'!N36,'3-6-7-14'!U36,'3-6-7-14'!AC36)","v":1.056028298420141},{"$f":"AVERAGE('W01-W04'!D36,'W01-W04'!S36,'W05-W08'!D36,'W05-W08'!S36,'W09-W12'!D36,'W09-W12'!S36)","v":21.15},{"$f":"AVERAGE('W01-W04'!L36,'W01-W04'!AA36,'W05-W08'!L36,'W05-W08'!AA36,'W09-W12'!L36,'W09-W12'!AA36)","v":22.083333333333332},{"$f":"AVERAGE('3-6-7-14'!D36,'3-6-7-14'!L36,'3-6-7-14'!S36,'3-6-7-14'!AA36)","v":25.450000000000003},{"$f":"AVERAGE('W01-W04'!H36,'W01-W04'!W36,'W05-W08'!H36,'W05-W08'!W36,'W09-W12'!H36,'W09-W12'!W36)","v":0.5083333333333333},{"$f":"AVERAGE('W01-W04'!P36,'W01-W04'!AE36,'W05-W08'!P36,'W05-W08'!AE36,'W09-W12'!P36,'W09-W12'!AE36)","v":0.625},{"$f":"AVERAGE('W01-W04'!K36,'W01-W04'!Z36,'W05-W08'!K36,'W05-W08'!Z36,'W09-W12'!K36,'W09-W12'!Z36)","v":3.1538524999999997},{"$f":"AVERAGE('W01-W04'!R36,'W01-W04'!AG36,'W05-W08'!R36,'W05-W08'!AG36,'W09-W12'!R36,'W09-W12'!AG36)","v":1.675}]
[null,"2017-01-11",71,{"$f":"AVERAGE('W01-W04'!F37,'W01-W04'!U37,'W05-W08'!F37,'W05-W08'!U37,'W09-W12'!F37,'W09-W12'!U37)","v":0.84678484202675142},{"$f":"AVERAGE('W01-W04'!N37,'W01-W04'!AC37,'W05-W08'!N37,'W05-W08'!AC37,'W09-W12'!N37,'W09-W12'!AC37)","v":0.86675112270487153},{"$f":"AVERAGE('3-6-7-14'!F37,'3-6-7-14'!N37,'3-6-7-14'!U37,'3-6-7-14'!AC37)","v":1.0560241840065272},{"$f":"AVERAGE('W01-W04'!D37,'W01-W04'!S37,'W05-W08'!D37,'W05-W08'!S37,'W09-W12'!D37,'W09-W12'!S37)","v":21.083333333333332},{"$f":"AVERAGE('W01-W04'!L37,'W01-W04'!AA37,'W05-W08'!L37,'W05-W08'!AA37,'W09-W12'!L37,'W09-W12'!AA37)","v":22.083333333333332},{"$f":"AVERAGE('3-6-7-14'!D37,'3-6-7-14'!L37,'3-6-7-14'!S37,'3-6-7-14'!AA37)","v":25.45},{"$f":"AVERAGE('W01-W04'!H37,'W01-W04'!W37,'W05-W08'!H37,'W05-W08'!W37,'W09-W12'!H37,'W09-W12'!W37)","v":0.3833333333333333},{"$f":"AVERAGE('W01-W04'!P37,'W01-W04'!AE37,'W05-W08'!P37,'W05-W08'!AE37,'W09-W12'!P37,'W09-W12'!AE37)","v":0.81333333333333335},{"$f":"AVERAGE('W01-W04'!K37,'W01-W04'!Z37,'W05-W08'!K37,'W05-W08'!Z37,'W09-W12'!K37,'W09-W12'!Z37)","v":3.5116483333333335},{"$f":"AVERAGE('W01-W04'!R37,'W01-W04'!AG37,'W05-W08'!R37,'W05-W08'!AG37,'W09-W12'!R37,'W09-W12'!AG37)","v":1.7783333333333333}]
[null,"2017-01-12",72,{"$f":"AVERAGE('W01-W04'!F38,'W01-W04'!U38,'W05-W08'!F38,'W05-W08'!U38,'W09-W12'!F38,'W09-W12'!U38)","v":0.85079801107480468},{"$f":"AVERAGE('W01-W04'!N38,'W01-W04'!AC38,'W05-W08'!N38,'W05-W08'!AC38,'W09-W12'!N38,'W09-W12'!AC38)","v":0.86465553903246484},{"$f":"AVERAGE('3-6-7-14'!F38,'3-6-7-14'!N38,'3-6-7-14'!U38,'3-6-7-14'!AC38)","v":1.0568832320791977},{"$f":"AVERAGE('W01-W04'!D38,'W01-W04'!S38,'W05-W08'!D38,'W05-W08'!S38,'W09-W12'!D38,'W09-W12'!S38)","v":21.183333333333334},{"$f":"AVERAGE('W01-W04'!L38,'W01-W04'!AA38,'W05-W08'!L38,'W05-W08'!AA38,'W09-W12'!L38,'W09-W12'!AA38)","v":22.033333333333331},{"$f":"AVERAGE('3-6-7-14'!D38,'3-6-7-14'!L38,'3-6-7-14'!S38,'3-6-7-14'!AA38)","v":25.475000000000001},{"$f":"AVERAGE('W01-W04'!H38,'W01-W04'!W38,'W05-W08'!H38,'W05-W08'!W38,'W09-W12'!H38,'W09-W12'!W38)","v":0.72666666666666657},{"$f":"AVERAGE('W01-W04'!P38,'W01-W04'!AE38,'W05-W08'!P38,'W05-W08'!AE38,'W09-W12'!P38,'W09-W12'!AE38)","v":0.81666666666666654},{"$f":"AVERAGE('W01-W04'!K38,'W01-W04'!Z38,'W05-W08'!K38,'W05-W08'!Z38,'W09-W12'!K38,'W09-W12'!Z38)","v":3.1617913333333334},{"$f":"AVERAGE('W01-W04'!R38,'W01-W04'!AG38,'W05-W08'!R38,'W05-W08'!AG38,'W09-W12'!R38,'W09-W12'!AG38)","v":1.6833333333333333}]
[null,"2017-01-13",73,{"$f":"AVERAGE('W01-W04'!F39,'W01-W04'!U39,'W05-W08'!F39,'W05-W08'!U39,'W09-W12'!F39,'W09-W12'!U39)","v":0.85618142804674369},{"$f":"AVERAGE('W01-W04'!N39,'W01-W04'!AC39,'W05-W08'!N39,'W05-W08'!AC39,'W09-W12'!N39,'W09-W12'!AC39)","v":0.86658031303488992},{"$f":"AVERAGE('3-6-7-14'!F39,'3-6-7-14'!N39,'3-6-7-14'!U39,'3-6-7-14'!AC39)","v":1.0683484415930806},{"$f":"AVERAGE('W01-W04'!D39,'W01-W04'!S39,'W05-W08'!D39,'W05-W08'!S39,'W09-W12'!D39,'W09-W12'!S39)","v":21.316666666666666},{"$f":"AVERAGE('W01-W04'!L39,'W01-W04'!AA39,'W05-W08'!L39,'W05-W08'!AA39,'W09-W12'!L39,'W09-W12'!AA39)","v":22.083333333333332},{"$f":"AVERAGE('3-6-7-14'!D39,'3-6-7-14'!L39,'3-6-7-14'!S39,'3-6-7-14'!AA39)","v":25.75},{"$f":"AVERAGE('W01-W04'!H39,'W01-W04'!W39,'W05-W08'!H39,'W05-W08'!W39,'W09-W12'!H39,'W09-W12'!W39)","v":1.2916666666666667},{"$f":"AVERAGE('W01-W04'!P39,'W01-W04'!AE39,'W05-W08'!P39,'W05-W08'!AE39,'W09-W12'!P39,'W09-W12'!AE39)","v":0.875},{"$f":"AVERAGE('W01-W04'!K39,'W01-W04'!Z39,'W05-W08'!K39,'W05-W08'!Z39,'W09-W12'!K39,'W09-W12'!Z39)","v":2.6555541666666667},{"$f":"AVERAGE('W01-W04'!R39,'W01-W04'!AG39,'W05-W08'!R39,'W05-W08'!AG39,'W09-W12'!R39,'W09-W12'!AG39)","v":1.6499999999999997}]
[null,"2017-01-14",74,{"$f":"AVERAGE('W01-W04'!F40,'W01-W04'!U40,'W05-W08'!F40,'W05-W08'!U40,'W09-W12'!F40,'W09-W12'!U40)","v":0.84421376798212455},{"$f":"AVERAGE('W01-W04'!N40,'W01-W04'!AC40,'W05-W08'!N40,'W05-W08'!AC40,'W09-W12'!N40,'W09-W12'!AC40)","v":0.8665152220581529},{"$f":"AVERAGE('3-6-7-14'!F40,'3-6-7-14'!N40,'3-6-7-14'!U40,'3-6-7-14'!AC40)","v":1.0599108921973395},{"$f":"AVERAGE('W01-W04'!D40,'W01-W04'!S40,'W05-W08'!D40,'W05-W08'!S40,'W09-W12'!D40,'W09-W12'!S40)","v":21.016666666666666},{"$f":"AVERAGE('W01-W04'!L40,'W01-W04'!AA40,'W05-W08'!L40,'W05-W08'!AA40,'W09-W12'!L40,'W09-W12'!AA40)","v":22.083333333333332},{"$f":"AVERAGE('3-6-7-14'!D40,'3-6-7-14'!L40,'3-6-7-14'!S40,'3-6-7-14'!AA40)","v":25.55},{"$f":"AVERAGE('W01-W04'!H40,'W01-W04'!W40,'W05-W08'!H40,'W05-W08'!W40,'W09-W12'!H40,'W09-W12'!W40)","v":0.9916666666666667},{"$f":"AVERAGE('W01-W04'!P40,'W01-W04'!AE40,'W05-W08'!P40,'W05-W08'!AE40,'W09-W12'!P40,'W09-W12'!AE40)","v":0.73333333333333339},{"$f":"AVERAGE('W01-W04'!K40,'W01-W04'!Z40,'W05-W08'!K40,'W05-W08'!Z40,'W09-W12'!K40,'W09-W12'!Z40)","v":3.5192641666666664},{"$f":"AVERAGE('W01-W04'!R40,'W01-W04'!AG40,'W05-W08'!R40,'W05-W08'!AG40,'W09-W12'!R40,'W09-W12'!AG40)","v":1.6583333333333332}]
[null,"2017-01-15",75,{"$f":"AVERAGE('W01-W04'!F41,'W01-W04'!U41,'W05-W08'!F41,'W05-W08'!U41,'W09-W12'!F41,'W09-W12'!U41)","v":0.85413365327739965},{"$f":"AVERAGE('W01-W04'!N41,'W01-W04'!AC41,'W05-W08'!N41,'W05-W08'!AC41,'W09-W12'!N41,'W09-W12'!AC41)","v":0.86518407473134051},{"$f":"AVERAGE('3-6-7-14'!F41,'3-6-7-14'!N41,'3-6-7-14'!U41,'3-6-7-14'!AC41)","v":1.0589821032780775},{"$f":"AVERAGE('W01-W04'!D41,'W01-W04'!S41,'W05-W08'!D41,'W05-W08'!S41,'W09-W12'!D41,'W09-W12'!S41)","v":21.266666666666666},{"$f":"AVERAGE('W01-W04'!L41,'W01-W04'!AA41,'W05-W08'!L41,'W05-W08'!AA41,'W09-W12'!L41,'W09-W12'!AA41)","v":22.05},{"$f":"AVERAGE('3-6-7-14'!D41,'3-6-7-14'!L41,'3-6-7-14'!S41,'3-6-7-14'!AA41)","v":25.524999999999999},{"$f":"AVERAGE('W01-W04'!H41,'W01-W04'!W41,'W05-W08'!H41,'W05-W08'!W41,'W09-W12'!H41,'W09-W12'!W41)","v":1.7249999999999999},{"$f":"AVERAGE('W01-W04'!P41,'W01-W04'!AE41,'W05-W08'!P41,'W05-W08'!AE41,'W09-W12'!P41,'W09-W12'!AE41)","v":0.84166666666666667},{"$f":"AVERAGE('W01-W04'!K41,'W01-W04'!Z41,'W05-W08'!K41,'W05-W08'!Z41,'W09-W12'!K41,'W09-W12'!Z41)","v":3.1357508333333333},{"$f":"AVERAGE('W01-W04'!R41,'W01-W04'!AG41,'W05-W08'!R41,'W05-W08'!AG41,'W09-W12'!R41,'W09-W12'!AG41)","v":1.6500000000000001}]
[null,"2017-01-16",76,{"$f":"AVERAGE('W01-W04'!F42,'W01-W04'!U42,'W05-W08'!F42,'W05-W08'!U42,'W09-W12'!F42,'W09-W12'!U42)","v":0.84725158880741513},{"$f":"AVERAGE('W01-W04'!N42,'W01-W04'!AC42,'W05-W08'!N42,'W05-W08'!AC42,'W09-W12'!N42,'W09-W12'!AC42)","v":0.86191403106950037},{"$f":"AVERAGE('3-6-7-14'!F42,'3-6-7-14'!N42,'3-6-7-14'!U42,'3-6-7-14'!AC42)","v":1.072573936212966},{"$f":"AVERAGE('W01-W04'!D42,'W01-W04'!S42,'W05-W08'!D42,'W05-W08'!S42,'W09-W12'!D42,'W09-W12'!S42)","v":21.1},{"$f":"AVERAGE('W01-W04'!L42,'W01-W04'!AA42,'W05-W08'!L42,'W05-W08'!AA42,'W09-W12'!L42,'W09-W12'!AA42)","v":21.966666666666669},{"$f":"AVERAGE('3-6-7-14'!D42,'3-6-7-14'!L42,'3-6-7-14'!S42,'3-6-7-14'!AA42)","v":25.85},{"$f":"AVERAGE('W01-W04'!H42,'W01-W04'!W42,'W05-W08'!H42,'W05-W08'!W42,'W09-W12'!H42,'W09-W12'!W42)","v":1.7083333333333333},{"$f":"AVERAGE('W01-W04'!P42,'W01-W04'!AE42,'W05-W08'!P42,'W05-W08'!AE42,'W09-W12'!P42,'W09-W12'!AE42)","v":0.81666666666666676},{"$f":"AVERAGE('W01-W04'!K42,'W01-W04'!Z42,'W05-W08'!K42,'W05-W08'!Z42,'W09-W12'!K42,'W09-W12'!Z42)","v":3.2490125000000005},{"$f":"AVERAGE('W01-W04'!R42,'W01-W04'!AG42,'W05-W08'!R42,'W05-W08'!AG42,'W09-W12'!R42,'W09-W12'!AG42)","v":1.6666666666666667}]
[null,"2017-01-17",77,{"$f":"AVERAGE('W01-W04'!F43,'W01-W04'!U43,'W05-W08'!F43,'W05-W08'!U43,'W09-W12'!F43,'W09-W12'!U43)","v":0.83405585774093394},{"$f":"AVERAGE('W01-W04'!N43,'W01-W04'!AC43,'W05-W08'!N43,'W05-W08'!AC43,'W09-W12'!N43,'W09-W12'!AC43)","v":0.85673733667861007},null,{"$f":"AVERAGE('W01-W04'!D43,'W01-W04'!S43,'W05-W08'!D43,'W05-W08'!S43,'W09-W12'!D43,'W09-W12'!S43)","v":20.766666666666666},{"$f":"AVERAGE('W01-W04'!L43,'W01-W04'!AA43,'W05-W08'!L43,'W05-W08'!AA43,'W09-W12'!L43,'W09-W12'!AA43)","v":21.833333333333332},null,{"$f":"AVERAGE('W01-W04'!H43,'W01-W04'!W43,'W05-W08'!H43,'W05-W08'!W43,'W09-W12'!H43,'W09-W12'!W43)","v":2.0999999999999996},{"$f":"AVERAGE('W01-W04'!P43,'W01-W04'!AE43,'W05-W08'!P43,'W05-W08'!AE43,'W09-W12'!P43,'W09-W12'!AE43)","v":0.40333333333333338},{"$f":"AVERAGE('W01-W04'!K43,'W01-W04'!Z43,'W05-W08'!K43,'W05-W08'!Z43,'W09-W12'!K43,'W09-W12'!Z43)","v":3.6873633333333333},{"$f":"AVERAGE('W01-W04'!R43,'W01-W04'!AG43,'W05-W08'!R43,'W05-W08'!AG43,'W09-W12'!R43,'W09-W12'!AG43)","v":1.675}]
[null,"2017-01-18",78,{"$f":"AVERAGE('W01-W04'!F44,'W01-W04'!U44,'W05-W08'!F44,'W05-W08'!U44,'W09-W12'!F44,'W09-W12'!U44)","v":0.87146845181065957},{"$f":"AVERAGE('W01-W04'!N44,'W01-W04'!AC44,'W05-W08'!N44,'W05-W08'!AC44,'W09-W12'!N44,'W09-W12'!AC44)","v":0.86058200888038805},null,{"$f":"AVERAGE('W01-W04'!D44,'W01-W04'!S44,'W05-W08'!D44,'W05-W08'!S44,'W09-W12'!D44,'W09-W12'!S44)","v":21.700000000000003},{"$f":"AVERAGE('W01-W04'!L44,'W01-W04'!AA44,'W05-W08'!L44,'W05-W08'!AA44,'W09-W12'!L44,'W09-W12'!AA44)","v":21.933333333333334},null,{"$f":"AVERAGE('W01-W04'!H44,'W01-W04'!W44,'W05-W08'!H44,'W05-W08'!W44,'W09-W12'!H44,'W09-W12'!W44)","v":2.1183333333333336},{"$f":"AVERAGE('W01-W04'!P44,'W01-W04'!AE44,'W05-W08'!P44,'W05-W08'!AE44,'W09-W12'!P44,'W09-W12'!AE44)","v":0.21833333333333335},{"$f":"AVERAGE('W01-W04'!K44,'W01-W04'!Z44,'W05-W08'!K44,'W05-W08'!Z44,'W09-W12'!K44,'W09-W12'!Z44)","v":3.3250000000000006},{"$f":"AVERAGE('W01-W04'!R44,'W01-W04'!AG44,'W05-W08'!R44,'W05-W08'!AG44,'W09-W12'!R44,'W09-W12'!AG44)","v":1.6333333333333331}]
[null,"2017-01-19",79,{"$f":"AVERAGE('W01-W04'!F45,'W01-W04'!U45,'W05-W08'!F45,'W05-W08'!U45,'W09-W12'!F45,'W09-W12'!U45)","v":0.86015364816286366},{"$f":"AVERAGE('W01-W04'!N45,'W01-W04'!AC45,'W05-W08'!N45,'W05-W08'!AC45,'W09-W12'!N45,'W09-W12'!AC45)","v":0.86191044386834692},null,{"$f":"AVERAGE('W01-W04'!D45,'W01-W04'!S45,'W05-W08'!D45,'W05-W08'!S45,'W09-W12'!D45,'W09-W12'!S45)","v":21.416666666666668},{"$f":"AVERAGE('W01-W04'!L45,'W01-W04'!AA45,'W05-W08'!L45,'W05-W08'!AA45,'W09-W12'!L45,'W09-W12'!AA45)","v":21.966666666666665},null,{"$f":"AVERAGE('W01-W04'!H45,'W01-W04'!W45,'W05-W08'!H45,'W05-W08'!W45,'W09-W12'!H45,'W09-W12'!W45)","v":2.4316666666666662},{"$f":"AVERAGE('W01-W04'!P45,'W01-W04'!AE45,'W05-W08'!P45,'W05-W08'!AE45,'W09-W12'!P45,'W09-W12'!AE45)","v":0.35666666666666669},{"$f":"AVERAGE('W01-W04'!K45,'W01-W04'!Z45,'W05-W08'!K45,'W05-W08'!Z45,'W09-W12'!K45,'W09-W12'!Z45)","v":3.3666666666666667},{"$f":"AVERAGE('W01-W04'!R45,'W01-W04'!AG45,'W05-W08'!R45,'W05-W08'!AG45,'W09-W12'!R45,'W09-W12'!AG45)","v":1.55}]
[null,"2017-01-20",80,{"$f":"AVERAGE('W01-W04'!F46,'W01-W04'!U46,'W05-W08'!F46,'W05-W08'!U46,'W09-W12'!F46,'W09-W12'!U46)","v":0.86609942313661159},{"$f":"AVERAGE('W01-W04'!N46,'W01-W04'!AC46,'W05-W08'!N46,'W05-W08'!AC46,'W09-W12'!N46,'W09-W12'!AC46)","v":0.84638916005290954},null,{"$f":"AVERAGE('W01-W04'!D46,'W01-W04'!S46,'W05-W08'!D46,'W05-W08'!S46,'W09-W12'!D46,'W09-W12'!S46)","v":21.566666666666666},{"$f":"AVERAGE('W01-W04'!L46,'W01-W04'!AA46,'W05-W08'!L46,'W05-W08'!AA46,'W09-W12'!L46,'W09-W12'!AA46)","v":21.566666666666666},null,{"$f":"AVERAGE('W01-W04'!H46,'W01-W04'!W46,'W05-W08'!H46,'W05-W08'!W46,'W09-W12'!H46,'W09-W12'!W46)","v":2.1216666666666666},{"$f":"AVERAGE('W01-W04'!P46,'W01-W04'!AE46,'W05-W08'!P46,'W05-W08'!AE46,'W09-W12'!P46,'W09-W12'!AE46)","v":0.3133333333333333},{"$f":"AVERAGE('W01-W04'!K46,'W01-W04'!Z46,'W05-W08'!K46,'W05-W08'!Z46,'W09-W12'!K46,'W09-W12'!Z46)","v":3.3166666666666664},{"$f":"AVERAGE('W01-W04'!R46,'W01-W04'!AG46,'W05-W08'!R46,'W05-W08'!AG46,'W09-W12'!R46,'W09-W12'!AG46)","v":1.6083333333333334}]
[null,"2017-01-21",81,{"$f":"AVERAGE('W01-W04'!F47,'W01-W04'!U47,'W05-W08'!F47,'W05-W08'!U47,'W09-W12'!F47,'W09-W12'!U47)","v":0.8681120612249239},{"$f":"AVERAGE('W01-W04'!N47,'W01-W04'!AC47,'W05-W08'!N47,'W05-W08'!AC47,'W09-W12'!N47,'W09-W12'!AC47)","v":0.86064709985712506},null,{"$f":"AVERAGE('W01-W04'!D47,'W01-W04'!S47,'W05-W08'!D47,'W05-W08'!S47,'W09-W12'!D47,'W09-W12'!S47)","v":21.616666666666671},{"$f":"AVERAGE('W01-W04'!L47,'W01-W04'!AA47,'W05-W08'!L47,'W05-W08'!AA47,'W09-W12'!L47,'W09-W12'!AA47)","v":21.933333333333334},null,{"$f":"AVERAGE('W01-W04'!H47,'W01-W04'!W47,'W05-W08'!H47,'W05-W08'!W47,'W09-W12'!H47,'W09-W12'!W47)","v":2.355},{"$f":"AVERAGE('W01-W04'!P47,'W01-W04'!AE47,'W05-W08'!P47,'W05-W08'!AE47,'W09-W12'!P47,'W09-W12'!AE47)","v":0.30333333333333334},{"$f":"AVERAGE('W01-W04'!K47,'W01-W04'!Z47,'W05-W08'!K47,'W05-W08'!Z47,'W09-W12'!K47,'W09-W12'!Z47)","v":3.2816666666666663},{"$f":"AVERAGE('W01-W04'!R47,'W01-W04'!AG47,'W05-W08'!R47,'W05-W08'!AG47,'W09-W12'!R47,'W09-W12'!AG47)","v":1.5666666666666667}]
[null,"2017-01-22",82,{"$f":"AVERAGE('W01-W04'!F48,'W01-W04'!U48,'W05-W08'!F48,'W05-W08'!U48,'W09-W12'!F48,'W09-W12'!U48)","v":0.87356125652320316},{"$f":"AVERAGE('W01-W04'!N48,'W01-W04'!AC48,'W05-W08'!N48,'W05-W08'!AC48,'W09-W12'!N48,'W09-W12'!AC48)","v":0.8607218984860735},null,{"$f":"AVERAGE('W01-W04'!D48,'W01-W04'!S48,'W05-W08'!D48,'W05-W08'!S48,'W09-W12'!D48,'W09-W12'!S48)","v":21.75},{"$f":"AVERAGE('W01-W04'!L48,'W01-W04'!AA48,'W05-W08'!L48,'W05-W08'!AA48,'W09-W12'!L48,'W09-W12'!AA48)","v":21.933333333333337},null,null,null,{"$f":"AVERAGE('W01-W04'!K48,'W01-W04'!Z48,'W05-W08'!K48,'W05-W08'!Z48,'W09-W12'!K48,'W09-W12'!Z48)","v":3.23},{"$f":"AVERAGE('W01-W04'!R48,'W01-W04'!AG48,'W05-W08'!R48,'W05-W08'!AG48,'W09-W12'!R48,'W09-W12'!AG48)","v":1.55}]
[null,"2017-01-23",83,{"$f":"AVERAGE('W01-W04'!F49,'W01-W04'!U49,'W05-W08'!F49,'W05-W08'!U49,'W09-W12'!F49,'W09-W12'!U49)","v":0.86413731975583363},{"$f":"AVERAGE('W01-W04'!N49,'W01-W04'!AC49,'W05-W08'!N49,'W05-W08'!AC49,'W09-W12'!N49,'W09-W12'!AC49)","v":0.85808973335726968},{"$f":"AVERAGE('3-6-7-14'!F49,'3-6-7-14'!N49,'3-6-7-14'!U49,'3-6-7-14'!AC49)","v":1.0963159994872917},{"$f":"AVERAGE('W01-W04'!D49,'W01-W04'!S49,'W05-W08'!D49,'W05-W08'!S49,'W09-W12'!D49,'W09-W12'!S49)","v":21.516666666666666},{"$f":"AVERAGE('W01-W04'!L49,'W01-W04'!AA49,'W05-W08'!L49,'W05-W08'!AA49,'W09-W12'!L49,'W09-W12'!AA49)","v":21.866666666666664},{"$f":"AVERAGE('3-6-7-14'!D49,'3-6-7-14'!L49,'3-6-7-14'!S49,'3-6-7-14'!AA49)","v":26.424999999999997},{"$f":"AVERAGE('W01-W04'!H49,'W01-W04'!W49,'W05-W08'!H49,'W05-W08'!W49,'W09-W12'!H49,'W09-W12'!W49)","v":2.4283333333333337},{"$f":"AVERAGE('W01-W04'!P49,'W01-W04'!AE49,'W05-W08'!P49,'W05-W08'!AE49,'W09-W12'!P49,'W09-W12'!AE49)","v":0.57666666666666666},{"$f":"AVERAGE('W01-W04'!K49,'W01-W04'!Z49,'W05-W08'!K49,'W05-W08'!Z49,'W09-W12'!K49,'W09-W12'!Z49)","v":3.2916666666666661},{"$f":"AVERAGE('W01-W04'!R49,'W01-W04'!AG49,'W05-W08'!R49,'W05-W08'!AG49,'W09-W12'!R49,'W09-W12'!AG49)","v":1.3716666666666668}]
[null,"2017-01-24",84,{"$f":"AVERAGE('W01-W04'!F50,'W01-W04'!U50,'W05-W08'!F50,'W05-W08'!U50,'W09-W12'!F50,'W09-W12'!U50)","v":0.86537668836465553},{"$f":"AVERAGE('W01-W04'!N50,'W01-W04'!AC50,'W05-W08'!N50,'W05-W08'!AC50,'W09-W12'!N50,'W09-W12'!AC50)","v":0.84715809189463476},null,{"$f":"AVERAGE('W01-W04'!D50,'W01-W04'!S50,'W05-W08'!D50,'W05-W08'!S50,'W09-W12'!D50,'W09-W12'!S50)","v":21.55},{"$f":"AVERAGE('W01-W04'!L50,'W01-W04'!AA50,'W05-W08'!L50,'W05-W08'!AA50,'W09-W12'!L50,'W09-W12'!AA50)","v":21.583333333333332},null,{"$f":"AVERAGE('W01-W04'!H50,'W01-W04'!W50,'W05-W08'!H50,'W05-W08'!W50,'W09-W12'!H50,'W09-W12'!W50)","v":2.3450000000000002},{"$f":"AVERAGE('W01-W04'!P50,'W01-W04'!AE50,'W05-W08'!P50,'W05-W08'!AE50,'W09-W12'!P50,'W09-W12'!AE50)","v":0.66},{"$f":"AVERAGE('W01-W04'!K50,'W01-W04'!Z50,'W05-W08'!K50,'W05-W08'!Z50,'W09-W12'!K50,'W09-W12'!Z50)","v":3.2333333333333329},{"$f":"AVERAGE('W01-W04'!R50,'W01-W04'!AG50,'W05-W08'!R50,'W05-W08'!AG50,'W09-W12'!R50,'W09-W12'!AG50)","v":1.625}]
[null,"2017-01-25",85,{"$f":"AVERAGE('W01-W04'!F51,'W01-W04'!U51,'W05-W08'!F51,'W05-W08'!U51,'W09-W12'!F51,'W09-W12'!U51)","v":0.87552645851573951},{"$f":"AVERAGE('W01-W04'!N51,'W01-W04'!AC51,'W05-W08'!N51,'W05-W08'!AC51,'W09-W12'!N51,'W09-W12'!AC51)","v":0.85227702003894013},null,{"$f":"AVERAGE('W01-W04'!D51,'W01-W04'!S51,'W05-W08'!D51,'W05-W08'!S51,'W09-W12'!D51,'W09-W12'!S51)","v":21.799999999999997},{"$f":"AVERAGE('W01-W04'!L51,'W01-W04'!AA51,'W05-W08'!L51,'W05-W08'!AA51,'W09-W12'!L51,'W09-W12'!AA51)","v":21.716666666666665},null,{"$f":"AVERAGE('W01-W04'!H51,'W01-W04'!W51,'W05-W08'!H51,'W05-W08'!W51,'W09-W12'!H51,'W09-W12'!W51)","v":1.95},{"$f":"AVERAGE('W01-W04'!P51,'W01-W04'!AE51,'W05-W08'!P51,'W05-W08'!AE51,'W09-W12'!P51,'W09-W12'!AE51)","v":0.49833333333333329},{"$f":"AVERAGE('W01-W04'!K51,'W01-W04'!Z51,'W05-W08'!K51,'W05-W08'!Z51,'W09-W12'!K51,'W09-W12'!Z51)","v":3.1833333333333336},{"$f":"AVERAGE('W01-W04'!R51,'W01-W04'!AG51,'W05-W08'!R51,'W05-W08'!AG51,'W09-W12'!R51,'W09-W12'!AG51)","v":1.6250000000000002}]
[null,"2017-01-26",86,{"$f":"AVERAGE('W01-W04'!F52,'W01-W04'!U52,'W05-W08'!F52,'W05-W08'!U52,'W09-W12'!F52,'W09-W12'!U52)","v":0.87006585978230755},{"$f":"AVERAGE('W01-W04'!N52,'W01-W04'!AC52,'W05-W08'!N52,'W05-W08'!AC52,'W09-W12'!N52,'W09-W12'!AC52)","v":0.85610773855376532},null,{"$f":"AVERAGE('W01-W04'!D52,'W01-W04'!S52,'W05-W08'!D52,'W05-W08'!S52,'W09-W12'!D52,'W09-W12'!S52)","v":21.666666666666668},{"$f":"AVERAGE('W01-W04'!L52,'W01-W04'!AA52,'W05-W08'!L52,'W05-W08'!AA52,'W09-W12'!L52,'W09-W12'!AA52)","v":21.816666666666666},null,{"$f":"AVERAGE('W01-W04'!H52,'W01-W04'!W52,'W05-W08'!H52,'W05-W08'!W52,'W09-W12'!H52,'W09-W12'!W52)","v":2.1733333333333333},{"$f":"AVERAGE('W01-W04'!P52,'W01-W04'!AE52,'W05-W08'!P52,'W05-W08'!AE52,'W09-W12'!P52,'W09-W12'!AE52)","v":0.37999999999999995},{"$f":"AVERAGE('W01-W04'!K52,'W01-W04'!Z52,'W05-W08'!K52,'W05-W08'!Z52,'W09-W12'!K52,'W09-W12'!Z52)","v":3.1583333333333332},{"$f":"AVERAGE('W01-W04'!R52,'W01-W04'!AG52,'W05-W08'!R52,'W05-W08'!AG52,'W09-W12'!R52,'W09-W12'!AG52)","v":1.6000000000000003}]
[null,"2017-01-27",87,{"$f":"AVERAGE('W01-W04'!F53,'W01-W04'!U53,'W05-W08'!F53,'W05-W08'!U53,'W09-W12'!F53,'W09-W12'!U53)","v":0.86278430371058346},{"$f":"AVERAGE('W01-W04'!N53,'W01-W04'!AC53,'W05-W08'!N53,'W05-W08'!AC53,'W09-W12'!N53,'W09-W12'!AC53)","v":0.85868397841962274},null,{"$f":"AVERAGE('W01-W04'!D53,'W01-W04'!S53,'W05-W08'!D53,'W05-W08'!S53,'W09-W12'!D53,'W09-W12'!S53)","v":21.483333333333334},{"$f":"AVERAGE('W01-W04'!L53,'W01-W04'!AA53,'W05-W08'!L53,'W05-W08'!AA53,'W09-W12'!L53,'W09-W12'!AA53)","v":21.883333333333329},null,{"$f":"AVERAGE('W01-W04'!H53,'W01-W04'!W53,'W05-W08'!H53,'W05-W08'!W53,'W09-W12'!H53,'W09-W12'!W53)","v":1.39825},{"$f":"AVERAGE('W01-W04'!P53,'W01-W04'!AE53,'W05-W08'!P53,'W05-W08'!AE53,'W09-W12'!P53,'W09-W12'!AE53)","v":0.66120000000000001},{"$f":"AVERAGE('W01-W04'!K53,'W01-W04'!Z53,'W05-W08'!K53,'W05-W08'!Z53,'W09-W12'!K53,'W09-W12'!Z53)","v":3.1166666666666667},{"$f":"AVERAGE('W01-W04'!R53,'W01-W04'!AG53,'W05-W08'!R53,'W05-W08'!AG53,'W09-W12'!R53,'W09-W12'!AG53)","v":1.55}]
[null,"2017-01-28",88,{"$f":"AVERAGE('W01-W04'!F54,'W01-W04'!U54,'W05-W08'!F54,'W05-W08'!U54,'W09-W12'!F54,'W09-W12'!U54)","v":0.86960624742606851},{"$f":"AVERAGE('W01-W04'!N54,'W01-W04'!AC54,'W05-W08'!N54,'W05-W08'!AC54,'W09-W12'!N54,'W09-W12'!AC54)","v":0.84756653009210392},null,{"$f":"AVERAGE('W01-W04'!D54,'W01-W04'!S54,'W05-W08'!D54,'W05-W08'!S54,'W09-W12'!D54,'W09-W12'!S54)","v":21.650000000000002},{"$f":"AVERAGE('W01-W04'!L54,'W01-W04'!AA54,'W05-W08'!L54,'W05-W08'!AA54,'W09-W12'!L54,'W09-W12'!AA54)","v":21.599999999999998},null,{"$f":"AVERAGE('W01-W04'!H54,'W01-W04'!W54,'W05-W08'!H54,'W05-W08'!W54,'W09-W12'!H54,'W09-W12'!W54)","v":1.7297500000000001},{"$f":"AVERAGE('W01-W04'!P54,'W01-W04'!AE54,'W05-W08'!P54,'W05-W08'!AE54,'W09-W12'!P54,'W09-W12'!AE54)","v":0.76669999999999983},{"$f":"AVERAGE('W01-W04'!K54,'W01-W04'!Z54,'W05-W08'!K54,'W05-W08'!Z54,'W09-W12'!K54,'W09-W12'!Z54)","v":3.0333333333333332},{"$f":"AVERAGE('W01-W04'!R54,'W01-W04'!AG54,'W05-W08'!R54,'W05-W08'!AG54,'W09-W12'!R54,'W09-W12'!AG54)","v":1.5999999999999999}]
[null,"2017-01-29",89,{"$f":"AVERAGE('W01-W04'!F55,'W01-W04'!U55,'W05-W08'!F55,'W05-W08'!U55,'W09-W12'!F55,'W09-W12'!U55)","v":0.87334099118181741},{"$f":"AVERAGE('W01-W04'!N55,'W01-W04'!AC55,'W05-W08'!N55,'W05-W08'!AC55,'W09-W12'!N55,'W09-W12'!AC55)","v":0.84940071773120296},null,{"$f":"AVERAGE('W01-W04'!D55,'W01-W04'!S55,'W05-W08'!D55,'W05-W08'!S55,'W09-W12'!D55,'W09-W12'!S55)","v":21.75},{"$f":"AVERAGE('W01-W04'!L55,'W01-W04'!AA55,'W05-W08'!L55,'W05-W08'!AA55,'W09-W12'!L55,'W09-W12'!AA55)","v":21.650000000000002},null,null,null,{"$f":"AVERAGE('W01-W04'!K55,'W01-W04'!Z55,'W05-W08'!K55,'W05-W08'!Z55,'W09-W12'!K55,'W09-W12'!Z55)","v":2.9499999999999997},{"$f":"AVERAGE('W01-W04'!R55,'W01-W04'!AG55,'W05-W08'!R55,'W05-W08'!AG55,'W09-W12'!R55,'W09-W12'!AG55)","v":1.5833333333333333}]
[null,"2017-01-30",90,{"$f":"AVERAGE('W01-W04'!F56,'W01-W04'!U56,'W05-W08'!F56,'W05-W08'!U56,'W09-W12'!F56,'W09-W12'!U56)","v":0.85261998776712211},{"$f":"AVERAGE('W01-W04'!N56,'W01-W04'!AC56,'W05-W08'!N56,'W05-W08'!AC56,'W09-W12'!N56,'W09-W12'!AC56)","v":0.85668371001489829},{"$f":"AVERAGE('3-6-7-14'!F56,'3-6-7-14'!N56,'3-6-7-14'!U56,'3-6-7-14'!AC56)","v":1.0975120129451479},{"$f":"AVERAGE('W01-W04'!D56,'W01-W04'!S56,'W05-W08'!D56,'W05-W08'!S56,'W09-W12'!D56,'W09-W12'!S56)","v":21.233333333333334},{"$f":"AVERAGE('W01-W04'!L56,'W01-W04'!AA56,'W05-W08'!L56,'W05-W08'!AA56,'W09-W12'!L56,'W09-W12'!AA56)","v":21.833333333333332},{"$f":"AVERAGE('3-6-7-14'!D56,'3-6-7-14'!L56,'3-6-7-14'!S56,'3-6-7-14'!AA56)","v":26.450000000000003},{"$f":"AVERAGE('W01-W04'!H56,'W01-W04'!W56,'W05-W08'!H56,'W05-W08'!W56,'W09-W12'!H56,'W09-W12'!W56)","v":0.80183333333333329},{"$f":"AVERAGE('W01-W04'!P56,'W01-W04'!AE56,'W05-W08'!P56,'W05-W08'!AE56,'W09-W12'!P56,'W09-W12'!AE56)","v":0.9696999999999999},{"$f":"AVERAGE('W01-W04'!K56,'W01-W04'!Z56,'W05-W08'!K56,'W05-W08'!Z56,'W09-W12'!K56,'W09-W12'!Z56)","v":3.0083333333333333},{"$f":"AVERAGE('W01-W04'!R56,'W01-W04'!AG56,'W05-W08'!R56,'W05-W08'!AG56,'W09-W12'!R56,'W09-W12'!AG56)","v":1.6716666666666669}]
[null,"2017-01-31",91,{"$f":"AVERAGE('W01-W04'!F57,'W01-W04'!U57,'W05-W08'!F57,'W05-W08'!U57,'W09-W12'!F57,'W09-W12'!U57)","v":0.87205140151029381},{"$f":"AVERAGE('W01-W04'!N57,'W01-W04'!AC57,'W05-W08'!N57,'W05-W08'!AC57,'W09-W12'!N57,'W09-W12'!AC57)","v":0.85397666193432109},null,{"$f":"AVERAGE('W01-W04'!D57,'W01-W04'!S57,'W05-W08'!D57,'W05-W08'!S57,'W09-W12'!D57,'W09-W12'!S57)","v":21.716666666666665},{"$f":"AVERAGE('W01-W04'!L57,'W01-W04'!AA57,'W05-W08'!L57,'W05-W08'!AA57,'W09-W12'!L57,'W09-W12'!AA57)","v":21.766666666666666},null,{"$f":"AVERAGE('W01-W04'!H57,'W01-W04'!W57,'W05-W08'!H57,'W05-W08'!W57,'W09-W12'!H57,'W09-W12'!W57)","v":0.72816666666666674},{"$f":"AVERAGE('W01-W04'!P57,'W01-W04'!AE57,'W05-W08'!P57,'W05-W08'!AE57,'W09-W12'!P57,'W09-W12'!AE57)","v":0.98339999999999994},{"$f":"AVERAGE('W01-W04'!K57,'W01-W04'!Z57,'W05-W08'!K57,'W05-W08'!Z57,'W09-W12'!K57,'W09-W12'!Z57)","v":2.9333333333333336},{"$f":"AVERAGE('W01-W04'!R57,'W01-W04'!AG57,'W05-W08'!R57,'W05-W08'!AG57,'W09-W12'!R57,'W09-W12'!AG57)","v":1.6133333333333335}]
[null,"2017-02-01",92,{"$f":"AVERAGE('W01-W04'!F58,'W01-W04'!U58,'W05-W08'!F58,'W05-W08'!U58,'W09-W12'!F58,'W09-W12'!U58)","v":0.85668104211784446},{"$f":"AVERAGE('W01-W04'!N58,'W01-W04'!AC58,'W05-W08'!N58,'W05-W08'!AC58,'W09-W12'!N58,'W09-W12'!AC58)","v":0.8466958400510588},null,{"$f":"AVERAGE('W01-W04'!D58,'W01-W04'!S58,'W05-W08'!D58,'W05-W08'!S58,'W09-W12'!D58,'W09-W12'!S58)","v":21.333333333333332},{"$f":"AVERAGE('W01-W04'!L58,'W01-W04'!AA58,'W05-W08'!L58,'W05-W08'!AA58,'W09-W12'!L58,'W09-W12'!AA58)","v":21.583333333333332},null,{"$f":"AVERAGE('W01-W04'!H58,'W01-W04'!W58,'W05-W08'!H58,'W05-W08'!W58,'W09-W12'!H58,'W09-W12'!W58)","v":0.74658333333333349},{"$f":"AVERAGE('W01-W04'!P58,'W01-W04'!AE58,'W05-W08'!P58,'W05-W08'!AE58,'W09-W12'!P58,'W09-W12'!AE58)","v":1.1832},{"$f":"AVERAGE('W01-W04'!K58,'W01-W04'!Z58,'W05-W08'!K58,'W05-W08'!Z58,'W09-W12'!K58,'W09-W12'!Z58)","v":2.9666666666666663},{"$f":"AVERAGE('W01-W04'!R58,'W01-W04'!AG58,'W05-W08'!R58,'W05-W08'!AG58,'W09-W12'!R58,'W09-W12'!AG58)","v":1.8383333333333336}]
[null,"2017-02-02",93,{"$f":"AVERAGE('W01-W04'!F59,'W01-W04'!U59,'W05-W08'!F59,'W05-W08'!U59,'W09-W12'!F59,'W09-W12'!U59)","v":0.85020941962507279},{"$f":"AVERAGE('W01-W04'!N59,'W01-W04'!AC59,'W05-W08'!N59,'W05-W08'!AC59,'W09-W12'!N59,'W09-W12'!AC59)","v":0.84743381488872516},null,{"$f":"AVERAGE('W01-W04'!D59,'W01-W04'!S59,'W05-W08'!D59,'W05-W08'!S59,'W09-W12'!D59,'W09-W12'!S59)","v":21.166666666666664},{"$f":"AVERAGE('W01-W04'!L59,'W01-W04'!AA59,'W05-W08'!L59,'W05-W08'!AA59,'W09-W12'!L59,'W09-W12'!AA59)","v":21.599999999999998},null,{"$f":"AVERAGE('W01-W04'!H59,'W01-W04'!W59,'W05-W08'!H59,'W05-W08'!W59,'W09-W12'!H59,'W09-W12'!W59)","v":0.88683333333333347},{"$f":"AVERAGE('W01-W04'!P59,'W01-W04'!AE59,'W05-W08'!P59,'W05-W08'!AE59,'W09-W12'!P59,'W09-W12'!AE59)","v":0.95119999999999993},{"$f":"AVERAGE('W01-W04'!K59,'W01-W04'!Z59,'W05-W08'!K59,'W05-W08'!Z59,'W09-W12'!K59,'W09-W12'!Z59)","v":2.9750000000000001},{"$f":"AVERAGE('W01-W04'!R59,'W01-W04'!AG59,'W05-W08'!R59,'W05-W08'!AG59,'W09-W12'!R59,'W09-W12'!AG59)","v":1.7733333333333334}]
[null,"2017-02-03",94,{"$f":"AVERAGE('W01-W04'!F60,'W01-W04'!U60,'W05-W08'!F60,'W05-W08'!U60,'W09-W12'!F60,'W09-W12'!U60)","v":0.85366099953425223},{"$f":"AVERAGE('W01-W04'!N60,'W01-W04'!AC60,'W05-W08'!N60,'W05-W08'!AC60,'W09-W12'!N60,'W09-W12'!AC60)","v":0.85039290981350923},null,{"$f":"AVERAGE('W01-W04'!D60,'W01-W04'!S60,'W05-W08'!D60,'W05-W08'!S60,'W09-W12'!D60,'W09-W12'!S60)","v":21.25},{"$f":"AVERAGE('W01-W04'!L60,'W01-W04'!AA60,'W05-W08'!L60,'W05-W08'!AA60,'W09-W12'!L60,'W09-W12'!AA60)","v":21.683333333333334},null,{"$f":"AVERAGE('W01-W04'!H60,'W01-W04'!W60,'W05-W08'!H60,'W05-W08'!W60,'W09-W12'!H60,'W09-W12'!W60)","v":1.0469166666666665},{"$f":"AVERAGE('W01-W04'!P60,'W01-W04'!AE60,'W05-W08'!P60,'W05-W08'!AE60,'W09-W12'!P60,'W09-W12'!AE60)","v":0.90580000000000005},{"$f":"AVERAGE('W01-W04'!K60,'W01-W04'!Z60,'W05-W08'!K60,'W05-W08'!Z60,'W09-W12'!K60,'W09-W12'!Z60)","v":2.9666666666666668},{"$f":"AVERAGE('W01-W04'!R60,'W01-W04'!AG60,'W05-W08'!R60,'W05-W08'!AG60,'W09-W12'!R60,'W09-W12'!AG60)","v":1.8166666666666667}]
[null,"2017-02-04",95,{"$f":"AVERAGE('W01-W04'!F61,'W01-W04'!U61,'W05-W08'!F61,'W05-W08'!U61,'W09-W12'!F61,'W09-W12'!U61)","v":0.85011643010885096},{"$f":"AVERAGE('W01-W04'!N61,'W01-W04'!AC61,'W05-W08'!N61,'W05-W08'!AC61,'W09-W12'!N61,'W09-W12'!AC61)","v":0.8537837684970403},null,{"$f":"AVERAGE('W01-W04'!D61,'W01-W04'!S61,'W05-W08'!D61,'W05-W08'!S61,'W09-W12'!D61,'W09-W12'!S61)","v":21.166666666666668},{"$f":"AVERAGE('W01-W04'!L61,'W01-W04'!AA61,'W05-W08'!L61,'W05-W08'!AA61,'W09-W12'!L61,'W09-W12'!AA61)","v":21.766666666666666},null,{"$f":"AVERAGE('W01-W04'!H61,'W01-W04'!W61,'W05-W08'!H61,'W05-W08'!W61,'W09-W12'!H61,'W09-W12'!W61)","v":0.97466666666666668},{"$f":"AVERAGE('W01-W04'!P61,'W01-W04'!AE61,'W05-W08'!P61,'W05-W08'!AE61,'W09-W12'!P61,'W09-W12'!AE61)","v":0.4854},{"$f":"AVERAGE('W01-W04'!K61,'W01-W04'!Z61,'W05-W08'!K61,'W05-W08'!Z61,'W09-W12'!K61,'W09-W12'!Z61)","v":2.9583333333333335},{"$f":"AVERAGE('W01-W04'!R61,'W01-W04'!AG61,'W05-W08'!R61,'W05-W08'!AG61,'W09-W12'!R61,'W09-W12'!AG61)","v":1.7749999999999997}]
[null,"2017-02-05",96,{"$f":"AVERAGE('W01-W04'!F62,'W01-W04'!U62,'W05-W08'!F62,'W05-W08'!U62,'W09-W12'!F62,'W09-W12'!U62)","v":0.8427874893163686},{"$f":"AVERAGE('W01-W04'!N62,'W01-W04'!AC62,'W05-W08'!N62,'W05-W08'!AC62,'W09-W12'!N62,'W09-W12'!AC62)","v":0.85714245108669929},null,{"$f":"AVERAGE('W01-W04'!D62,'W01-W04'!S62,'W05-W08'!D62,'W05-W08'!S62,'W09-W12'!D62,'W09-W12'!S62)","v":20.983333333333331},{"$f":"AVERAGE('W01-W04'!L62,'W01-W04'!AA62,'W05-W08'!L62,'W05-W08'!AA62,'W09-W12'!L62,'W09-W12'!AA62)","v":21.849999999999998},null,null,null,{"$f":"AVERAGE('W01-W04'!K62,'W01-W04'!Z62,'W05-W08'!K62,'W05-W08'!Z62,'W09-W12'!K62,'W09-W12'!Z62)","v":3.0083333333333333},{"$f":"AVERAGE('W01-W04'!R62,'W01-W04'!AG62,'W05-W08'!R62,'W05-W08'!AG62,'W09-W12'!R62,'W09-W12'!AG62)","v":1.7583333333333331}]
[null,"2017-02-06",97,{"$f":"AVERAGE('W01-W04'!F63,'W01-W04'!U63,'W05-W08'!F63,'W05-W08'!U63,'W09-W12'!F63,'W09-W12'!U63)","v":0.84090096747958498},{"$f":"AVERAGE('W01-W04'!N63,'W01-W04'!AC63,'W05-W08'!N63,'W05-W08'!AC63,'W09-W12'!N63,'W09-W12'!AC63)","v":0.86712844312713733},{"$f":"AVERAGE('3-6-7-14'!F63,'3-6-7-14'!N63,'3-6-7-14'!U63,'3-6-7-14'!AC63)","v":1.1015920623686115},{"$f":"AVERAGE('W01-W04'!D63,'W01-W04'!S63,'W05-W08'!D63,'W05-W08'!S63,'W09-W12'!D63,'W09-W12'!S63)","v":20.933333333333334},{"$f":"AVERAGE('W01-W04'!L63,'W01-W04'!AA63,'W05-W08'!L63,'W05-W08'!AA63,'W09-W12'!L63,'W09-W12'!AA63)","v":22.099999999999998},{"$f":"AVERAGE('3-6-7-14'!D63,'3-6-7-14'!L63,'3-6-7-14'!S63,'3-6-7-14'!AA63)","v":26.55},{"$f":"AVERAGE('W01-W04'!H63,'W01-W04'!W63,'W05-W08'!H63,'W05-W08'!W63,'W09-W12'!H63,'W09-W12'!W63)","v":1.0200000000000002},{"$f":"AVERAGE('W01-W04'!P63,'W01-W04'!AE63,'W05-W08'!P63,'W05-W08'!AE63,'W09-W12'!P63,'W09-W12'!AE63)","v":0.48869999999999997},{"$f":"AVERAGE('W01-W04'!K63,'W01-W04'!Z63,'W05-W08'!K63,'W05-W08'!Z63,'W09-W12'!K63,'W09-W12'!Z63)","v":3.0333333333333332},{"$f":"AVERAGE('W01-W04'!R63,'W01-W04'!AG63,'W05-W08'!R63,'W05-W08'!AG63,'W09-W12'!R63,'W09-W12'!AG63)","v":1.5}]
[null,"2017-02-07",98,{"$f":"AVERAGE('W01-W04'!F64,'W01-W04'!U64,'W05-W08'!F64,'W05-W08'!U64,'W09-W12'!F64,'W09-W12'!U64)","v":0.84761926380239283},{"$f":"AVERAGE('W01-W04'!N64,'W01-W04'!AC64,'W05-W08'!N64,'W05-W08'!AC64,'W09-W12'!N64,'W09-W12'!AC64)","v":0.85655182229075733},null,{"$f":"AVERAGE('W01-W04'!D64,'W01-W04'!S64,'W05-W08'!D64,'W05-W08'!S64,'W09-W12'!D64,'W09-W12'!S64)","v":21.099999999999998},{"$f":"AVERAGE('W01-W04'!L64,'W01-W04'!AA64,'W05-W08'!L64,'W05-W08'!AA64,'W09-W12'!L64,'W09-W12'!AA64)","v":21.833333333333332},null,{"$f":"AVERAGE('W01-W04'!H64,'W01-W04'!W64,'W05-W08'!H64,'W05-W08'!W64,'W09-W12'!H64,'W09-W12'!W64)","v":1.0256666666666667},{"$f":"AVERAGE('W01-W04'!P64,'W01-W04'!AE64,'W05-W08'!P64,'W05-W08'!AE64,'W09-W12'!P64,'W09-W12'!AE64)","v":0.90379999999999994},{"$f":"AVERAGE('W01-W04'!K64,'W01-W04'!Z64,'W05-W08'!K64,'W05-W08'!Z64,'W09-W12'!K64,'W09-W12'!Z64)","v":3.0416666666666665},{"$f":"AVERAGE('W01-W04'!R64,'W01-W04'!AG64,'W05-W08'!R64,'W05-W08'!AG64,'W09-W12'!R64,'W09-W12'!AG64)","v":1.6233333333333333}]
[null,"2017-02-08",99,{"$f":"AVERAGE('W01-W04'!F65,'W01-W04'!U65,'W05-W08'!F65,'W05-W08'!U65,'W09-W12'!F65,'W09-W12'!U65)","v":0.85437004178090836},{"$f":"AVERAGE('W01-W04'!N65,'W01-W04'!AC65,'W05-W08'!N65,'W05-W08'!AC65,'W09-W12'!N65,'W09-W12'!AC65)","v":0.84752474547956469},null,{"$f":"AVERAGE('W01-W04'!D65,'W01-W04'!S65,'W05-W08'!D65,'W05-W08'!S65,'W09-W12'!D65,'W09-W12'!S65)","v":21.266666666666666},{"$f":"AVERAGE('W01-W04'!L65,'W01-W04'!AA65,'W05-W08'!L65,'W05-W08'!AA65,'W09-W12'!L65,'W09-W12'!AA65)","v":21.599999999999998},null,{"$f":"AVERAGE('W01-W04'!H65,'W01-W04'!W65,'W05-W08'!H65,'W05-W08'!W65,'W09-W12'!H65,'W09-W12'!W65)","v":1.0143333333333335},{"$f":"AVERAGE('W01-W04'!P65,'W01-W04'!AE65,'W05-W08'!P65,'W05-W08'!AE65,'W09-W12'!P65,'W09-W12'!AE65)","v":0.87369999999999992},{"$f":"AVERAGE('W01-W04'!K65,'W01-W04'!Z65,'W05-W08'!K65,'W05-W08'!Z65,'W09-W12'!K65,'W09-W12'!Z65)","v":3.0133333333333332},{"$f":"AVERAGE('W01-W04'!R65,'W01-W04'!AG65,'W05-W08'!R65,'W05-W08'!AG65,'W09-W12'!R65,'W09-W12'!AG65)","v":1.6666666666666667}]
[null,"2017-02-09",100,{"$f":"AVERAGE('W01-W04'!F66,'W01-W04'!U66,'W05-W08'!F66,'W05-W08'!U66,'W09-W12'!F66,'W09-W12'!U66)","v":0.84684728317602487},{"$f":"AVERAGE('W01-W04'!N66,'W01-W04'!AC66,'W05-W08'!N66,'W05-W08'!AC66,'W09-W12'!N66,'W09-W12'!AC66)","v":0.84487386775590323},null,{"$f":"AVERAGE('W01-W04'!D66,'W01-W04'!S66,'W05-W08'!D66,'W05-W08'!S66,'W09-W12'!D66,'W09-W12'!S66)","v":21.083333333333332},{"$f":"AVERAGE('W01-W04'!L66,'W01-W04'!AA66,'W05-W08'!L66,'W05-W08'!AA66,'W09-W12'!L66,'W09-W12'!AA66)","v":21.533333333333331},null,{"$f":"AVERAGE('W01-W04'!H66,'W01-W04'!W66,'W05-W08'!H66,'W05-W08'!W66,'W09-W12'!H66,'W09-W12'!W66)","v":1.0143333333333335},{"$f":"AVERAGE('W01-W04'!P66,'W01-W04'!AE66,'W05-W08'!P66,'W05-W08'!AE66,'W09-W12'!P66,'W09-W12'!AE66)","v":0.94679999999999997},{"$f":"AVERAGE('W01-W04'!K66,'W01-W04'!Z66,'W05-W08'!K66,'W05-W08'!Z66,'W09-W12'!K66,'W09-W12'!Z66)","v":3.0466666666666669},{"$f":"AVERAGE('W01-W04'!R66,'W01-W04'!AG66,'W05-W08'!R66,'W05-W08'!AG66,'W09-W12'!R66,'W09-W12'!AG66)","v":1.7050000000000001}]
[null,"2017-02-10",101,{"$f":"AVERAGE('W01-W04'!F67,'W01-W04'!U67,'W05-W08'!F67,'W05-W08'!U67,'W09-W12'!F67,'W09-W12'!U67)","v":0.85542799423373284},{"$f":"AVERAGE('W01-W04'!N67,'W01-W04'!AC67,'W05-W08'!N67,'W05-W08'!AC67,'W09-W12'!N67,'W09-W12'!AC67)","v":0.84093331271189375},null,{"$f":"AVERAGE('W01-W04'!D67,'W01-W04'!S67,'W05-W08'!D67,'W05-W08'!S67,'W09-W12'!D67,'W09-W12'!S67)","v":21.3},{"$f":"AVERAGE('W01-W04'!L67,'W01-W04'!AA67,'W05-W08'!L67,'W05-W08'!AA67,'W09-W12'!L67,'W09-W12'!AA67)","v":21.433333333333334},null,{"$f":"AVERAGE('W01-W04'!H67,'W01-W04'!W67,'W05-W08'!H67,'W05-W08'!W67,'W09-W12'!H67,'W09-W12'!W67)","v":1.0610833333333334},{"$f":"AVERAGE('W01-W04'!P67,'W01-W04'!AE67,'W05-W08'!P67,'W05-W08'!AE67,'W09-W12'!P67,'W09-W12'!AE67)","v":1.0034999999999998},{"$f":"AVERAGE('W01-W04'!K67,'W01-W04'!Z67,'W05-W08'!K67,'W05-W08'!Z67,'W09-W12'!K67,'W09-W12'!Z67)","v":3},{"$f":"AVERAGE('W01-W04'!R67,'W01-W04'!AG67,'W05-W08'!R67,'W05-W08'!AG67,'W09-W12'!R67,'W09-W12'!AG67)","v":1.7466666666666664}]
[null,"2017-02-11",102,{"$f":"AVERAGE('W01-W04'!F68,'W01-W04'!U68,'W05-W08'!F68,'W05-W08'!U68,'W09-W12'!F68,'W09-W12'!U68)","v":0.85724573347316158},{"$f":"AVERAGE('W01-W04'!N68,'W01-W04'!AC68,'W05-W08'!N68,'W05-W08'!AC68,'W09-W12'!N68,'W09-W12'!AC68)","v":0.83437776013441567},null,{"$f":"AVERAGE('W01-W04'!D68,'W01-W04'!S68,'W05-W08'!D68,'W05-W08'!S68,'W09-W12'!D68,'W09-W12'!S68)","v":21.349999999999998},{"$f":"AVERAGE('W01-W04'!L68,'W01-W04'!AA68,'W05-W08'!L68,'W05-W08'!AA68,'W09-W12'!L68,'W09-W12'!AA68)","v":21.266666666666666},null,{"$f":"AVERAGE('W01-W04'!H68,'W01-W04'!W68,'W05-W08'!H68,'W05-W08'!W68,'W09-W12'!H68,'W09-W12'!W68)","v":1.1205833333333335},{"$f":"AVERAGE('W01-W04'!P68,'W01-W04'!AE68,'W05-W08'!P68,'W05-W08'!AE68,'W09-W12'!P68,'W09-W12'!AE68)","v":1.1584999999999999},{"$f":"AVERAGE('W01-W04'!K68,'W01-W04'!Z68,'W05-W08'!K68,'W05-W08'!Z68,'W09-W12'!K68,'W09-W12'!Z68)","v":2.9783333333333335},{"$f":"AVERAGE('W01-W04'!R68,'W01-W04'!AG68,'W05-W08'!R68,'W05-W08'!AG68,'W09-W12'!R68,'W09-W12'!AG68)","v":1.8316666666666668}]
[null,"2017-02-12",103,{"$f":"AVERAGE('W01-W04'!F69,'W01-W04'!U69,'W05-W08'!F69,'W05-W08'!U69,'W09-W12'!F69,'W09-W12'!U69)","v":0.86066974598216994},{"$f":"AVERAGE('W01-W04'!N69,'W01-W04'!AC69,'W05-W08'!N69,'W05-W08'!AC69,'W09-W12'!N69,'W09-W12'!AC69)","v":0.83305811406039132},null,{"$f":"AVERAGE('W01-W04'!D69,'W01-W04'!S69,'W05-W08'!D69,'W05-W08'!S69,'W09-W12'!D69,'W09-W12'!S69)","v":21.433333333333334},{"$f":"AVERAGE('W01-W04'!L69,'W01-W04'!AA69,'W05-W08'!L69,'W05-W08'!AA69,'W09-W12'!L69,'W09-W12'!AA69)","v":21.233333333333334},null,{"$f":"AVERAGE('W01-W04'!H69,'W01-W04'!W69,'W05-W08'!H69,'W05-W08'!W69,'W09-W12'!H69,'W09-W12'!W69)","v":1.1205833333333335},{"$f":"AVERAGE('W01-W04'!P69,'W01-W04'!AE69,'W05-W08'!P69,'W05-W08'!AE69,'W09-W12'!P69,'W09-W12'!AE69)","v":1.1682999999999999},{"$f":"AVERAGE('W01-W04'!K69,'W01-W04'!Z69,'W05-W08'!K69,'W05-W08'!Z69,'W09-W12'!K69,'W09-W12'!Z69)","v":2.9333333333333331},{"$f":"AVERAGE('W01-W04'!R69,'W01-W04'!AG69,'W05-W08'!R69,'W05-W08'!AG69,'W09-W12'!R69,'W09-W12'!AG69)","v":1.8766666666666667}]
[null,"2017-02-13",104,{"$f":"AVERAGE('W01-W04'!F70,'W01-W04'!U70,'W05-W08'!F70,'W05-W08'!U70,'W09-W12'!F70,'W09-W12'!U70)","v":0.86197879599288318},{"$f":"AVERAGE('W01-W04'!N70,'W01-W04'!AC70,'W05-W08'!N70,'W05-W08'!AC70,'W09-W12'!N70,'W09-W12'!AC70)","v":0.83246406670894535},{"$f":"AVERAGE('3-6-7-14'!F70,'3-6-7-14'!N70,'3-6-7-14'!U70,'3-6-7-14'!AC70)","v":1.1179811844664669},{"$f":"AVERAGE('W01-W04'!D70,'W01-W04'!S70,'W05-W08'!D70,'W05-W08'!S70,'W09-W12'!D70,'W09-W12'!S70)","v":21.466666666666665},{"$f":"AVERAGE('W01-W04'!L70,'W01-W04'!AA70,'W05-W08'!L70,'W05-W08'!AA70,'W09-W12'!L70,'W09-W12'!AA70)","v":21.216666666666669},{"$f":"AVERAGE('3-6-7-14'!D70,'3-6-7-14'!L70,'3-6-7-14'!S70,'3-6-7-14'!AA70)","v":26.95},{"$f":"AVERAGE('W01-W04'!H70,'W01-W04'!W70,'W05-W08'!H70,'W05-W08'!W70,'W09-W12'!H70,'W09-W12'!W70)","v":1.1659166666666667},{"$f":"AVERAGE('W01-W04'!P70,'W01-W04'!AE70,'W05-W08'!P70,'W05-W08'!AE70,'W09-W12'!P70,'W09-W12'!AE70)","v":1.2094},{"$f":"AVERAGE('W01-W04'!K70,'W01-W04'!Z70,'W05-W08'!K70,'W05-W08'!Z70,'W09-W12'!K70,'W09-W12'!Z70)","v":2.8833333333333333},{"$f":"AVERAGE('W01-W04'!R70,'W01-W04'!AG70,'W05-W08'!R70,'W05-W08'!AG70,'W09-W12'!R70,'W09-W12'!AG70)","v":1.9833333333333334}]
[null,"2017-02-14",105,{"$f":"AVERAGE('W01-W04'!F71,'W01-W04'!U71,'W05-W08'!F71,'W05-W08'!U71,'W09-W12'!F71,'W09-W12'!U71)","v":0.8573877524822775},{"$f":"AVERAGE('W01-W04'!N71,'W01-W04'!AC71,'W05-W08'!N71,'W05-W08'!AC71,'W09-W12'!N71,'W09-W12'!AC71)","v":0.83519790571424446},null,{"$f":"AVERAGE('W01-W04'!D71,'W01-W04'!S71,'W05-W08'!D71,'W05-W08'!S71,'W09-W12'!D71,'W09-W12'!S71)","v":21.349999999999998},{"$f":"AVERAGE('W01-W04'!L71,'W01-W04'!AA71,'W05-W08'!L71,'W05-W08'!AA71,'W09-W12'!L71,'W09-W12'!AA71)","v":21.283333333333331},null,{"$f":"AVERAGE('W01-W04'!H71,'W01-W04'!W71,'W05-W08'!H71,'W05-W08'!W71,'W09-W12'!H71,'W09-W12'!W71)","v":1.2410000000000001},{"$f":"AVERAGE('W01-W04'!P71,'W01-W04'!AE71,'W05-W08'!P71,'W05-W08'!AE71,'W09-W12'!P71,'W09-W12'!AE71)","v":1.2928999999999999},{"$f":"AVERAGE('W01-W04'!K71,'W01-W04'!Z71,'W05-W08'!K71,'W05-W08'!Z71,'W09-W12'!K71,'W09-W12'!Z71)","v":2.875},{"$f":"AVERAGE('W01-W04'!R71,'W01-W04'!AG71,'W05-W08'!R71,'W05-W08'!AG71,'W09-W12'!R71,'W09-W12'!AG71)","v":2.0916666666666663}]
[null,"2017-02-15",106,{"$f":"AVERAGE('W01-W04'!F72,'W01-W04'!U72,'W05-W08'!F72,'W05-W08'!U72,'W09-W12'!F72,'W09-W12'!U72)","v":0.858728770978891},{"$f":"AVERAGE('W01-W04'!N72,'W01-W04'!AC72,'W05-W08'!N72,'W05-W08'!AC72,'W09-W12'!N72,'W09-W12'!AC72)","v":0.83647966547587271},null,{"$f":"AVERAGE('W01-W04'!D72,'W01-W04'!S72,'W05-W08'!D72,'W05-W08'!S72,'W09-W12'!D72,'W09-W12'!S72)","v":21.383333333333329},{"$f":"AVERAGE('W01-W04'!L72,'W01-W04'!AA72,'W05-W08'!L72,'W05-W08'!AA72,'W09-W12'!L72,'W09-W12'!AA72)","v":21.316666666666666},null,{"$f":"AVERAGE('W01-W04'!H72,'W01-W04'!W72,'W05-W08'!H72,'W05-W08'!W72,'W09-W12'!H72,'W09-W12'!W72)","v":1.2480833333333334},{"$f":"AVERAGE('W01-W04'!P72,'W01-W04'!AE72,'W05-W08'!P72,'W05-W08'!AE72,'W09-W12'!P72,'W09-W12'!AE72)","v":1.1745999999999999},{"$f":"AVERAGE('W01-W04'!K72,'W01-W04'!Z72,'W05-W08'!K72,'W05-W08'!Z72,'W09-W12'!K72,'W09-W12'!Z72)","v":2.8416666666666668},{"$f":"AVERAGE('W01-W04'!R72,'W01-W04'!AG72,'W05-W08'!R72,'W05-W08'!AG72,'W09-W12'!R72,'W09-W12'!AG72)","v":2.1583333333333332}]
[null,"2017-02-16",107,{"$f":"AVERAGE('W01-W04'!F73,'W01-W04'!U73,'W05-W08'!F73,'W05-W08'!U73,'W09-W12'!F73,'W09-W12'!U73)","v":0.85391920590684844},{"$f":"AVERAGE('W01-W04'!N73,'W01-W04'!AC73,'W05-W08'!N73,'W05-W08'!AC73,'W09-W12'!N73,'W09-W12'!AC73)","v":0.84353758472132989},null,{"$f":"AVERAGE('W01-W04'!D73,'W01-W04'!S73,'W05-W08'!D73,'W05-W08'!S73,'W09-W12'!D73,'W09-W12'!S73)","v":21.266666666666666},{"$f":"AVERAGE('W01-W04'!L73,'W01-W04'!AA73,'W05-W08'!L73,'W05-W08'!AA73,'W09-W12'!L73,'W09-W12'!AA73)","v":21.5},null,{"$f":"AVERAGE('W01-W04'!H73,'W01-W04'!W73,'W05-W08'!H73,'W05-W08'!W73,'W09-W12'!H73,'W09-W12'!W73)","v":1.3231666666666668},{"$f":"AVERAGE('W01-W04'!P73,'W01-W04'!AE73,'W05-W08'!P73,'W05-W08'!AE73,'W09-W12'!P73,'W09-W12'!AE73)","v":1.0896999999999999},{"$f":"AVERAGE('W01-W04'!K73,'W01-W04'!Z73,'W05-W08'!K73,'W05-W08'!Z73,'W09-W12'!K73,'W09-W12'!Z73)","v":2.8416666666666663},{"$f":"AVERAGE('W01-W04'!R73,'W01-W04'!AG73,'W05-W08'!R73,'W05-W08'!AG73,'W09-W12'!R73,'W09-W12'!AG73)","v":2.1916666666666664}]
[null,"2017-02-17",108,{"$f":"AVERAGE('W01-W04'!F74,'W01-W04'!U74,'W05-W08'!F74,'W05-W08'!U74,'W09-W12'!F74,'W09-W12'!U74)","v":0.85200962710893879},{"$f":"AVERAGE('W01-W04'!N74,'W01-W04'!AC74,'W05-W08'!N74,'W05-W08'!AC74,'W09-W12'!N74,'W09-W12'!AC74)","v":0.84546760781959829},null,{"$f":"AVERAGE('W01-W04'!D74,'W01-W04'!S74,'W05-W08'!D74,'W05-W08'!S74,'W09-W12'!D74,'W09-W12'!S74)","v":21.216666666666665},{"$f":"AVERAGE('W01-W04'!L74,'W01-W04'!AA74,'W05-W08'!L74,'W05-W08'!AA74,'W09-W12'!L74,'W09-W12'!AA74)","v":21.55},null,{"$f":"AVERAGE('W01-W04'!H74,'W01-W04'!W74,'W05-W08'!H74,'W05-W08'!W74,'W09-W12'!H74,'W09-W12'!W74)","v":1.4450000000000001},{"$f":"AVERAGE('W01-W04'!P74,'W01-W04'!AE74,'W05-W08'!P74,'W05-W08'!AE74,'W09-W12'!P74,'W09-W12'!AE74)","v":1.1833},{"$f":"AVERAGE('W01-W04'!K74,'W01-W04'!Z74,'W05-W08'!K74,'W05-W08'!Z74,'W09-W12'!K74,'W09-W12'!Z74)","v":2.8499999999999996},{"$f":"AVERAGE('W01-W04'!R74,'W01-W04'!AG74,'W05-W08'!R74,'W05-W08'!AG74,'W09-W12'!R74,'W09-W12'!AG74)","v":2.25}]
[null,"2017-02-18",109,{"$f":"AVERAGE('W01-W04'!F75,'W01-W04'!U75,'W05-W08'!F75,'W05-W08'!U75,'W09-W12'!F75,'W09-W12'!U75)","v":0.85730897438109555},{"$f":"AVERAGE('W01-W04'!N75,'W01-W04'!AC75,'W05-W08'!N75,'W05-W08'!AC75,'W09-W12'!N75,'W09-W12'!AC75)","v":0.85085907476794753},null,{"$f":"AVERAGE('W01-W04'!D75,'W01-W04'!S75,'W05-W08'!D75,'W05-W08'!S75,'W09-W12'!D75,'W09-W12'!S75)","v":21.349999999999998},{"$f":"AVERAGE('W01-W04'!L75,'W01-W04'!AA75,'W05-W08'!L75,'W05-W08'!AA75,'W09-W12'!L75,'W09-W12'!AA75)","v":21.683333333333334},null,{"$f":"AVERAGE('W01-W04'!H75,'W01-W04'!W75,'W05-W08'!H75,'W05-W08'!W75,'W09-W12'!H75,'W09-W12'!W75)","v":1.4435833333333334},{"$f":"AVERAGE('W01-W04'!P75,'W01-W04'!AE75,'W05-W08'!P75,'W05-W08'!AE75,'W09-W12'!P75,'W09-W12'!AE75)","v":1.1209999999999998},{"$f":"AVERAGE('W01-W04'!K75,'W01-W04'!Z75,'W05-W08'!K75,'W05-W08'!Z75,'W09-W12'!K75,'W09-W12'!Z75)","v":2.8249999999999997},{"$f":"AVERAGE('W01-W04'!R75,'W01-W04'!AG75,'W05-W08'!R75,'W05-W08'!AG75,'W09-W12'!R75,'W09-W12'!AG75)","v":2.2333333333333334}]
[null,"2017-02-19",110,{"$f":"AVERAGE('W01-W04'!F76,'W01-W04'!U76,'W05-W08'!F76,'W05-W08'!U76,'W09-W12'!F76,'W09-W12'!U76)","v":0.84393008374950673},{"$f":"AVERAGE('W01-W04'!N76,'W01-W04'!AC76,'W05-W08'!N76,'W05-W08'!AC76,'W09-W12'!N76,'W09-W12'!AC76)","v":0.8508887466771724},null,{"$f":"AVERAGE('W01-W04'!D76,'W01-W04'!S76,'W05-W08'!D76,'W05-W08'!S76,'W09-W12'!D76,'W09-W12'!S76)","v":21.016666666666669},{"$f":"AVERAGE('W01-W04'!L76,'W01-W04'!AA76,'W05-W08'!L76,'W05-W08'!AA76,'W09-W12'!L76,'W09-W12'!AA76)","v":21.683333333333334},null,null,null,{"$f":"AVERAGE('W01-W04'!K76,'W01-W04'!Z76,'W05-W08'!K76,'W05-W08'!Z76,'W09-W12'!K76,'W09-W12'!Z76)","v":2.875},{"$f":"AVERAGE('W01-W04'!R76,'W01-W04'!AG76,'W05-W08'!R76,'W05-W08'!AG76,'W09-W12'!R76,'W09-W12'!AG76)","v":2.2333333333333329}]
[null,"2017-02-20",111,{"$f":"AVERAGE('W01-W04'!F77,'W01-W04'!U77,'W05-W08'!F77,'W05-W08'!U77,'W09-W12'!F77,'W09-W12'!U77)","v":0.84125840782444572},{"$f":"AVERAGE('W01-W04'!N77,'W01-W04'!AC77,'W05-W08'!N77,'W05-W08'!AC77,'W09-W12'!N77,'W09-W12'!AC77)","v":0.86851358604301254},{"$f":"AVERAGE('3-6-7-14'!F77,'3-6-7-14'!N77,'3-6-7-14'!U77,'3-6-7-14'!AC77)","v":1.1346656075575137},{"$f":"AVERAGE('W01-W04'!D77,'W01-W04'!S77,'W05-W08'!D77,'W05-W08'!S77,'W09-W12'!D77,'W09-W12'!S77)","v":20.95},{"$f":"AVERAGE('W01-W04'!L77,'W01-W04'!AA77,'W05-W08'!L77,'W05-W08'!AA77,'W09-W12'!L77,'W09-W12'!AA77)","v":22.133333333333329},{"$f":"AVERAGE('3-6-7-14'!D77,'3-6-7-14'!L77,'3-6-7-14'!S77,'3-6-7-14'!AA77)","v":27.35},{"$f":"AVERAGE('W01-W04'!H77,'W01-W04'!W77,'W05-W08'!H77,'W05-W08'!W77,'W09-W12'!H77,'W09-W12'!W77)","v":1.4280000000000002},{"$f":"AVERAGE('W01-W04'!P77,'W01-W04'!AE77,'W05-W08'!P77,'W05-W08'!AE77,'W09-W12'!P77,'W09-W12'!AE77)","v":1.1180999999999999},{"$f":"AVERAGE('W01-W04'!K77,'W01-W04'!Z77,'W05-W08'!K77,'W05-W08'!Z77,'W09-W12'!K77,'W09-W12'!Z77)","v":2.9333333333333336},{"$f":"AVERAGE('W01-W04'!R77,'W01-W04'!AG77,'W05-W08'!R77,'W05-W08'!AG77,'W09-W12'!R77,'W09-W12'!AG77)","v":2.1749999999999998}]
[null,"2017-02-21",112,{"$f":"AVERAGE('W01-W04'!F78,'W01-W04'!U78,'W05-W08'!F78,'W05-W08'!U78,'W09-W12'!F78,'W09-W12'!U78)","v":0.8560875591342616},{"$f":"AVERAGE('W01-W04'!N78,'W01-W04'!AC78,'W05-W08'!N78,'W05-W08'!AC78,'W09-W12'!N78,'W09-W12'!AC78)","v":0.86857396986232704},null,{"$f":"AVERAGE('W01-W04'!D78,'W01-W04'!S78,'W05-W08'!D78,'W05-W08'!S78,'W09-W12'!D78,'W09-W12'!S78)","v":21.316666666666666},{"$f":"AVERAGE('W01-W04'!L78,'W01-W04'!AA78,'W05-W08'!L78,'W05-W08'!AA78,'W09-W12'!L78,'W09-W12'!AA78)","v":22.133333333333336},null,{"$f":"AVERAGE('W01-W04'!H78,'W01-W04'!W78,'W05-W08'!H78,'W05-W08'!W78,'W09-W12'!H78,'W09-W12'!W78)","v":1.527166666666667},{"$f":"AVERAGE('W01-W04'!P78,'W01-W04'!AE78,'W05-W08'!P78,'W05-W08'!AE78,'W09-W12'!P78,'W09-W12'!AE78)","v":1.0860999999999998},{"$f":"AVERAGE('W01-W04'!K78,'W01-W04'!Z78,'W05-W08'!K78,'W05-W08'!Z78,'W09-W12'!K78,'W09-W12'!Z78)","v":2.8666666666666667},{"$f":"AVERAGE('W01-W04'!R78,'W01-W04'!AG78,'W05-W08'!R78,'W05-W08'!AG78,'W09-W12'!R78,'W09-W12'!AG78)","v":2.1533333333333338}]
[null,"2017-02-22",113,{"$f":"AVERAGE('W01-W04'!F79,'W01-W04'!U79,'W05-W08'!F79,'W05-W08'!U79,'W09-W12'!F79,'W09-W12'!U79)","v":0.85533175182696131},{"$f":"AVERAGE('W01-W04'!N79,'W01-W04'!AC79,'W05-W08'!N79,'W05-W08'!AC79,'W09-W12'!N79,'W09-W12'!AC79)","v":0.87128276416041872},null,{"$f":"AVERAGE('W01-W04'!D79,'W01-W04'!S79,'W05-W08'!D79,'W05-W08'!S79,'W09-W12'!D79,'W09-W12'!S79)","v":21.3},{"$f":"AVERAGE('W01-W04'!L79,'W01-W04'!AA79,'W05-W08'!L79,'W05-W08'!AA79,'W09-W12'!L79,'W09-W12'!AA79)","v":22.2},null,{"$f":"AVERAGE('W01-W04'!H79,'W01-W04'!W79,'W05-W08'!H79,'W05-W08'!W79,'W09-W12'!H79,'W09-W12'!W79)","v":1.4945833333333336},{"$f":"AVERAGE('W01-W04'!P79,'W01-W04'!AE79,'W05-W08'!P79,'W05-W08'!AE79,'W09-W12'!P79,'W09-W12'!AE79)","v":1.1738999999999999},{"$f":"AVERAGE('W01-W04'!K79,'W01-W04'!Z79,'W05-W08'!K79,'W05-W08'!Z79,'W09-W12'!K79,'W09-W12'!Z79)","v":2.8583333333333329},{"$f":"AVERAGE('W01-W04'!R79,'W01-W04'!AG79,'W05-W08'!R79,'W05-W08'!AG79,'W09-W12'!R79,'W09-W12'!AG79)","v":2.1500000000000004}]
[null,"2017-02-23",114,{"$f":"AVERAGE('W01-W04'!F80,'W01-W04'!U80,'W05-W08'!F80,'W05-W08'!U80,'W09-W12'!F80,'W09-W12'!U80)","v":0.83687258759020844},{"$f":"AVERAGE('W01-W04'!N80,'W01-W04'!AC80,'W05-W08'!N80,'W05-W08'!AC80,'W09-W12'!N80,'W09-W12'!AC80)","v":0.8640909949445944},null,{"$f":"AVERAGE('W01-W04'!D80,'W01-W04'!S80,'W05-W08'!D80,'W05-W08'!S80,'W09-W12'!D80,'W09-W12'!S80)","v":20.85},{"$f":"AVERAGE('W01-W04'!L80,'W01-W04'!AA80,'W05-W08'!L80,'W05-W08'!AA80,'W09-W12'!L80,'W09-W12'!AA80)","v":22.016666666666666},null,{"$f":"AVERAGE('W01-W04'!H80,'W01-W04'!W80,'W05-W08'!H80,'W05-W08'!W80,'W09-W12'!H80,'W09-W12'!W80)","v":1.3722500000000002},{"$f":"AVERAGE('W01-W04'!P80,'W01-W04'!AE80,'W05-W08'!P80,'W05-W08'!AE80,'W09-W12'!P80,'W09-W12'!AE80)","v":1.1181999999999996},{"$f":"AVERAGE('W01-W04'!K80,'W01-W04'!Z80,'W05-W08'!K80,'W05-W08'!Z80,'W09-W12'!K80,'W09-W12'!Z80)","v":3.0083333333333333},{"$f":"AVERAGE('W01-W04'!R80,'W01-W04'!AG80,'W05-W08'!R80,'W05-W08'!AG80,'W09-W12'!R80,'W09-W12'!AG80)","v":2.0816666666666666}]
[null,"2017-02-24",115,{"$f":"AVERAGE('W01-W04'!F81,'W01-W04'!U81,'W05-W08'!F81,'W05-W08'!U81,'W09-W12'!F81,'W09-W12'!U81)","v":0.85683742468739188},{"$f":"AVERAGE('W01-W04'!N81,'W01-W04'!AC81,'W05-W08'!N81,'W05-W08'!AC81,'W09-W12'!N81,'W09-W12'!AC81)","v":0.86279397808337521},null,{"$f":"AVERAGE('W01-W04'!D81,'W01-W04'!S81,'W05-W08'!D81,'W05-W08'!S81,'W09-W12'!D81,'W09-W12'!S81)","v":21.333333333333332},{"$f":"AVERAGE('W01-W04'!L81,'W01-W04'!AA81,'W05-W08'!L81,'W05-W08'!AA81,'W09-W12'!L81,'W09-W12'!AA81)","v":21.983333333333334},null,{"$f":"AVERAGE('W01-W04'!H81,'W01-W04'!W81,'W05-W08'!H81,'W05-W08'!W81,'W09-W12'!H81,'W09-W12'!W81)","v":1.4846666666666666},{"$f":"AVERAGE('W01-W04'!P81,'W01-W04'!AE81,'W05-W08'!P81,'W05-W08'!AE81,'W09-W12'!P81,'W09-W12'!AE81)","v":1.161},{"$f":"AVERAGE('W01-W04'!K81,'W01-W04'!Z81,'W05-W08'!K81,'W05-W08'!Z81,'W09-W12'!K81,'W09-W12'!Z81)","v":2.8583333333333338},{"$f":"AVERAGE('W01-W04'!R81,'W01-W04'!AG81,'W05-W08'!R81,'W05-W08'!AG81,'W09-W12'!R81,'W09-W12'!AG81)","v":2.0216666666666669}]
[null,"2017-02-25",116,{"$f":"AVERAGE('W01-W04'!F82,'W01-W04'!U82,'W05-W08'!F82,'W05-W08'!U82,'W09-W12'!F82,'W09-W12'!U82)","v":0.84528825224476301},{"$f":"AVERAGE('W01-W04'!N82,'W01-W04'!AC82,'W05-W08'!N82,'W05-W08'!AC82,'W09-W12'!N82,'W09-W12'!AC82)","v":0.8588359147236021},null,{"$f":"AVERAGE('W01-W04'!D82,'W01-W04'!S82,'W05-W08'!D82,'W05-W08'!S82,'W09-W12'!D82,'W09-W12'!S82)","v":21.05},{"$f":"AVERAGE('W01-W04'!L82,'W01-W04'!AA82,'W05-W08'!L82,'W05-W08'!AA82,'W09-W12'!L82,'W09-W12'!AA82)","v":21.883333333333336},null,{"$f":"AVERAGE('W01-W04'!H82,'W01-W04'!W82,'W05-W08'!H82,'W05-W08'!W82,'W09-W12'!H82,'W09-W12'!W82)","v":1.2948333333333337},{"$f":"AVERAGE('W01-W04'!P82,'W01-W04'!AE82,'W05-W08'!P82,'W05-W08'!AE82,'W09-W12'!P82,'W09-W12'!AE82)","v":1.3375999999999999},{"$f":"AVERAGE('W01-W04'!K82,'W01-W04'!Z82,'W05-W08'!K82,'W05-W08'!Z82,'W09-W12'!K82,'W09-W12'!Z82)","v":2.9000000000000004},{"$f":"AVERAGE('W01-W04'!R82,'W01-W04'!AG82,'W05-W08'!R82,'W05-W08'!AG82,'W09-W12'!R82,'W09-W12'!AG82)","v":1.9966666666666668}]
[null,"2017-02-26",117,{"$f":"AVERAGE('W01-W04'!F83,'W01-W04'!U83,'W05-W08'!F83,'W05-W08'!U83,'W09-W12'!F83,'W09-W12'!U83)","v":0.84667875773282952},{"$f":"AVERAGE('W01-W04'!N83,'W01-W04'!AC83,'W05-W08'!N83,'W05-W08'!AC83,'W09-W12'!N83,'W09-W12'!AC83)","v":0.85155826630187426},null,{"$f":"AVERAGE('W01-W04'!D83,'W01-W04'!S83,'W05-W08'!D83,'W05-W08'!S83,'W09-W12'!D83,'W09-W12'!S83)","v":21.083333333333332},{"$f":"AVERAGE('W01-W04'!L83,'W01-W04'!AA83,'W05-W08'!L83,'W05-W08'!AA83,'W09-W12'!L83,'W09-W12'!AA83)","v":21.7},null,null,null,{"$f":"AVERAGE('W01-W04'!K83,'W01-W04'!Z83,'W05-W08'!K83,'W05-W08'!Z83,'W09-W12'!K83,'W09-W12'!Z83)","v":2.9166666666666665},{"$f":"AVERAGE('W01-W04'!R83,'W01-W04'!AG83,'W05-W08'!R83,'W05-W08'!AG83,'W09-W12'!R83,'W09-W12'!AG83)","v":2}]
[null,"2017-02-27",118,{"$f":"AVERAGE('W01-W04'!F84,'W01-W04'!U84,'W05-W08'!F84,'W05-W08'!U84,'W09-W12'!F84,'W09-W12'!U84)","v":0.84193298754142309},{"$f":"AVERAGE('W01-W04'!N84,'W01-W04'!AC84,'W05-W08'!N84,'W05-W08'!AC84,'W09-W12'!N84,'W09-W12'!AC84)","v":0.86647854696106474},{"$f":"AVERAGE('3-6-7-14'!F84,'3-6-7-14'!N84,'3-6-7-14'!U84,'3-6-7-14'!AC84)","v":1.1447536014368875},{"$f":"AVERAGE('W01-W04'!D84,'W01-W04'!S84,'W05-W08'!D84,'W05-W08'!S84,'W09-W12'!D84,'W09-W12'!S84)","v":20.966666666666665},{"$f":"AVERAGE('W01-W04'!L84,'W01-W04'!AA84,'W05-W08'!L84,'W05-W08'!AA84,'W09-W12'!L84,'W09-W12'!AA84)","v":22.083333333333332},{"$f":"AVERAGE('3-6-7-14'!D84,'3-6-7-14'!L84,'3-6-7-14'!S84,'3-6-7-14'!AA84)","v":27.6},{"$f":"AVERAGE('W01-W04'!H84,'W01-W04'!W84,'W05-W08'!H84,'W05-W08'!W84,'W09-W12'!H84,'W09-W12'!W84)","v":1.3514999999999999},{"$f":"AVERAGE('W01-W04'!P84,'W01-W04'!AE84,'W05-W08'!P84,'W05-W08'!AE84,'W09-W12'!P84,'W09-W12'!AE84)","v":1.2822},{"$f":"AVERAGE('W01-W04'!K84,'W01-W04'!Z84,'W05-W08'!K84,'W05-W08'!Z84,'W09-W12'!K84,'W09-W12'!Z84)","v":2.9499999999999997},{"$f":"AVERAGE('W01-W04'!R84,'W01-W04'!AG84,'W05-W08'!R84,'W05-W08'!AG84,'W09-W12'!R84,'W09-W12'!AG84)","v":1.9950000000000001}]
[null,"2017-02-28",119,{"$f":"AVERAGE('W01-W04'!F85,'W01-W04'!U85,'W05-W08'!F85,'W05-W08'!U85,'W09-W12'!F85,'W09-W12'!U85)","v":0.85027455645834671},{"$f":"AVERAGE('W01-W04'!N85,'W01-W04'!AC85,'W05-W08'!N85,'W05-W08'!AC85,'W09-W12'!N85,'W09-W12'!AC85)","v":0.85743601533937375},null,{"$f":"AVERAGE('W01-W04'!D85,'W01-W04'!S85,'W05-W08'!D85,'W05-W08'!S85,'W09-W12'!D85,'W09-W12'!S85)","v":21.166666666666668},{"$f":"AVERAGE('W01-W04'!L85,'W01-W04'!AA85,'W05-W08'!L85,'W05-W08'!AA85,'W09-W12'!L85,'W09-W12'!AA85)","v":21.849999999999998},null,{"$f":"AVERAGE('W01-W04'!H85,'W01-W04'!W85,'W05-W08'!H85,'W05-W08'!W85,'W09-W12'!H85,'W09-W12'!W85)","v":1.3812499999999999},{"$f":"AVERAGE('W01-W04'!P85,'W01-W04'!AE85,'W05-W08'!P85,'W05-W08'!AE85,'W09-W12'!P85,'W09-W12'!AE85)","v":1.2766},{"$f":"AVERAGE('W01-W04'!K85,'W01-W04'!Z85,'W05-W08'!K85,'W05-W08'!Z85,'W09-W12'!K85,'W09-W12'!Z85)","v":2.9416666666666664},{"$f":"AVERAGE('W01-W04'!R85,'W01-W04'!AG85,'W05-W08'!R85,'W05-W08'!AG85,'W09-W12'!R85,'W09-W12'!AG85)","v":2.0783333333333336}]
[null,"2017-03-01",120,{"$f":"AVERAGE('W01-W04'!F86,'W01-W04'!U86,'W05-W08'!F86,'W05-W08'!U86,'W09-W12'!F86,'W09-W12'!U86)","v":0.84148964792096603},{"$f":"AVERAGE('W01-W04'!N86,'W01-W04'!AC86,'W05-W08'!N86,'W05-W08'!AC86,'W09-W12'!N86,'W09-W12'!AC86)","v":0.8604569547601697},null,{"$f":"AVERAGE('W01-W04'!D86,'W01-W04'!S86,'W05-W08'!D86,'W05-W08'!S86,'W09-W12'!D86,'W09-W12'!S86)","v":20.95},{"$f":"AVERAGE('W01-W04'!L86,'W01-W04'!AA86,'W05-W08'!L86,'W05-W08'!AA86,'W09-W12'!L86,'W09-W12'!AA86)","v":21.933333333333334},null,{"$f":"AVERAGE('W01-W04'!H86,'W01-W04'!W86,'W05-W08'!H86,'W05-W08'!W86,'W09-W12'!H86,'W09-W12'!W86)","v":1.1234166666666667},{"$f":"AVERAGE('W01-W04'!P86,'W01-W04'!AE86,'W05-W08'!P86,'W05-W08'!AE86,'W09-W12'!P86,'W09-W12'!AE86)","v":1.3063},{"$f":"AVERAGE('W01-W04'!K86,'W01-W04'!Z86,'W05-W08'!K86,'W05-W08'!Z86,'W09-W12'!K86,'W09-W12'!Z86)","v":2.9916666666666667},{"$f":"AVERAGE('W01-W04'!R86,'W01-W04'!AG86,'W05-W08'!R86,'W05-W08'!AG86,'W09-W12'!R86,'W09-W12'!AG86)","v":2.0766666666666667}]
[null,"2017-03-02",121,{"$f":"AVERAGE('W01-W04'!F87,'W01-W04'!U87,'W05-W08'!F87,'W05-W08'!U87,'W09-W12'!F87,'W09-W12'!U87)","v":0.84962560525047426},{"$f":"AVERAGE('W01-W04'!N87,'W01-W04'!AC87,'W05-W08'!N87,'W05-W08'!AC87,'W09-W12'!N87,'W09-W12'!AC87)","v":0.85785946554246484},null,{"$f":"AVERAGE('W01-W04'!D87,'W01-W04'!S87,'W05-W08'!D87,'W05-W08'!S87,'W09-W12'!D87,'W09-W12'!S87)","v":21.15},{"$f":"AVERAGE('W01-W04'!L87,'W01-W04'!AA87,'W05-W08'!L87,'W05-W08'!AA87,'W09-W12'!L87,'W09-W12'!AA87)","v":21.866666666666664},null,{"$f":"AVERAGE('W01-W04'!H87,'W01-W04'!W87,'W05-W08'!H87,'W05-W08'!W87,'W09-W12'!H87,'W09-W12'!W87)","v":1.1503333333333334},{"$f":"AVERAGE('W01-W04'!P87,'W01-W04'!AE87,'W05-W08'!P87,'W05-W08'!AE87,'W09-W12'!P87,'W09-W12'!AE87)","v":1.1886999999999999},{"$f":"AVERAGE('W01-W04'!K87,'W01-W04'!Z87,'W05-W08'!K87,'W05-W08'!Z87,'W09-W12'!K87,'W09-W12'!Z87)","v":2.9583333333333335},{"$f":"AVERAGE('W01-W04'!R87,'W01-W04'!AG87,'W05-W08'!R87,'W05-W08'!AG87,'W09-W12'!R87,'W09-W12'!AG87)","v":2.0950000000000002}]
[null,"2017-03-03",122,{"$f":"AVERAGE('W01-W04'!F88,'W01-W04'!U88,'W05-W08'!F88,'W05-W08'!U88,'W09-W12'!F88,'W09-W12'!U88)","v":0.85089296396633973},{"$f":"AVERAGE('W01-W04'!N88,'W01-W04'!AC88,'W05-W08'!N88,'W05-W08'!AC88,'W09-W12'!N88,'W09-W12'!AC88)","v":0.85861786225274062},null,{"$f":"AVERAGE('W01-W04'!D88,'W01-W04'!S88,'W05-W08'!D88,'W05-W08'!S88,'W09-W12'!D88,'W09-W12'!S88)","v":21.183333333333334},{"$f":"AVERAGE('W01-W04'!L88,'W01-W04'!AA88,'W05-W08'!L88,'W05-W08'!AA88,'W09-W12'!L88,'W09-W12'!AA88)","v":21.883333333333329},null,{"$f":"AVERAGE('W01-W04'!H88,'W01-W04'!W88,'W05-W08'!H88,'W05-W08'!W88,'W09-W12'!H88,'W09-W12'!W88)","v":1.224},{"$f":"AVERAGE('W01-W04'!P88,'W01-W04'!AE88,'W05-W08'!P88,'W05-W08'!AE88,'W09-W12'!P88,'W09-W12'!AE88)","v":1.2190999999999999},{"$f":"AVERAGE('W01-W04'!K88,'W01-W04'!Z88,'W05-W08'!K88,'W05-W08'!Z88,'W09-W12'!K88,'W09-W12'!Z88)","v":2.9499999999999997},{"$f":"AVERAGE('W01-W04'!R88,'W01-W04'!AG88,'W05-W08'!R88,'W05-W08'!AG88,'W09-W12'!R88,'W09-W12'!AG88)","v":2.0699999999999998}]
[null,"2017-03-04",123,{"$f":"AVERAGE('W01-W04'!F89,'W01-W04'!U89,'W05-W08'!F89,'W05-W08'!U89,'W09-W12'!F89,'W09-W12'!U89)","v":0.83413442949676153},{"$f":"AVERAGE('W01-W04'!N89,'W01-W04'!AC89,'W05-W08'!N89,'W05-W08'!AC89,'W09-W12'!N89,'W09-W12'!AC89)","v":0.85340303645548465},null,{"$f":"AVERAGE('W01-W04'!D89,'W01-W04'!S89,'W05-W08'!D89,'W05-W08'!S89,'W09-W12'!D89,'W09-W12'!S89)","v":20.766666666666666},{"$f":"AVERAGE('W01-W04'!L89,'W01-W04'!AA89,'W05-W08'!L89,'W05-W08'!AA89,'W09-W12'!L89,'W09-W12'!AA89)","v":21.75},null,null,null,{"$f":"AVERAGE('W01-W04'!K89,'W01-W04'!Z89,'W05-W08'!K89,'W05-W08'!Z89,'W09-W12'!K89,'W09-W12'!Z89)","v":3.0666666666666664},{"$f":"AVERAGE('W01-W04'!R89,'W01-W04'!AG89,'W05-W08'!R89,'W05-W08'!AG89,'W09-W12'!R89,'W09-W12'!AG89)","v":2.0333333333333332}]
[null,"2017-03-05",124,{"$f":"AVERAGE('W01-W04'!F90,'W01-W04'!U90,'W05-W08'!F90,'W05-W08'!U90,'W09-W12'!F90,'W09-W12'!U90)","v":0.83739900030313086},{"$f":"AVERAGE('W01-W04'!N90,'W01-W04'!AC90,'W05-W08'!N90,'W05-W08'!AC90,'W09-W12'!N90,'W09-W12'!AC90)","v":0.86443847481198566},null,{"$f":"AVERAGE('W01-W04'!D90,'W01-W04'!S90,'W05-W08'!D90,'W05-W08'!S90,'W09-W12'!D90,'W09-W12'!S90)","v":20.849999999999998},{"$f":"AVERAGE('W01-W04'!L90,'W01-W04'!AA90,'W05-W08'!L90,'W05-W08'!AA90,'W09-W12'!L90,'W09-W12'!AA90)","v":22.033333333333331},null,null,null,{"$f":"AVERAGE('W01-W04'!K90,'W01-W04'!Z90,'W05-W08'!K90,'W05-W08'!Z90,'W09-W12'!K90,'W09-W12'!Z90)","v":3.0749999999999997},{"$f":"AVERAGE('W01-W04'!R90,'W01-W04'!AG90,'W05-W08'!R90,'W05-W08'!AG90,'W09-W12'!R90,'W09-W12'!AG90)","v":1.9749999999999999}]
[null,"2017-03-06",125,{"$f":"AVERAGE('W01-W04'!F91,'W01-W04'!U91,'W05-W08'!F91,'W05-W08'!U91,'W09-W12'!F91,'W09-W12'!U91)","v":0.84753477392940768},{"$f":"AVERAGE('W01-W04'!N91,'W01-W04'!AC91,'W05-W08'!N91,'W05-W08'!AC91,'W09-W12'!N91,'W09-W12'!AC91)","v":0.87432924635086573},null,{"$f":"AVERAGE('W01-W04'!D91,'W01-W04'!S91,'W05-W08'!D91,'W05-W08'!S91,'W09-W12'!D91,'W09-W12'!S91)","v":21.1},{"$f":"AVERAGE('W01-W04'!L91,'W01-W04'!AA91,'W05-W08'!L91,'W05-W08'!AA91,'W09-W12'!L91,'W09-W12'!AA91)","v":22.283333333333335},null,{"$f":"AVERAGE('W01-W04'!H91,'W01-W04'!W91,'W05-W08'!H91,'W05-W08'!W91,'W09-W12'!H91,'W09-W12'!W91)","v":1.70425},{"$f":"AVERAGE('W01-W04'!P91,'W01-W04'!AE91,'W05-W08'!P91,'W05-W08'!AE91,'W09-W12'!P91,'W09-W12'!AE91)","v":0.75233333333333341},{"$f":"AVERAGE('W01-W04'!K91,'W01-W04'!Z91,'W05-W08'!K91,'W05-W08'!Z91,'W09-W12'!K91,'W09-W12'!Z91)","v":3.0416666666666665},{"$f":"AVERAGE('W01-W04'!R91,'W01-W04'!AG91,'W05-W08'!R91,'W05-W08'!AG91,'W09-W12'!R91,'W09-W12'!AG91)","v":1.7999999999999998}]
[null,"2017-03-07",126,{"$f":"AVERAGE('W01-W04'!F92,'W01-W04'!U92,'W05-W08'!F92,'W05-W08'!U92,'W09-W12'!F92,'W09-W12'!U92)","v":0.86613841845618256},{"$f":"AVERAGE('W01-W04'!N92,'W01-W04'!AC92,'W05-W08'!N92,'W05-W08'!AC92,'W09-W12'!N92,'W09-W12'!AC92)","v":0.85918751679435312},{"$f":"AVERAGE('3-6-7-14'!F92,'3-6-7-14'!N92,'3-6-7-14'!U92,'3-6-7-14'!AC92)","v":1.161486496911496},{"$f":"AVERAGE('W01-W04'!D92,'W01-W04'!S92,'W05-W08'!D92,'W05-W08'!S92,'W09-W12'!D92,'W09-W12'!S92)","v":21.566666666666666},{"$f":"AVERAGE('W01-W04'!L92,'W01-W04'!AA92,'W05-W08'!L92,'W05-W08'!AA92,'W09-W12'!L92,'W09-W12'!AA92)","v":21.900000000000002},{"$f":"AVERAGE('3-6-7-14'!D92,'3-6-7-14'!L92,'3-6-7-14'!S92,'3-6-7-14'!AA92)","v":28},{"$f":"AVERAGE('W01-W04'!H92,'W01-W04'!W92,'W05-W08'!H92,'W05-W08'!W92,'W09-W12'!H92,'W09-W12'!W92)","v":1.7354166666666668},{"$f":"AVERAGE('W01-W04'!P92,'W01-W04'!AE92,'W05-W08'!P92,'W05-W08'!AE92,'W09-W12'!P92,'W09-W12'!AE92)","v":1.2063999999999999},null,{"$f":"AVERAGE('W01-W04'!R92,'W01-W04'!AG92,'W05-W08'!R92,'W05-W08'!AG92,'W09-W12'!R92,'W09-W12'!AG92)","v":1.8983333333333332}]
[null,"2017-03-08",127,{"$f":"AVERAGE('W01-W04'!F93,'W01-W04'!U93,'W05-W08'!F93,'W05-W08'!U93,'W09-W12'!F93,'W09-W12'!U93)","v":1.0578714699550635},{"$f":"AVERAGE('W01-W04'!N93,'W01-W04'!AC93,'W05-W08'!N93,'W05-W08'!AC93,'W09-W12'!N93,'W09-W12'!AC93)","v":0.8520694218837882},null,{"$f":"AVERAGE('W01-W04'!D93,'W01-W04'!S93,'W05-W08'!D93,'W05-W08'!S93,'W09-W12'!D93,'W09-W12'!S93)","v":26.333333333333332},{"$f":"AVERAGE('W01-W04'!L93,'W01-W04'!AA93,'W05-W08'!L93,'W05-W08'!AA93,'W09-W12'!L93,'W09-W12'!AA93)","v":21.716666666666669},null,null,{"$f":"AVERAGE('W01-W04'!P93,'W01-W04'!AE93,'W05-W08'!P93,'W05-W08'!AE93,'W09-W12'!P93,'W09-W12'!AE93)","v":1.2496},null,{"$f":"AVERAGE('W01-W04'!R93,'W01-W04'!AG93,'W05-W08'!R93,'W05-W08'!AG93,'W09-W12'!R93,'W09-W12'!AG93)","v":2.0916666666666672}]
[null,"2017-03-09",128,{"$f":"AVERAGE('W01-W04'!F94,'W01-W04'!U94,'W05-W08'!F94,'W05-W08'!U94,'W09-W12'!F94,'W09-W12'!U94)","v":1.0818714073657216},{"$f":"AVERAGE('W01-W04'!N94,'W01-W04'!AC94,'W05-W08'!N94,'W05-W08'!AC94,'W09-W12'!N94,'W09-W12'!AC94)","v":0.85210849415747403},null,{"$f":"AVERAGE('W01-W04'!D94,'W01-W04'!S94,'W05-W08'!D94,'W05-W08'!S94,'W09-W12'!D94,'W09-W12'!S94)","v":26.933333333333337},{"$f":"AVERAGE('W01-W04'!L94,'W01-W04'!AA94,'W05-W08'!L94,'W05-W08'!AA94,'W09-W12'!L94,'W09-W12'!AA94)","v":21.716666666666669},null,{"$f":"AVERAGE('W01-W04'!H94,'W01-W04'!W94,'W05-W08'!H94,'W05-W08'!W94,'W09-W12'!H94,'W09-W12'!W94)","v":0.18416666666666667},{"$f":"AVERAGE('W01-W04'!P94,'W01-W04'!AE94,'W05-W08'!P94,'W05-W08'!AE94,'W09-W12'!P94,'W09-W12'!AE94)","v":1.9657}]
[null,"2017-03-10",129,{"$f":"AVERAGE('W01-W04'!F95,'W01-W04'!U95,'W05-W08'!F95,'W05-W08'!U95,'W09-W12'!F95,'W09-W12'!U95)","v":1.106389399645954},{"$f":"AVERAGE('W01-W04'!N95,'W01-W04'!AC95,'W05-W08'!N95,'W05-W08'!AC95,'W09-W12'!N95,'W09-W12'!AC95)","v":0.99029968285843972},null,{"$f":"AVERAGE('W01-W04'!D95,'W01-W04'!S95,'W05-W08'!D95,'W05-W08'!S95,'W09-W12'!D95,'W09-W12'!S95)","v":27.533333333333331},{"$f":"AVERAGE('W01-W04'!L95,'W01-W04'!AA95,'W05-W08'!L95,'W05-W08'!AA95,'W09-W12'!L95,'W09-W12'!AA95)","v":25.233333333333334}]
[null,"2017-03-11",130]
[null,"2017-03-12",131]
[null,"2017-03-13",132,{"$f":"AVERAGE('W01-W04'!F98,'W01-W04'!U98,'W05-W08'!F98,'W05-W08'!U98,'W09-W12'!F98,'W09-W12'!U98)","v":1.1100707757105692},{"$f":"AVERAGE('W01-W04'!N98,'W01-W04'!AC98,'W05-W08'!N98,'W05-W08'!AC98,'W09-W12'!N98,'W09-W12'!AC98)","v":1.0503489617170898},{"$f":"AVERAGE('3-6-7-14'!F98,'3-6-7-14'!N98,'3-6-7-14'!U98,'3-6-7-14'!AC98)","v":1.1510636548775572},{"$f":"AVERAGE('W01-W04'!D98,'W01-W04'!S98,'W05-W08'!D98,'W05-W08'!S98,'W09-W12'!D98,'W09-W12'!S98)","v":27.616666666666671},{"$f":"AVERAGE('W01-W04'!L98,'W01-W04'!AA98,'W05-W08'!L98,'W05-W08'!AA98,'W09-W12'!L98,'W09-W12'!AA98)","v":26.766666666666666},{"$f":"AVERAGE('3-6-7-14'!D98,'3-6-7-14'!L98,'3-6-7-14'!S98,'3-6-7-14'!AA98)","v":27.750000000000004}]
[null,"2017-03-14",133]
[null,"2017-03-15",134,{"$f":"AVERAGE('W01-W04'!F100,'W01-W04'!U100,'W05-W08'!F100,'W05-W08'!U100,'W09-W12'!F100,'W09-W12'!U100)","v":1.106546946085367},{"$f":"AVERAGE('W01-W04'!N100,'W01-W04'!AC100,'W05-W08'!N100,'W05-W08'!AC100,'W09-W12'!N100,'W09-W12'!AC100)","v":1.0568348039903182},null,{"$f":"AVERAGE('W01-W04'!D100,'W01-W04'!S100,'W05-W08'!D100,'W05-W08'!S100,'W09-W12'!D100,'W09-W12'!S100)","v":27.533333333333331},{"$f":"AVERAGE('W01-W04'!L100,'W01-W04'!AA100,'W05-W08'!L100,'W05-W08'!AA100,'W09-W12'!L100,'W09-W12'!AA100)","v":26.933333333333334}]
[null,"2017-03-16",135]
[null,"2017-03-17",136,{"$f":"AVERAGE('W01-W04'!F102,'W01-W04'!U102,'W05-W08'!F102,'W05-W08'!U102,'W09-W12'!F102,'W09-W12'!U102)","v":1.1205361864306085},{"$f":"AVERAGE('W01-W04'!N102,'W01-W04'!AC102,'W05-W08'!N102,'W05-W08'!AC102,'W09-W12'!N102,'W09-W12'!AC102)","v":1.0693832508553103},null,{"$f":"AVERAGE('W01-W04'!D102,'W01-W04'!S102,'W05-W08'!D102,'W05-W08'!S102,'W09-W12'!D102,'W09-W12'!S102)","v":27.866666666666664},{"$f":"AVERAGE('W01-W04'!L102,'W01-W04'!AA102,'W05-W08'!L102,'W05-W08'!AA102,'W09-W12'!L102,'W09-W12'!AA102)","v":27.25}]
[null,"2017-03-18",137]
[null,"2017-03-19",138]
[null,"2017-03-20",139,{"$f":"AVERAGE('W01-W04'!F105,'W01-W04'!U105,'W05-W08'!F105,'W05-W08'!U105,'W09-W12'!F105,'W09-W12'!U105)","v":1.14120371468702},{"$f":"AVERAGE('W01-W04'!N105,'W01-W04'!AC105,'W05-W08'!N105,'W05-W08'!AC105,'W09-W12'!N105,'W09-W12'!AC105)","v":1.0851761986124915},{"$f":"AVERAGE('3-6-7-14'!F105,'3-6-7-14'!N105,'3-6-7-14'!U105,'3-6-7-14'!AC105)","v":1.1706423118986935},{"$f":"AVERAGE('W01-W04'!D105,'W01-W04'!S105,'W05-W08'!D105,'W05-W08'!S105,'W09-W12'!D105,'W09-W12'!S105)","v":28.400000000000002},{"$f":"AVERAGE('W01-W04'!L105,'W01-W04'!AA105,'W05-W08'!L105,'W05-W08'!AA105,'W09-W12'!L105,'W09-W12'!AA105)","v":27.649999999999995},{"$f":"AVERAGE('3-6-7-14'!D105,'3-6-7-14'!L105,'3-6-7-14'!S105,'3-6-7-14'!AA105)","v":28.225000000000001}]
[null,"2017-03-21",140]
[null,"2017-03-22",141]
[null,"2017-03-23",142]
[null,"2017-03-24",143]
[null,"2017-03-25",144]
[null,"2017-03-26",145]
[null,"2017-03-27",146]
[null,"2017-03-28",147,{"$f":"AVERAGE('W01-W04'!F113,'W01-W04'!U113,'W05-W08'!F113,'W05-W08'!U113,'W09-W12'!F113,'W09-W12'!U113)","v":1.1631226524989706},{"$f":"AVERAGE('W01-W04'!N113,'W01-W04'!AC113,'W05-W08'!N113,'W05-W08'!AC113,'W09-W12'!N113,'W09-W12'!AC113)","v":1.1163788604505047},{"$f":"AVERAGE('3-6-7-14'!F113,'3-6-7-14'!N113,'3-6-7-14'!U113,'3-6-7-14'!AC113)","v":1.2189519260107446},{"$f":"AVERAGE('W01-W04'!D113,'W01-W04'!S113,'W05-W08'!D113,'W05-W08'!S113,'W09-W12'!D113,'W09-W12'!S113)","v":28.933333333333334},{"$f":"AVERAGE('W01-W04'!L113,'W01-W04'!AA113,'W05-W08'!L113,'W05-W08'!AA113,'W09-W12'!L113,'W09-W12'!AA113)","v":28.450000000000003},{"$f":"AVERAGE('3-6-7-14'!D113,'3-6-7-14'!L113,'3-6-7-14'!S113,'3-6-7-14'!AA113)","v":29.375}]

{"sheet":"Diet","index":6,"n_rows":12,"n_cols":5,"rows_kept":12,"cut":false,"hidden":false,"merged":[]}
[]
[null,null,"kcal"]
[null,null,"Per gram/ml"]
[null,"Mouse chow",3.2789999999999999]
[null,"Infant soy milk",{"$f":"D12","v":0.67}]
[]
[null,"soy to chow ratio",{"$f":"C5/C4","v":0.20433058859408357}]
[]
[null,null,"amount ml","kcal","gram"]
[null,"Infant soy milk",100,67,{"$f":"4.3*3.33333","v":14.333318999999999}]
[null,null,{"$f":"C10/E10","v":6.976751162797675},{"$f":"D10/E10","v":4.6744232790744418},1]
[null,null,1,{"$f":"D10/C10","v":0.67},{"$f":"E10/C10","v":0.14333319}]

{"sheet":"Handling period","index":7,"n_rows":26,"n_cols":11,"rows_kept":26,"cut":false,"hidden":false,"merged":[]}
[]
[null,null,"W01","W03","W05","W07","W09","W11"]
["Soy milk","2017-01-05",0,0.4,0.4,0.4,0.1,0.3,null,{"$f":"AVERAGE(C3:H3)","v":0.26666666666666672}]
[null,"2017-01-06",0.6,0.6,0.7,0.5,0.25,0.8,null,{"$f":"AVERAGE(C4:H4)","v":0.57500000000000007}]
[null,"2017-01-07",0.6,0.8,0.7,0.55000000000000004,0.35,0.8,null,0.6333333333333333]
[null,"2017-01-09",0.5,0.5,0.5,0.55000000000000004,0.3,0.7,{"$f":"AVERAGE(C3:H6)","v":0.49583333333333335},0.5083333333333333]
["Sweetened","2017-01-10",0.4,0.65,0.65,0.5,0.3,0.55000000000000004,null,0.5083333333333333]
[null,"2017-01-11",0.35,0.5,0.45,0.45,0.15,0.4,{"$f":"AVERAGE(C7:H8)","v":0.44583333333333336},0.3833333333333333,{"$f":"AVERAGE(C3:H8)","v":0.47916666666666669}]
["Baby milk","2017-01-12",0.95,0.68,0.55000000000000004,0.65,0.6,0.93,null,0.72666666666666657]
[null,"2017-01-13",1.25,1.45,1.4,1.4,0.85,1.4,null,1.2916666666666667]
[null,"2017-01-14",1,1.2,1,1,0.75,1,null,0.9916666666666667]
[null,"2017-01-15",1.3,1.8,1.75,1.75,1.8,1.95,null,1.7249999999999999]
[null,"2017-01-16",1.35,1.7,2,1.7,1.6,1.9,{"$f":"AVERAGE(C9:H13)","v":1.2886666666666668},1.7083333333333333]
[]
[null,null,"W02","W04","W06","W08","W10","W12"]
["Water","2017-01-05",0.5,0.5,0.4,0.4,0.4,0.4,null,0.43333333333333329]
[null,"2017-01-06",0.97,0.5,0.4,0.7,0.5,0.4,null,0.57833333333333337]
[null,"2017-01-07",1,0.7,0.5,0.75,0.8,0.56999999999999995,null,0.72000000000000008]
[null,"2017-01-09",0.95,0.75,0.7,0.8,1,0.7,{"$f":"AVERAGE(C16:H19)","v":0.63708333333333333},0.81666666666666676]
[null,"2017-01-10",0.75,0.65,0.6,0.45,0.75,0.55000000000000004,null,0.625]
[null,"2017-01-11",1,1,0.75,0.83,0.6,0.7,{"$f":"AVERAGE(C20:H21)","v":0.71916666666666662},0.81333333333333335]
[null,"2017-01-12",1,0.6,0.95,0.85,0.7,0.8,null,0.81666666666666654]
[null,"2017-01-13",1.3,0.6,0.9,0.9,0.9,0.65,null,0.875]
[null,"2017-01-14",1,0.6,0.85,0.65,0.8,0.5,null,0.73333333333333339]
[null,"2017-01-15",1.3,0.55000000000000004,1,0.6,1,0.6,null,0.84166666666666667]
[null,"2017-01-16",1.1000000000000001,0.7,0.9,0.7,0.9,0.6,{"$f":"AVERAGE(C22:H26)","v":0.81666666666666676},0.81666666666666676]