{"text_format":"2","workbook":"xlsx","n_sheets":2,"sheets":["Raw Data","Calculated DF-F"],"not_rendered":{"charts":0,"images":0,"macros":0,"external_links":0,"defined_names":0,"comments":0,"pivot_tables":0},"unopened":[],"bounds":{"document_bytes":16777216,"sheet_cells":100000,"run_cost":"one","rows_first":2000,"rows_last":500,"rows_between":2000,"halvings":0,"cell_chars":16384,"cell_head_chars":4096},"cells_cut":0,"cells_raw":0,"read":"whole","date_system":"1900"}

{"sheet":"Raw Data","index":0,"n_rows":132,"n_cols":12,"rows_kept":132,"cut":false,"hidden":false,"merged":[]}
[59]
[116,363,418,453,363,null,"BM1",{"$f":"(A2-$B2)/$B2","v":-0.68044077134986225},{"$f":"(B2-$B2)/$B2","v":0},{"$f":"(C2-$B2)/$B2","v":0.15151515151515152},0.24793388429752067,0]
[882,601,679,758,899,null,"BM2",0.46755407653910147,{"$f":"(B3-$B3)/$B3","v":0},0.12978369384359401,0.26123128119800332,0.49584026622296173]
[315,171,349,334,316,null,"BM3",0.84210526315789469,0,1.0409356725146199,0.95321637426900585,0.84795321637426901]
[{"$nulls":6},"BM4"]
[397,413,398,330,239,null,"BM5",-3.8740920096852302E-2,0,-3.6319612590799029E-2,-0.2009685230024213,-0.42130750605326878]
[677,674,731,868,808,null,"BM6",4.4510385756676559E-3,0,8.4569732937685466E-2,0.28783382789317508,0.19881305637982197]
[236,119,252,130,190,null,"BM7",0.98319327731092432,0,1.1176470588235294,9.2436974789915971E-2,0.59663865546218486]
[1344,1321,1140,998,1088,null,"BM8",1.7411052233156699E-2,0,-0.13701741105223317,-0.24451173353520061,-0.17638152914458743]
[88,590,335,283,327,null,"BM9",-0.85084745762711866,0,-0.43220338983050849,-0.52033898305084747,-0.4457627118644068]
[445,249,199,347,267,null,"BM10",0.78714859437751006,0,-0.20080321285140562,0.39357429718875503,7.2289156626506021E-2]
[61]
[728,778,656,851,805,null,"BM1",{"$f":"(A13-$B13)/$B13","v":-6.4267352185089971E-2},{"$f":"(B13-$B13)/$B13","v":0},{"$f":"(C13-$B13)/$B13","v":-0.15681233933161953},{"$f":"(D13-$B13)/$B13","v":9.383033419023136E-2},{"$f":"(E13-$B13)/$B13","v":3.4704370179948589E-2}]
[368,500,562,446,310,null,"BM2",-0.26400000000000001,{"$f":"(B14-$B14)/$B14","v":0},0.124,-0.108,-0.38]
[389,242,469,560,663,null,"BM3",0.6074380165289256,0,0.93801652892561982,1.3140495867768596,1.7396694214876034]
[{"$nulls":6},"BM4"]
[567,367,462,276,137,null,"BM5",0.54495912806539515,0,0.25885558583106266,-0.24795640326975477,-0.6267029972752044]
[584,676,510,459,485,null,"BM6",-0.13609467455621302,0,-0.2455621301775148,-0.32100591715976329,-0.28254437869822485]
[392,288,474,539,602,null,"BM7",0.3611111111111111,0,0.64583333333333337,0.87152777777777779,1.0902777777777777]
[784,387,627,374,317,null,"BM8",1.0258397932816536,0,0.62015503875968991,-3.3591731266149873E-2,-0.18087855297157623]
[384,875,480,499,456,null,"BM9",-0.56114285714285717,0,-0.4514285714285714,-0.42971428571428572,-0.47885714285714287]
[304,388,261,497,722,null,"BM10",-0.21649484536082475,0,-0.32731958762886598,0.28092783505154639,0.86082474226804129]
[62]
[120,101,335,370,287,null,"BM1",{"$f":"(A24-$B24)/$B24","v":0.18811881188118812},{"$f":"(B24-$B24)/$B24","v":0},{"$f":"(C24-$B24)/$B24","v":2.3168316831683167},{"$f":"(D24-$B24)/$B24","v":2.6633663366336635},{"$f":"(E24-$B24)/$B24","v":1.8415841584158417}]
[286,1821,974,833,642,null,"BM2",-0.84294343767160895,{"$f":"(B25-$B25)/$B25","v":0},-0.46512904997254256,-0.54255903349807799,-0.64744645799011535]
[158,394,238,551,441,null,"BM3",-0.59898477157360408,0,-0.39593908629441626,0.39847715736040606,0.11928934010152284]
[{"$nulls":6},"BM4"]
[1777,293,635,710,710,null,"BM5",5.0648464163822524,0,1.1672354948805461,1.4232081911262799,1.4232081911262799]
[485,201,357,407,490,null,"BM6",1.4129353233830846,0,0.77611940298507465,1.0248756218905473,1.4378109452736318]
[217,80,202,259,113,null,"BM7",1.7124999999999999,0,1.5249999999999999,2.2374999999999998,0.41249999999999998]
[838,1209,1151,912,1231,null,"BM8",-0.30686517783291978,0,-4.7973531844499588E-2,-0.24565756823821339,1.8196856906534328E-2]
[169,382,523,296,336,null,"BM9",-0.55759162303664922,0,0.36910994764397903,-0.22513089005235601,-0.12041884816753927]
[450,20,86,163,247,null,"BM10",21.5,0,3.3,7.15,11.35]
[63]
[593,99,126,272,251,null,"BM1",{"$f":"(A35-$B35)/$B35","v":4.9898989898989896},{"$f":"(B35-$B35)/$B35","v":0},{"$f":"(C35-$B35)/$B35","v":0.27272727272727271},{"$f":"(D35-$B35)/$B35","v":1.7474747474747474},{"$f":"(E35-$B35)/$B35","v":1.5353535353535352}]
[110,20,633,354,616,null,"BM2",4.5,{"$f":"(B36-$B36)/$B36","v":0},30.65,16.7,29.8]
[575,141,83,488,349,null,"BM3",3.0780141843971629,0,-0.41134751773049644,2.4609929078014185,1.4751773049645389]
[0,0,0,0,0,null,"BM4",{"$error":"#DIV/0!"},{"$error":"#DIV/0!"},{"$error":"#DIV/0!"},{"$error":"#DIV/0!"},{"$error":"#DIV/0!"}]
[284,149,181,286,164,null,"BM5",0.90604026845637586,0,0.21476510067114093,0.91946308724832215,0.10067114093959731]
[914,442,901,678,806,null,"BM6",1.0678733031674208,0,1.0384615384615385,0.5339366515837104,0.82352941176470584]
[186,9,35,329,115,null,"BM7",19.666666666666668,0,2.8888888888888888,35.555555555555557,11.777777777777779]
[768,1507,1660,791,1205,null,"BM8",-0.49037823490378235,0,0.10152621101526212,-0.47511612475116127,-0.20039814200398143]
[797,2133,858,1138,915,null,"BM9",-0.62634786685419597,0,-0.59774964838255973,-0.46647913736521329,-0.57102672292545709]
[273,9,24,165,76,null,"BM10",29.333333333333332,0,1.6666666666666667,17.333333333333332,7.4444444444444446]
[64]
[231,173,395,486,470,null,"BM1",{"$f":"(A46-$B46)/$B46","v":0.33526011560693642},{"$f":"(B46-$B46)/$B46","v":0},{"$f":"(C46-$B46)/$B46","v":1.2832369942196531},{"$f":"(D46-$B46)/$B46","v":1.8092485549132948},{"$f":"(E46-$B46)/$B46","v":1.7167630057803469}]
[446,109,269,191,241,null,"BM2",3.0917431192660549,{"$f":"(B47-$B47)/$B47","v":0},1.4678899082568808,0.75229357798165142,1.2110091743119267]
[270,83,118,403,285,null,"BM3",2.2530120481927711,0,0.42168674698795183,3.8554216867469879,2.4337349397590362]
[{"$nulls":6},"BM4"]
[758,585,870,656,542,null,"BM5",0.29572649572649573,0,0.48717948717948717,0.12136752136752137,-7.3504273504273507E-2]
[651,417,477,753,678,null,"BM6",0.5611510791366906,0,0.14388489208633093,0.80575539568345322,0.62589928057553956]
[360,33,66,162,286,null,"BM7",9.9090909090909083,0,1,3.9090909090909092,7.666666666666667]
[378,658,564,427,519,null,"BM8",-0.42553191489361702,0,-0.14285714285714285,-0.35106382978723405,-0.21124620060790272]
[961,2376,1597,1253,1299,null,"BM9",-0.59553872053872059,0,-0.32786195286195285,-0.47264309764309764,-0.45328282828282829]
[445,67,145,170,177,null,"BM10",5.6417910447761193,0,1.164179104477612,1.5373134328358209,1.6417910447761195]
[162]
[1361,161,754,208,184,null,"BM1",{"$f":"(A57-$B57)/$B57","v":7.4534161490683228},{"$f":"(B57-$B57)/$B57","v":0},{"$f":"(C57-$B57)/$B57","v":3.6832298136645965},{"$f":"(D57-$B57)/$B57","v":0.29192546583850931},{"$f":"(E57-$B57)/$B57","v":0.14285714285714285}]
[97,9,281,269,369,null,"BM2",9.7777777777777786,0,30.222222222222221,28.888888888888889,40]
[589,9,214,31,80,null,"BM3",64.444444444444443,0,22.777777777777779,2.4444444444444446,7.8888888888888893]
[{"$nulls":6},"BM4"]
[253,211,933,757,835,null,"BM5",0.1990521327014218,0,3.4218009478672986,2.5876777251184833,2.9573459715639809]
[754,985,453,680,606,null,"BM6",-0.23451776649746192,0,-0.54010152284263957,-0.30964467005076141,-0.38477157360406089]
[267,0,348,26,9,null,"BM7",{"$error":"#DIV/0!"},{"$error":"#DIV/0!"},{"$error":"#DIV/0!"},{"$error":"#DIV/0!"},{"$error":"#DIV/0!"}]
[384,834,499,1535,1396,null,"BM8",-0.53956834532374098,0,-0.40167865707434053,0.84052757793764987,0.67386091127098324]
[522,2300,406,980,1005,null,"BM9",-0.77304347826086961,0,-0.82347826086956522,-0.57391304347826089,-0.56304347826086953]
[273,0,613,15,15,null,"BM10",{"$error":"#DIV/0!"},{"$error":"#DIV/0!"},{"$error":"#DIV/0!"},{"$error":"#DIV/0!"},{"$error":"#DIV/0!"}]
[212]
[427,179,287,350,408,null,"BM1",{"$f":"(A68-$B68)/$B68","v":1.3854748603351956},{"$f":"(B68-$B68)/$B68","v":0},{"$f":"(C68-$B68)/$B68","v":0.6033519553072626},{"$f":"(D68-$B68)/$B68","v":0.95530726256983245},{"$f":"(E68-$B68)/$B68","v":1.2793296089385475}]
[440,15,89,81,94,null,"BM2",28.333333333333332,{"$f":"(B69-$B69)/$B69","v":0},4.9333333333333336,4.4000000000000004,5.2666666666666666]
[431,200,191,693,459,null,"BM3",1.155,0,-4.4999999999999998E-2,2.4649999999999999,1.2949999999999999]
[{"$nulls":6},"BM4"]
[406,1036,888,726,1032,null,"BM5",-0.60810810810810811,0,-0.14285714285714285,-0.29922779922779924,-3.8610038610038611E-3]
[547,533,654,745,598,null,"BM6",2.6266416510318951E-2,0,0.22701688555347091,0.39774859287054409,0.12195121951219512]
[166,98,21,160,78,null,"BM7",0.69387755102040816,0,-0.7857142857142857,0.63265306122448983,-0.20408163265306123]
[589,524,651,382,439,null,"BM8",0.12404580152671756,0,0.24236641221374045,-0.27099236641221375,-0.16221374045801526]
[1014,1864,1674,1308,1291,null,"BM9",-0.45600858369098712,0,-0.10193133047210301,-0.29828326180257508,-0.30740343347639487]
[480,52,46,56,98,null,"BM10",8.2307692307692299,0,-0.11538461538461539,7.6923076923076927E-2,0.88461538461538458]
[213]
[242,198,116,266,620,null,"BM1",{"$f":"(A79-$B79)/$B79","v":0.22222222222222221},{"$f":"(B79-$B79)/$B79","v":0},{"$f":"(C79-$B79)/$B79","v":-0.41414141414141414},{"$f":"(D79-$B79)/$B79","v":0.34343434343434343},{"$f":"(E79-$B79)/$B79","v":2.1313131313131315}]
[483,511,968,1068,868,null,"BM2",-5.4794520547945202E-2,{"$f":"(B80-$B80)/$B80","v":0},0.89432485322896282,1.0900195694716244,0.69863013698630139]
[397,129,17,258,234,null,"BM3",2.0775193798449614,0,-0.86821705426356588,1,0.81395348837209303]
[{"$nulls":6},"BM4"]
[203,557,542,257,217,null,"BM5",-0.63554757630161585,0,-2.6929982046678635E-2,-0.53859964093357271,-0.61041292639138245]
[493,504,317,763,626,null,"BM6",-2.1825396825396824E-2,0,-0.37103174603174605,0.51388888888888884,0.24206349206349206]
[401,130,0,60,98,null,"BM7",2.0846153846153848,0,-1,-0.53846153846153844,-0.24615384615384617]
[643,862,452,367,432,null,"BM8",-0.25406032482598606,0,-0.47563805104408352,-0.57424593967517401,-0.49883990719257543]
[682,1492,2089,1456,1360,null,"BM9",-0.54289544235924936,0,0.40013404825737264,-2.4128686327077747E-2,-8.8471849865951746E-2]
[956,118,0,9,42,null,"BM10",7.101694915254237,0,-1,-0.92372881355932202,-0.64406779661016944]
[221]
[401,482,510,629,636,null,"BM1"]
[737,640,594,328,524,null,"BM2",{"$f":"(A91-$B91)/$B91","v":0.15156249999999999},{"$f":"(B91-$B91)/$B91","v":0},{"$f":"(C91-$B91)/$B91","v":-7.1874999999999994E-2},{"$f":"(D91-$B91)/$B91","v":-0.48749999999999999},{"$f":"(E91-$B91)/$B91","v":-0.18124999999999999}]
[168,231,367,422,424,null,"BM3",-0.27272727272727271,0,0.58874458874458879,0.82683982683982682,0.83549783549783552]
[{"$nulls":6},"BM4"]
[337,479,480,444,472,null,"BM5",-0.29645093945720252,0,2.0876826722338203E-3,-7.3068893528183715E-2,-1.4613778705636743E-2]
[727,725,1060,717,928,null,"BM6",2.7586206896551722E-3,0,0.46206896551724136,-1.1034482758620689E-2,0.28000000000000003]
[226,214,162,454,250,null,"BM7",5.6074766355140186E-2,0,-0.24299065420560748,1.1214953271028036,0.16822429906542055]
[780,766,357,586,526,null,"BM8",1.8276762402088774E-2,0,-0.53394255874673624,-0.2349869451697128,-0.3133159268929504]
[488,698,854,420,517,null,"BM9",-0.3008595988538682,0,0.22349570200573066,-0.39828080229226359,-0.25931232091690543]
[636,266,117,501,220,null,"BM10",1.3909774436090225,0,-0.56015037593984962,0.88345864661654139,-0.17293233082706766]
[294]
[485,361,483,440,613,null,"BM1",{"$f":"(A101-$B101)/$B101","v":0.34349030470914127},{"$f":"(B101-$B101)/$B101","v":0},{"$f":"(C101-$B101)/$B101","v":0.33795013850415512},{"$f":"(D101-$B101)/$B101","v":0.2188365650969529},{"$f":"(E101-$B101)/$B101","v":0.69806094182825484}]
[{"$nulls":6},"BM2"]
[324,322,323,293,522,null,"BM3",6.2111801242236021E-3,0,3.105590062111801E-3,-9.0062111801242239E-2,0.6211180124223602]
[{"$nulls":6},"BM4"]
[434,620,629,483,528,null,"BM5",-0.3,0,1.4516129032258065E-2,-0.22096774193548388,-0.14838709677419354]
[1047,661,788,847,817,null,"BM6",0.58396369137670201,0,0.19213313161875945,0.28139183055975792,0.23600605143721634]
[335,410,208,355,396,null,"BM7",-0.18292682926829268,0,-0.49268292682926829,-0.13414634146341464,-3.4146341463414637E-2]
[532,725,583,589,523,null,"BM8",-0.26620689655172414,0,-0.19586206896551725,-0.18758620689655173,-0.27862068965517239]
[929,1014,1332,1168,924,null,"BM9",-8.3826429980276132E-2,0,0.31360946745562129,0.15187376725838264,-8.8757396449704137E-2]
[414,388,155,326,174,null,"BM10",6.7010309278350513E-2,0,-0.60051546391752575,-0.15979381443298968,-0.55154639175257736]
[351]
[481,316,523,488,757,null,"BM1",{"$f":"(A112-$B112)/$B112","v":0.52215189873417722},{"$f":"(B112-$B112)/$B112","v":0},{"$f":"(C112-$B112)/$B112","v":0.65506329113924056},{"$f":"(D112-$B112)/$B112","v":0.54430379746835444},{"$f":"(E112-$B112)/$B112","v":1.3955696202531647}]
[800,300,603,586,232,null,"BM2",1.6666666666666667,{"$f":"(B113-$B113)/$B113","v":0},1.01,0.95333333333333337,-0.22666666666666666]
[290,273,245,282,448,null,"BM3",6.2271062271062272E-2,0,-0.10256410256410256,3.2967032967032968E-2,0.64102564102564108]
[{"$nulls":6},"BM4"]
[437,550,446,471,275,null,"BM5",-0.20545454545454545,0,-0.18909090909090909,-0.14363636363636365,-0.5]
[995,897,874,900,1069,null,"BM6",0.10925306577480491,0,-2.564102564102564E-2,3.3444816053511705E-3,0.19175027870680045]
[201,36,44,174,260,null,"BM7",4.583333333333333,0,0.22222222222222221,3.8333333333333335,6.2222222222222223]
[291,126,361,285,101,null,"BM8",1.3095238095238095,0,1.8650793650793651,1.2619047619047619,-0.1984126984126984]
[738,1960,1378,1151,1218,null,"BM9",-0.62346938775510208,0,-0.29693877551020409,-0.41275510204081634,-0.37857142857142856]
[267,43,27,164,137,null,"BM10",5.2093023255813957,0,-0.37209302325581395,2.8139534883720931,2.1860465116279069]
[909]
[818,215,181,264,332,null,"BM1",{"$f":"(A123-$B123)/$B123","v":2.8046511627906976},{"$f":"(B123-$B123)/$B123","v":0},{"$f":"(C123-$B123)/$B123","v":-0.15813953488372093},{"$f":"(D123-$B123)/$B123","v":0.22790697674418606},{"$f":"(E123-$B123)/$B123","v":0.54418604651162794}]
[389,994,739,1491,1099,null,"BM2",-0.60865191146881292,{"$f":"(B124-$B124)/$B124","v":0},-0.25653923541247486,0.5,0.10563380281690141]
[423,70,134,198,109,null,"BM3",5.0428571428571427,0,0.91428571428571426,1.8285714285714285,0.55714285714285716]
[{"$nulls":6},"BM4"]
[70,118,363,35,293,null,"BM5",-0.40677966101694918,0,2.0762711864406778,-0.70338983050847459,1.4830508474576272]
[1014,488,398,777,678,null,"BM6",1.0778688524590163,0,-0.18442622950819673,0.59221311475409832,0.38934426229508196]
[496,79,61,166,58,null,"BM7",5.2784810126582276,0,-0.22784810126582278,1.1012658227848102,-0.26582278481012656]
[537,1868,1585,1166,1272,null,"BM8",-0.71252676659528913,0,-0.15149892933618844,-0.37580299785867238,-0.31905781584582443]
[530,623,963,196,577,null,"BM9",-0.1492776886035313,0,0.5457463884430177,-0.6853932584269663,-7.3836276083467101E-2]
[223,46,77,208,79,null,"BM10",3.847826086956522,0,0.67391304347826086,3.5217391304347827,0.71739130434782605]

{"sheet":"Calculated DF-F","index":1,"n_rows":140,"n_cols":8,"rows_kept":140,"cut":false,"hidden":false,"merged":[]}
["BM1","OF","SHAM","T1","T2","T3","Total"]
[59,{"$f":"'Raw Data'!H2","v":-0.68044077134986225},{"$f":"'Raw Data'!I2","v":0},{"$f":"'Raw Data'!J2","v":0.15151515151515152},{"$f":"'Raw Data'!K2","v":0.24793388429752067},{"$f":"'Raw Data'!L2","v":0},{"$f":"AVERAGE(D2:F2)","v":0.13314967860422408},"M"]
[61,{"$f":"'Raw Data'!H13","v":-6.4267352185089971E-2},{"$f":"'Raw Data'!I13","v":0},{"$f":"'Raw Data'!J13","v":-0.15681233933161953},{"$f":"'Raw Data'!K13","v":9.383033419023136E-2},{"$f":"'Raw Data'!L13","v":3.4704370179948589E-2},{"$f":"AVERAGE(D3:F3)","v":-9.4258783204798618E-3},"M"]
[62,{"$f":"'Raw Data'!H24","v":0.18811881188118812},{"$f":"'Raw Data'!I24","v":0},{"$f":"'Raw Data'!J24","v":2.3168316831683167},{"$f":"'Raw Data'!K24","v":2.6633663366336635},{"$f":"'Raw Data'!L24","v":1.8415841584158417},2.273927392739274,"M"]
[63,{"$f":"'Raw Data'!H35","v":4.9898989898989896},{"$f":"'Raw Data'!I35","v":0},{"$f":"'Raw Data'!J35","v":0.27272727272727271},{"$f":"'Raw Data'!K35","v":1.7474747474747474},{"$f":"'Raw Data'!L35","v":1.5353535353535352},1.1851851851851851,"F"]
[64,{"$f":"'Raw Data'!H46","v":0.33526011560693642},{"$f":"'Raw Data'!I46","v":0},{"$f":"'Raw Data'!J46","v":1.2832369942196531},{"$f":"'Raw Data'!K46","v":1.8092485549132948},{"$f":"'Raw Data'!L46","v":1.7167630057803469},1.6030828516377651,"F"]
[162,{"$f":"'Raw Data'!H57","v":7.4534161490683228},{"$f":"'Raw Data'!I57","v":0},{"$f":"'Raw Data'!J57","v":3.6832298136645965},{"$f":"'Raw Data'!K57","v":0.29192546583850931},{"$f":"'Raw Data'!L57","v":0.14285714285714285},1.3726708074534164,"F"]
[212,{"$f":"'Raw Data'!H68","v":1.3854748603351956},{"$f":"'Raw Data'!I68","v":0},{"$f":"'Raw Data'!J68","v":0.6033519553072626},{"$f":"'Raw Data'!K68","v":0.95530726256983245},{"$f":"'Raw Data'!L68","v":1.2793296089385475},0.94599627560521427,"M"]
[213,{"$f":"'Raw Data'!H79","v":0.22222222222222221},{"$f":"'Raw Data'!I79","v":0},{"$f":"'Raw Data'!J79","v":-0.41414141414141414},{"$f":"'Raw Data'!K79","v":0.34343434343434343},{"$f":"'Raw Data'!L79","v":2.1313131313131315},0.68686868686868685,"M"]
[221,{"$f":"'Raw Data'!H80","v":-5.4794520547945202E-2},{"$f":"'Raw Data'!I80","v":0},{"$f":"'Raw Data'!J80","v":0.89432485322896282},{"$f":"'Raw Data'!K80","v":1.0900195694716244},{"$f":"'Raw Data'!L80","v":0.69863013698630139},0.89432485322896282,"M"]
[294,{"$f":"'Raw Data'!H81","v":2.0775193798449614},{"$f":"'Raw Data'!I101","v":0},{"$f":"'Raw Data'!J101","v":0.33795013850415512},{"$f":"'Raw Data'!K101","v":0.2188365650969529},{"$f":"'Raw Data'!L101","v":0.69806094182825484},0.4182825484764543,"F"]
[351,{"$f":"'Raw Data'!H112","v":0.52215189873417722},{"$f":"'Raw Data'!I112","v":0},{"$f":"'Raw Data'!J112","v":0.65506329113924056},{"$f":"'Raw Data'!K112","v":0.54430379746835444},{"$f":"'Raw Data'!L112","v":1.3955696202531647},0.8649789029535867,"F"]
[909,{"$f":"'Raw Data'!H123","v":2.8046511627906976},{"$f":"'Raw Data'!I123","v":0},{"$f":"'Raw Data'!J123","v":-0.15813953488372093},{"$f":"'Raw Data'!K123","v":0.22790697674418606},{"$f":"'Raw Data'!L123","v":0.54418604651162794},0.2046511627906977,"F"]
[null,null,null,{"$f":"_xlfn.T.TEST($C2:$C13,D2:D13,2,1)","v":3.9838500833698096E-2},{"$f":"_xlfn.T.TEST($C2:$C13,E2:E13,2,1)","v":4.2705616389127838E-3},{"$f":"_xlfn.T.TEST($C2:$C13,F2:F13,2,1)","v":6.8600056144727786E-4}]
["BM2"]
[59,{"$f":"'Raw Data'!H3","v":0.46755407653910147},{"$f":"'Raw Data'!I3","v":0},{"$f":"'Raw Data'!J3","v":0.12978369384359401},{"$f":"'Raw Data'!K3","v":0.26123128119800332},{"$f":"'Raw Data'!L3","v":0.49584026622296173},{"$f":"AVERAGE(D16:F16)","v":0.29561841375485304},"M"]
[61,{"$f":"'Raw Data'!H14","v":-0.26400000000000001},{"$f":"'Raw Data'!I14","v":0},{"$f":"'Raw Data'!J14","v":0.124},{"$f":"'Raw Data'!K14","v":-0.108},{"$f":"'Raw Data'!L14","v":-0.38},{"$f":"AVERAGE(D17:F17)","v":-0.12133333333333333},"M"]
[62,{"$f":"'Raw Data'!H25","v":-0.84294343767160895},{"$f":"'Raw Data'!I25","v":0},{"$f":"'Raw Data'!J25","v":-0.46512904997254256},{"$f":"'Raw Data'!K25","v":-0.54255903349807799},{"$f":"'Raw Data'!L25","v":-0.64744645799011535},-0.5517115138202453,"M"]
[63,{"$f":"'Raw Data'!H36","v":4.5},{"$f":"'Raw Data'!I36","v":0},{"$f":"'Raw Data'!J36","v":30.65},{"$f":"'Raw Data'!K36","v":16.7},{"$f":"'Raw Data'!L36","v":29.8},25.716666666666665,"F"]
[64,{"$f":"'Raw Data'!H47","v":3.0917431192660549},{"$f":"'Raw Data'!I47","v":0},{"$f":"'Raw Data'!J47","v":1.4678899082568808},{"$f":"'Raw Data'!K47","v":0.75229357798165142},{"$f":"'Raw Data'!L47","v":1.2110091743119267},1.143730886850153,"F"]
[162,{"$f":"'Raw Data'!H58","v":9.7777777777777786},{"$f":"'Raw Data'!I58","v":0},{"$f":"'Raw Data'!J58","v":30.222222222222221},{"$f":"'Raw Data'!K58","v":28.888888888888889},{"$f":"'Raw Data'!L58","v":40},33.037037037037038,"F"]
[212,{"$f":"'Raw Data'!H69","v":28.333333333333332},{"$f":"'Raw Data'!I69","v":0},{"$f":"'Raw Data'!J69","v":4.9333333333333336},{"$f":"'Raw Data'!K69","v":4.4000000000000004},{"$f":"'Raw Data'!L69","v":5.2666666666666666},4.8666666666666671,"M"]
[213,{"$f":"'Raw Data'!H80","v":-5.4794520547945202E-2},{"$f":"'Raw Data'!I80","v":0},{"$f":"'Raw Data'!J80","v":0.89432485322896282},{"$f":"'Raw Data'!K80","v":1.0900195694716244},{"$f":"'Raw Data'!L80","v":0.69863013698630139},0.89432485322896282,"M"]
[221,{"$f":"'Raw Data'!H91","v":0.15156249999999999},{"$f":"'Raw Data'!I91","v":0},{"$f":"'Raw Data'!J91","v":-7.1874999999999994E-2},{"$f":"'Raw Data'!K91","v":-0.48749999999999999},{"$f":"'Raw Data'!L91","v":-0.18124999999999999},-0.24687499999999998,"M"]
[294,{"$f":"'Raw Data'!H103","v":6.2111801242236021E-3},{"$f":"'Raw Data'!I103","v":0},{"$f":"'Raw Data'!J103","v":3.105590062111801E-3},{"$f":"'Raw Data'!K103","v":-9.0062111801242239E-2},{"$f":"'Raw Data'!L103","v":0.6211180124223602},{"$f":"'Raw Data'!M103","v":0},"F"]
[351,{"$f":"'Raw Data'!H113","v":1.6666666666666667},{"$f":"'Raw Data'!I113","v":0},{"$f":"'Raw Data'!J113","v":1.01},{"$f":"'Raw Data'!K113","v":0.95333333333333337},{"$f":"'Raw Data'!L113","v":-0.22666666666666666},0.5788888888888889,"F"]
[909,{"$f":"'Raw Data'!H124","v":-0.60865191146881292},{"$f":"'Raw Data'!I124","v":0},{"$f":"'Raw Data'!J124","v":-0.25653923541247486},{"$f":"'Raw Data'!K124","v":0.5},{"$f":"'Raw Data'!L124","v":0.10563380281690141},0.11636485580147553,"F"]
[null,null,null,{"$f":"_xlfn.T.TEST($C16:$C27,D16:D27,2,1)","v":0.1165778698333844},{"$f":"_xlfn.T.TEST($C16:$C27,E16:E27,2,1)","v":0.12470035587611258},{"$f":"_xlfn.T.TEST($C16:$C27,F16:F27,2,1)","v":0.130942502151323}]
["BM3"]
[59,{"$f":"'Raw Data'!H4","v":0.84210526315789469},{"$f":"'Raw Data'!I4","v":0},{"$f":"'Raw Data'!J4","v":1.0409356725146199},{"$f":"'Raw Data'!K4","v":0.95321637426900585},{"$f":"'Raw Data'!L4","v":0.84795321637426901},{"$f":"AVERAGE(D30:F30)","v":0.94736842105263153}]
[61,{"$f":"'Raw Data'!H15","v":0.6074380165289256},{"$f":"'Raw Data'!I15","v":0},{"$f":"'Raw Data'!J15","v":0.93801652892561982},{"$f":"'Raw Data'!K15","v":1.3140495867768596},{"$f":"'Raw Data'!L15","v":1.7396694214876034},{"$f":"AVERAGE(D31:F31)","v":1.3305785123966942}]
[62,{"$f":"'Raw Data'!H26","v":-0.59898477157360408},{"$f":"'Raw Data'!I26","v":0},{"$f":"'Raw Data'!J26","v":-0.39593908629441626},{"$f":"'Raw Data'!K26","v":0.39847715736040606},{"$f":"'Raw Data'!L26","v":0.11928934010152284},4.0609137055837546E-2]
[63,{"$f":"'Raw Data'!H37","v":3.0780141843971629},{"$f":"'Raw Data'!I37","v":0},{"$f":"'Raw Data'!J37","v":-0.41134751773049644},{"$f":"'Raw Data'!K37","v":2.4609929078014185},{"$f":"'Raw Data'!L37","v":1.4751773049645389},1.1749408983451537]
[64,{"$f":"'Raw Data'!H48","v":2.2530120481927711},{"$f":"'Raw Data'!I48","v":0},{"$f":"'Raw Data'!J48","v":0.42168674698795183},{"$f":"'Raw Data'!K48","v":3.8554216867469879},{"$f":"'Raw Data'!L48","v":2.4337349397590362},2.2369477911646585]
[162,{"$f":"'Raw Data'!H59","v":64.444444444444443},{"$f":"'Raw Data'!I59","v":0},{"$f":"'Raw Data'!J59","v":22.777777777777779},{"$f":"'Raw Data'!K59","v":2.4444444444444446},{"$f":"'Raw Data'!L59","v":7.8888888888888893},11.037037037037038]
[212,{"$f":"'Raw Data'!H70","v":1.155},{"$f":"'Raw Data'!I70","v":0},{"$f":"'Raw Data'!J70","v":-4.4999999999999998E-2},{"$f":"'Raw Data'!K70","v":2.4649999999999999},{"$f":"'Raw Data'!L70","v":1.2949999999999999},1.2383333333333333]
[213,{"$f":"'Raw Data'!H81","v":2.0775193798449614},{"$f":"'Raw Data'!I81","v":0},{"$f":"'Raw Data'!J81","v":-0.86821705426356588},{"$f":"'Raw Data'!K81","v":1},{"$f":"'Raw Data'!L81","v":0.81395348837209303},0.3152454780361757]
[221,{"$f":"'Raw Data'!H92","v":-0.27272727272727271},{"$f":"'Raw Data'!I92","v":0},{"$f":"'Raw Data'!J92","v":0.58874458874458879},{"$f":"'Raw Data'!K92","v":0.82683982683982682},{"$f":"'Raw Data'!L92","v":0.83549783549783552},0.75036075036075045]
[294,{"$f":"'Raw Data'!H103","v":6.2111801242236021E-3},{"$f":"'Raw Data'!I103","v":0},{"$f":"'Raw Data'!J103","v":3.105590062111801E-3},{"$f":"'Raw Data'!K103","v":-9.0062111801242239E-2},{"$f":"'Raw Data'!L103","v":0.6211180124223602},0.17805383022774324]
[351,{"$f":"'Raw Data'!H114","v":6.2271062271062272E-2},{"$f":"'Raw Data'!I114","v":0},{"$f":"'Raw Data'!J114","v":-0.10256410256410256},{"$f":"'Raw Data'!K114","v":3.2967032967032968E-2},{"$f":"'Raw Data'!L114","v":0.64102564102564108},0.19047619047619049]
[909,{"$f":"'Raw Data'!H125","v":5.0428571428571427},{"$f":"'Raw Data'!I125","v":0},{"$f":"'Raw Data'!J125","v":0.91428571428571426},{"$f":"'Raw Data'!K125","v":1.8285714285714285},{"$f":"'Raw Data'!L125","v":0.55714285714285716},1.0999999999999999]
[null,null,null,{"$f":"_xlfn.T.TEST($C30:$C41,D30:D41,2,1)","v":0.29652266055433707},{"$f":"_xlfn.T.TEST($C30:$C41,E30:E41,2,1)","v":1.2999982409246848E-3},{"$f":"_xlfn.T.TEST($C30:$C41,F30:F41,2,1)","v":2.1315648562317751E-2}]
["BM4"]
[59]
[61]
[62]
[63]
[64]
[162]
[212]
[213]
[221]
[294]
[351]
[909]
[null,null,null,{"$f":"_xlfn.T.TEST($C44:$C55,D44:D55,2,1)","v":{"$error":"#DIV/0!"}},{"$f":"_xlfn.T.TEST($C44:$C55,E44:E55,2,1)","v":{"$error":"#DIV/0!"}},{"$f":"_xlfn.T.TEST($C44:$C55,F44:F55,2,1)","v":{"$error":"#DIV/0!"}}]
["BM5"]
[59,{"$f":"'Raw Data'!H6","v":-3.8740920096852302E-2},{"$f":"'Raw Data'!I6","v":0},{"$f":"'Raw Data'!J6","v":-3.6319612590799029E-2},{"$f":"'Raw Data'!K6","v":-0.2009685230024213},{"$f":"'Raw Data'!L6","v":-0.42130750605326878},{"$f":"AVERAGE(D58:F58)","v":-0.21953188054882969}]
[61,{"$f":"'Raw Data'!H17","v":0.54495912806539515},{"$f":"'Raw Data'!I17","v":0},{"$f":"'Raw Data'!J17","v":0.25885558583106266},{"$f":"'Raw Data'!K17","v":-0.24795640326975477},{"$f":"'Raw Data'!L17","v":-0.6267029972752044},{"$f":"AVERAGE(D59:F59)","v":-0.20526793823796549}]
[62,{"$f":"'Raw Data'!H28","v":5.0648464163822524},{"$f":"'Raw Data'!I28","v":0},{"$f":"'Raw Data'!J28","v":1.1672354948805461},{"$f":"'Raw Data'!K28","v":1.4232081911262799},{"$f":"'Raw Data'!L28","v":1.4232081911262799},1.3378839590443687]
[63,{"$f":"'Raw Data'!H39","v":0.90604026845637586},{"$f":"'Raw Data'!I39","v":0},{"$f":"'Raw Data'!J39","v":0.21476510067114093},{"$f":"'Raw Data'!K39","v":0.91946308724832215},{"$f":"'Raw Data'!L39","v":0.10067114093959731},0.4116331096196868]
[64,{"$f":"'Raw Data'!H50","v":0.29572649572649573},{"$f":"'Raw Data'!I50","v":0},{"$f":"'Raw Data'!J50","v":0.48717948717948717},{"$f":"'Raw Data'!K50","v":0.12136752136752137},{"$f":"'Raw Data'!L50","v":-7.3504273504273507E-2},0.17834757834757833]
[162,{"$f":"'Raw Data'!H61","v":0.1990521327014218},{"$f":"'Raw Data'!I61","v":0},{"$f":"'Raw Data'!J61","v":3.4218009478672986},{"$f":"'Raw Data'!K61","v":2.5876777251184833},{"$f":"'Raw Data'!L61","v":2.9573459715639809},{"$f":"'Raw Data'!M61","v":0}]
[212,{"$f":"'Raw Data'!H72","v":-0.60810810810810811},{"$f":"'Raw Data'!I72","v":0},{"$f":"'Raw Data'!J72","v":-0.14285714285714285},{"$f":"'Raw Data'!K72","v":-0.29922779922779924},{"$f":"'Raw Data'!L72","v":-3.8610038610038611E-3},-0.14864864864864866]
[213,{"$f":"'Raw Data'!H83","v":-0.63554757630161585},{"$f":"'Raw Data'!I83","v":0},{"$f":"'Raw Data'!J83","v":-2.6929982046678635E-2},{"$f":"'Raw Data'!K83","v":-0.53859964093357271},{"$f":"'Raw Data'!L83","v":-0.61041292639138245},-0.39198084979054459]
[221,{"$f":"'Raw Data'!H94","v":-0.29645093945720252},{"$f":"'Raw Data'!I94","v":0},{"$f":"'Raw Data'!J94","v":2.0876826722338203E-3},{"$f":"'Raw Data'!K94","v":-7.3068893528183715E-2},{"$f":"'Raw Data'!L94","v":-1.4613778705636743E-2},-2.8531663187195546E-2]
[294,{"$f":"'Raw Data'!H105","v":-0.3},{"$f":"'Raw Data'!I105","v":0},{"$f":"'Raw Data'!J105","v":1.4516129032258065E-2},{"$f":"'Raw Data'!K105","v":-0.22096774193548388},{"$f":"'Raw Data'!L105","v":-0.14838709677419354},-0.11827956989247312]
[351,{"$f":"'Raw Data'!H116","v":-0.20545454545454545},{"$f":"'Raw Data'!I116","v":0},{"$f":"'Raw Data'!J116","v":-0.18909090909090909},{"$f":"'Raw Data'!K116","v":-0.14363636363636365},{"$f":"'Raw Data'!L116","v":-0.5},-0.27757575757575759]
[909,{"$f":"'Raw Data'!H127","v":-0.40677966101694918},{"$f":"'Raw Data'!I127","v":0},{"$f":"'Raw Data'!J127","v":2.0762711864406778},{"$f":"'Raw Data'!K127","v":-0.70338983050847459},{"$f":"'Raw Data'!L127","v":1.4830508474576272},0.95197740112994345]
[null,null,null,{"$f":"_xlfn.T.TEST($C58:$C69,D58:D69,2,1)","v":8.4719625357132428E-2},{"$f":"_xlfn.T.TEST($C58:$C69,E58:E69,2,1)","v":0.44505426964611905},{"$f":"_xlfn.T.TEST($C58:$C69,F58:F69,2,1)","v":0.36658977711297591}]
["BM6"]
[59,{"$f":"'Raw Data'!H7","v":4.4510385756676559E-3},{"$f":"'Raw Data'!I7","v":0},{"$f":"'Raw Data'!J7","v":8.4569732937685466E-2},{"$f":"'Raw Data'!K7","v":0.28783382789317508},{"$f":"'Raw Data'!L7","v":0.19881305637982197},{"$f":"AVERAGE(D72:F72)","v":0.1904055390702275}]
[61,{"$f":"'Raw Data'!H18","v":-0.13609467455621302},{"$f":"'Raw Data'!I18","v":0},{"$f":"'Raw Data'!J18","v":-0.2455621301775148},{"$f":"'Raw Data'!K18","v":-0.32100591715976329},{"$f":"'Raw Data'!L18","v":-0.28254437869822485},{"$f":"AVERAGE(D73:F73)","v":-0.28303747534516766}]
[62,{"$f":"'Raw Data'!H29","v":1.4129353233830846},{"$f":"'Raw Data'!I29","v":0},{"$f":"'Raw Data'!J29","v":0.77611940298507465},{"$f":"'Raw Data'!K29","v":1.0248756218905473},{"$f":"'Raw Data'!L29","v":1.4378109452736318},1.0796019900497511]
[63,{"$f":"'Raw Data'!H40","v":1.0678733031674208},{"$f":"'Raw Data'!I40","v":0},{"$f":"'Raw Data'!J40","v":1.0384615384615385},{"$f":"'Raw Data'!K40","v":0.5339366515837104},{"$f":"'Raw Data'!L40","v":0.82352941176470584},0.79864253393665174]
[64,{"$f":"'Raw Data'!H51","v":0.5611510791366906},{"$f":"'Raw Data'!I51","v":0},{"$f":"'Raw Data'!J51","v":0.14388489208633093},{"$f":"'Raw Data'!K51","v":0.80575539568345322},{"$f":"'Raw Data'!L51","v":0.62589928057553956},0.52517985611510787]
[162,{"$f":"'Raw Data'!H62","v":-0.23451776649746192},{"$f":"'Raw Data'!I62","v":0},{"$f":"'Raw Data'!J62","v":-0.54010152284263957},{"$f":"'Raw Data'!K62","v":-0.30964467005076141},{"$f":"'Raw Data'!L62","v":-0.38477157360406089},-0.4115059221658206]
[212,{"$f":"'Raw Data'!H73","v":2.6266416510318951E-2},{"$f":"'Raw Data'!I73","v":0},{"$f":"'Raw Data'!J73","v":0.22701688555347091},{"$f":"'Raw Data'!K73","v":0.39774859287054409},{"$f":"'Raw Data'!L73","v":0.12195121951219512},0.2489055659787367]
[213,{"$f":"'Raw Data'!H84","v":-2.1825396825396824E-2},{"$f":"'Raw Data'!I84","v":0},{"$f":"'Raw Data'!J84","v":-0.37103174603174605},{"$f":"'Raw Data'!K84","v":0.51388888888888884},{"$f":"'Raw Data'!L84","v":0.24206349206349206},0.12830687830687829]
[221,{"$f":"'Raw Data'!H95","v":2.7586206896551722E-3},{"$f":"'Raw Data'!I95","v":0},{"$f":"'Raw Data'!J95","v":0.46206896551724136},{"$f":"'Raw Data'!K95","v":-1.1034482758620689E-2},{"$f":"'Raw Data'!L95","v":0.28000000000000003},0.24367816091954023]
[294,{"$f":"'Raw Data'!H106","v":0.58396369137670201},{"$f":"'Raw Data'!I106","v":0},{"$f":"'Raw Data'!J106","v":0.19213313161875945},{"$f":"'Raw Data'!K106","v":0.28139183055975792},{"$f":"'Raw Data'!L106","v":0.23600605143721634},0.23651033787191122]
[351,{"$f":"'Raw Data'!H117","v":0.10925306577480491},{"$f":"'Raw Data'!I117","v":0},{"$f":"'Raw Data'!J117","v":-2.564102564102564E-2},{"$f":"'Raw Data'!K117","v":3.3444816053511705E-3},{"$f":"'Raw Data'!L117","v":0.19175027870680045},5.6484578223708663E-2]
[909,{"$f":"'Raw Data'!H128","v":1.0778688524590163},{"$f":"'Raw Data'!I128","v":0},{"$f":"'Raw Data'!J128","v":-0.18442622950819673},{"$f":"'Raw Data'!K128","v":0.59221311475409832},{"$f":"'Raw Data'!L128","v":0.38934426229508196},0.26571038251366114]
[null,null,null,{"$f":"_xlfn.T.TEST($C72:$C83,D72:D83,2,1)","v":0.34988558150111404},{"$f":"_xlfn.T.TEST($C72:$C83,E72:E83,2,1)","v":2.3491373109245369E-2},{"$f":"_xlfn.T.TEST($C72:$C83,F72:F83,2,1)","v":4.0011183331989761E-2}]
["BM7"]
[59,{"$f":"'Raw Data'!H8","v":0.98319327731092432},{"$f":"'Raw Data'!I8","v":0},{"$f":"'Raw Data'!J8","v":1.1176470588235294},{"$f":"'Raw Data'!K8","v":9.2436974789915971E-2},{"$f":"'Raw Data'!L8","v":0.59663865546218486},{"$f":"AVERAGE(D86:F86)","v":0.6022408963585435}]
[61,{"$f":"'Raw Data'!H19","v":0.3611111111111111},{"$f":"'Raw Data'!I19","v":0},{"$f":"'Raw Data'!J19","v":0.64583333333333337},{"$f":"'Raw Data'!K19","v":0.87152777777777779},{"$f":"'Raw Data'!L19","v":1.0902777777777777},{"$f":"AVERAGE(D87:F87)","v":0.86921296296296291}]
[62,{"$f":"'Raw Data'!H30","v":1.7124999999999999},{"$f":"'Raw Data'!I30","v":0},{"$f":"'Raw Data'!J30","v":1.5249999999999999},{"$f":"'Raw Data'!K30","v":2.2374999999999998},{"$f":"'Raw Data'!L30","v":0.41249999999999998},1.3916666666666666]
[63,{"$f":"'Raw Data'!H41","v":19.666666666666668},{"$f":"'Raw Data'!I41","v":0},{"$f":"'Raw Data'!J41","v":2.8888888888888888},{"$f":"'Raw Data'!K41","v":35.555555555555557},{"$f":"'Raw Data'!L41","v":11.777777777777779},16.74074074074074]
[64,{"$f":"'Raw Data'!H52","v":9.9090909090909083},{"$f":"'Raw Data'!I52","v":0},{"$f":"'Raw Data'!J52","v":1},{"$f":"'Raw Data'!K52","v":3.9090909090909092},{"$f":"'Raw Data'!L52","v":7.666666666666667},4.191919191919192]
[162]
[212,{"$f":"'Raw Data'!H74","v":0.69387755102040816},{"$f":"'Raw Data'!I74","v":0},{"$f":"'Raw Data'!J74","v":-0.7857142857142857},{"$f":"'Raw Data'!K74","v":0.63265306122448983},{"$f":"'Raw Data'!L74","v":-0.20408163265306123},-0.11904761904761903]
[213,{"$f":"'Raw Data'!H85","v":2.0846153846153848},{"$f":"'Raw Data'!I85","v":0},{"$f":"'Raw Data'!J85","v":-1},{"$f":"'Raw Data'!K85","v":-0.53846153846153844},{"$f":"'Raw Data'!L85","v":-0.24615384615384617},-0.59487179487179487]
[221,{"$f":"'Raw Data'!H96","v":5.6074766355140186E-2},{"$f":"'Raw Data'!I96","v":0},{"$f":"'Raw Data'!J96","v":-0.24299065420560748},{"$f":"'Raw Data'!K96","v":1.1214953271028036},{"$f":"'Raw Data'!L96","v":0.16822429906542055},0.34890965732087226]
[294,{"$f":"'Raw Data'!H107","v":-0.18292682926829268},{"$f":"'Raw Data'!I107","v":0},{"$f":"'Raw Data'!J107","v":-0.49268292682926829},{"$f":"'Raw Data'!K107","v":-0.13414634146341464},{"$f":"'Raw Data'!L107","v":-3.4146341463414637E-2},-0.22032520325203253]
[351,{"$f":"'Raw Data'!H118","v":4.583333333333333},{"$f":"'Raw Data'!I118","v":0},{"$f":"'Raw Data'!J118","v":0.22222222222222221},{"$f":"'Raw Data'!K118","v":3.8333333333333335},{"$f":"'Raw Data'!L118","v":6.2222222222222223},3.425925925925926]
[909,{"$f":"'Raw Data'!H129","v":5.2784810126582276},{"$f":"'Raw Data'!I129","v":0},{"$f":"'Raw Data'!J129","v":-0.22784810126582278},{"$f":"'Raw Data'!K129","v":1.1012658227848102},{"$f":"'Raw Data'!L129","v":-0.26582278481012656},0.20253164556962031]
[null,null,null,{"$f":"_xlfn.T.TEST($C86:$C97,D86:D97,2,1)","v":0.2535093735485332},{"$f":"_xlfn.T.TEST($C86:$C97,E86:E97,2,1)","v":0.18961705899433795},{"$f":"_xlfn.T.TEST($C86:$C97,F86:F97,2,1)","v":7.5572664266965378E-2}]
["BM8"]
[59,{"$f":"'Raw Data'!H9","v":1.7411052233156699E-2},{"$f":"'Raw Data'!I9","v":0},{"$f":"'Raw Data'!J9","v":-0.13701741105223317},{"$f":"'Raw Data'!K9","v":-0.24451173353520061},{"$f":"'Raw Data'!L9","v":-0.17638152914458743},{"$f":"AVERAGE(D100:F100)","v":-0.18597022457734039}]
[61,{"$f":"'Raw Data'!H20","v":1.0258397932816536},{"$f":"'Raw Data'!I20","v":0},{"$f":"'Raw Data'!J20","v":0.62015503875968991},{"$f":"'Raw Data'!K20","v":-3.3591731266149873E-2},{"$f":"'Raw Data'!L20","v":-0.18087855297157623},{"$f":"AVERAGE(D101:F101)","v":0.13522825150732126}]
[62,{"$f":"'Raw Data'!H31","v":-0.30686517783291978},{"$f":"'Raw Data'!I31","v":0},{"$f":"'Raw Data'!J31","v":-4.7973531844499588E-2},{"$f":"'Raw Data'!K31","v":-0.24565756823821339},{"$f":"'Raw Data'!L31","v":1.8196856906534328E-2},-9.1811414392059545E-2]
[63,{"$f":"'Raw Data'!H42","v":-0.49037823490378235},{"$f":"'Raw Data'!I42","v":0},{"$f":"'Raw Data'!J42","v":0.10152621101526212},{"$f":"'Raw Data'!K42","v":-0.47511612475116127},{"$f":"'Raw Data'!L42","v":-0.20039814200398143},-0.19132935191329356]
[64,{"$f":"'Raw Data'!H53","v":-0.42553191489361702},{"$f":"'Raw Data'!I53","v":0},{"$f":"'Raw Data'!J53","v":-0.14285714285714285},{"$f":"'Raw Data'!K53","v":-0.35106382978723405},{"$f":"'Raw Data'!L53","v":-0.21124620060790272},-0.23505572441742653]
[162,{"$f":"'Raw Data'!H64","v":-0.53956834532374098},{"$f":"'Raw Data'!I64","v":0},{"$f":"'Raw Data'!J64","v":-0.40167865707434053},{"$f":"'Raw Data'!K64","v":0.84052757793764987},{"$f":"'Raw Data'!L64","v":0.67386091127098324},0.37090327737809753]
[212,{"$f":"'Raw Data'!H75","v":0.12404580152671756},{"$f":"'Raw Data'!I75","v":0},{"$f":"'Raw Data'!J75","v":0.24236641221374045},{"$f":"'Raw Data'!K75","v":-0.27099236641221375},{"$f":"'Raw Data'!L75","v":-0.16221374045801526},-6.3613231552162849E-2]
[213,{"$f":"'Raw Data'!H86","v":-0.25406032482598606},{"$f":"'Raw Data'!I86","v":0},{"$f":"'Raw Data'!J86","v":-0.47563805104408352},{"$f":"'Raw Data'!K86","v":-0.57424593967517401},{"$f":"'Raw Data'!L86","v":-0.49883990719257543},-0.51624129930394436]
[221,{"$f":"'Raw Data'!H97","v":1.8276762402088774E-2},{"$f":"'Raw Data'!I97","v":0},{"$f":"'Raw Data'!J97","v":-0.53394255874673624},{"$f":"'Raw Data'!K97","v":-0.2349869451697128},{"$f":"'Raw Data'!L97","v":-0.3133159268929504},-0.36074847693646644]
[294,{"$f":"'Raw Data'!H108","v":-0.26620689655172414},{"$f":"'Raw Data'!I108","v":0},{"$f":"'Raw Data'!J108","v":-0.19586206896551725},{"$f":"'Raw Data'!K108","v":-0.18758620689655173},{"$f":"'Raw Data'!L108","v":-0.27862068965517239},-0.22068965517241379]
[351,{"$f":"'Raw Data'!H119","v":1.3095238095238095},{"$f":"'Raw Data'!I119","v":0},{"$f":"'Raw Data'!J119","v":1.8650793650793651},{"$f":"'Raw Data'!K119","v":1.2619047619047619},{"$f":"'Raw Data'!L119","v":-0.1984126984126984},0.97619047619047616]
[909,{"$f":"'Raw Data'!H130","v":-0.71252676659528913},{"$f":"'Raw Data'!I130","v":0},{"$f":"'Raw Data'!J130","v":-0.15149892933618844},{"$f":"'Raw Data'!K130","v":-0.37580299785867238},{"$f":"'Raw Data'!L130","v":-0.31905781584582443},-0.2821199143468951]
[null,null,null,{"$f":"_xlfn.T.TEST($C100:$C111,D100:D111,2,1)","v":0.7480957489960669},{"$f":"_xlfn.T.TEST($C100:$C111,E100:E111,2,1)","v":0.64961577373374768},{"$f":"_xlfn.T.TEST($C100:$C111,F100:F111,2,1)","v":9.0835599666440198E-2}]
["BM9"]
[59,{"$f":"'Raw Data'!H10","v":-0.85084745762711866},{"$f":"'Raw Data'!I10","v":0},{"$f":"'Raw Data'!J10","v":-0.43220338983050849},{"$f":"'Raw Data'!K10","v":-0.52033898305084747},{"$f":"'Raw Data'!L10","v":-0.4457627118644068},{"$f":"AVERAGE(D114:F114)","v":-0.46610169491525427}]
[61,{"$f":"'Raw Data'!H21","v":-0.56114285714285717},{"$f":"'Raw Data'!I21","v":0},{"$f":"'Raw Data'!J21","v":-0.4514285714285714},{"$f":"'Raw Data'!K21","v":-0.42971428571428572},{"$f":"'Raw Data'!L21","v":-0.47885714285714287},{"$f":"AVERAGE(D115:F115)","v":-0.45333333333333331}]
[62,{"$f":"'Raw Data'!H32","v":-0.55759162303664922},{"$f":"'Raw Data'!I32","v":0},{"$f":"'Raw Data'!J32","v":0.36910994764397903},{"$f":"'Raw Data'!K32","v":-0.22513089005235601},{"$f":"'Raw Data'!L32","v":-0.12041884816753927},7.8534031413612509E-3]
[63,{"$f":"'Raw Data'!H43","v":-0.62634786685419597},{"$f":"'Raw Data'!I43","v":0},{"$f":"'Raw Data'!J43","v":-0.59774964838255973},{"$f":"'Raw Data'!K43","v":-0.46647913736521329},{"$f":"'Raw Data'!L43","v":-0.57102672292545709},-0.54508516955774333]
[64,{"$f":"'Raw Data'!H54","v":-0.59553872053872059},{"$f":"'Raw Data'!I54","v":0},{"$f":"'Raw Data'!J54","v":-0.32786195286195285},{"$f":"'Raw Data'!K54","v":-0.47264309764309764},{"$f":"'Raw Data'!L54","v":-0.45328282828282829},-0.41792929292929298]
[162,{"$f":"'Raw Data'!H65","v":-0.77304347826086961},{"$f":"'Raw Data'!I65","v":0},{"$f":"'Raw Data'!J65","v":-0.82347826086956522},{"$f":"'Raw Data'!K65","v":-0.57391304347826089},{"$f":"'Raw Data'!L65","v":-0.56304347826086953},-0.65347826086956518]
[212]
[213,{"$f":"'Raw Data'!H87","v":-0.54289544235924936},{"$f":"'Raw Data'!I87","v":0},{"$f":"'Raw Data'!J87","v":0.40013404825737264},{"$f":"'Raw Data'!K87","v":-2.4128686327077747E-2},{"$f":"'Raw Data'!L87","v":-8.8471849865951746E-2},9.5844504021447716E-2]
[221,{"$f":"'Raw Data'!H98","v":-0.3008595988538682},{"$f":"'Raw Data'!I98","v":0},{"$f":"'Raw Data'!J98","v":0.22349570200573066},{"$f":"'Raw Data'!K98","v":-0.39828080229226359},{"$f":"'Raw Data'!L98","v":-0.25931232091690543},-0.14469914040114612]
[294,{"$f":"'Raw Data'!H109","v":-8.3826429980276132E-2},{"$f":"'Raw Data'!I109","v":0},{"$f":"'Raw Data'!J109","v":0.31360946745562129},{"$f":"'Raw Data'!K109","v":0.15187376725838264},{"$f":"'Raw Data'!L109","v":-8.8757396449704137E-2},0.12557527942143326]
[351,{"$f":"'Raw Data'!H120","v":-0.62346938775510208},{"$f":"'Raw Data'!I120","v":0},{"$f":"'Raw Data'!J120","v":-0.29693877551020409},{"$f":"'Raw Data'!K120","v":-0.41275510204081634},{"$f":"'Raw Data'!L120","v":-0.37857142857142856},-0.36275510204081635]
[909,{"$f":"'Raw Data'!H131","v":-0.1492776886035313},{"$f":"'Raw Data'!I131","v":0},{"$f":"'Raw Data'!J131","v":0.5457463884430177},{"$f":"'Raw Data'!K131","v":-0.6853932584269663},{"$f":"'Raw Data'!L131","v":-7.3836276083467101E-2},-7.116104868913857E-2]
[null,null,null,{"$f":"_xlfn.T.TEST($C114:$C125,D114:D125,2,1)","v":0.50973294982240247},{"$f":"_xlfn.T.TEST($C114:$C125,E114:E125,2,1)","v":5.5119136285800105E-4},{"$f":"_xlfn.T.TEST($C114:$C125,F114:F125,2,1)","v":3.2890704154146024E-4}]
["BM10"]
[59,{"$f":"'Raw Data'!H11","v":0.78714859437751006},{"$f":"'Raw Data'!I11","v":0},{"$f":"'Raw Data'!J11","v":-0.20080321285140562},{"$f":"'Raw Data'!K11","v":0.39357429718875503},{"$f":"'Raw Data'!L11","v":7.2289156626506021E-2},{"$f":"AVERAGE(D128:F128)","v":8.8353413654618476E-2}]
[61,{"$f":"'Raw Data'!H22","v":-0.21649484536082475},{"$f":"'Raw Data'!I22","v":0},{"$f":"'Raw Data'!J22","v":-0.32731958762886598},{"$f":"'Raw Data'!K22","v":0.28092783505154639},{"$f":"'Raw Data'!L22","v":0.86082474226804129},{"$f":"AVERAGE(D129:F129)","v":0.27147766323024053}]
[62,{"$f":"'Raw Data'!H33","v":21.5},{"$f":"'Raw Data'!I33","v":0},{"$f":"'Raw Data'!J33","v":3.3},{"$f":"'Raw Data'!K33","v":7.15},{"$f":"'Raw Data'!L33","v":11.35},7.2666666666666657]
[63,{"$f":"'Raw Data'!H44","v":29.333333333333332},{"$f":"'Raw Data'!I44","v":0},{"$f":"'Raw Data'!J44","v":1.6666666666666667},{"$f":"'Raw Data'!K44","v":17.333333333333332},{"$f":"'Raw Data'!L44","v":7.4444444444444446},8.8148148148148149]
[64,{"$f":"'Raw Data'!H55","v":5.6417910447761193},{"$f":"'Raw Data'!I55","v":0},{"$f":"'Raw Data'!J55","v":1.164179104477612},{"$f":"'Raw Data'!K55","v":1.5373134328358209},{"$f":"'Raw Data'!L55","v":1.6417910447761195},1.4477611940298507]
[162]
[212,{"$f":"'Raw Data'!H77","v":8.2307692307692299},{"$f":"'Raw Data'!I77","v":0},{"$f":"'Raw Data'!J77","v":-0.11538461538461539},{"$f":"'Raw Data'!K77","v":7.6923076923076927E-2},{"$f":"'Raw Data'!L77","v":0.88461538461538458},0.28205128205128205]
[213,{"$f":"'Raw Data'!H88","v":7.101694915254237},{"$f":"'Raw Data'!I88","v":0},{"$f":"'Raw Data'!J88","v":-1},{"$f":"'Raw Data'!K88","v":-0.92372881355932202},{"$f":"'Raw Data'!L88","v":-0.64406779661016944},-0.85593220338983045]
[221,{"$f":"'Raw Data'!H99","v":1.3909774436090225},{"$f":"'Raw Data'!I99","v":0},{"$f":"'Raw Data'!J99","v":-0.56015037593984962},{"$f":"'Raw Data'!K99","v":0.88345864661654139},{"$f":"'Raw Data'!L99","v":-0.17293233082706766},5.0125313283208038E-2]
[294,{"$f":"'Raw Data'!H110","v":6.7010309278350513E-2},{"$f":"'Raw Data'!I110","v":0},{"$f":"'Raw Data'!J110","v":-0.60051546391752575},{"$f":"'Raw Data'!K110","v":-0.15979381443298968},{"$f":"'Raw Data'!L110","v":-0.55154639175257736},-0.4372852233676976]
[351,{"$f":"'Raw Data'!H121","v":5.2093023255813957},{"$f":"'Raw Data'!I121","v":0},{"$f":"'Raw Data'!J121","v":-0.37209302325581395},{"$f":"'Raw Data'!K121","v":2.8139534883720931},{"$f":"'Raw Data'!L121","v":2.1860465116279069},1.5426356589147285]
[909,{"$f":"'Raw Data'!H132","v":3.847826086956522},{"$f":"'Raw Data'!I132","v":0},{"$f":"'Raw Data'!J132","v":0.67391304347826086},{"$f":"'Raw Data'!K132","v":3.5217391304347827},{"$f":"'Raw Data'!L132","v":0.71739130434782605},1.63768115942029]
[null,null,null,{"$f":"_xlfn.T.TEST($C128:$C139,D128:D139,2,1)","v":0.41091948514162902},{"$f":"_xlfn.T.TEST($C128:$C139,E128:E139,2,1)","v":8.9108059869315137E-2},{"$f":"_xlfn.T.TEST($C128:$C139,F128:F139,2,1)","v":8.7148014425758785E-2}]