{"text_format":"2","workbook":"xlsx","n_sheets":2,"sheets":["Raw Data","Calculated DF-F"],"not_rendered":{"charts":0,"images":0,"macros":0,"external_links":0,"defined_names":0,"comments":0,"pivot_tables":0},"unopened":[],"bounds":{"document_bytes":16777216,"sheet_cells":100000,"run_cost":"one","rows_first":2000,"rows_last":500,"rows_between":2000,"halvings":0,"cell_chars":16384,"cell_head_chars":4096},"cells_cut":0,"cells_raw":0,"read":"whole","date_system":"1900"}

{"sheet":"Raw Data","index":0,"n_rows":396,"n_cols":12,"rows_kept":396,"cut":false,"hidden":false,"merged":[]}
[496,{"$nulls":6},496]
[542,783,640,482,450,null,"BM1",542,783,640,482,450]
[443,514,476,394,291,null,"BM2",443,514,476,394,291]
[442,522,430,507,473,null,"BM3",442,522,430,507,473]
[{"$nulls":6},"BM4"]
[1046,552,711,760,904,null,"BM5",1046,552,711,760,904]
[{"$nulls":6},"BM6"]
[391,649,462,669,676,null,"BM7",391,649,462,669,676]
[776,698,755,747,707,null,"BM8",776,698,755,747,707]
[415,367,682,524,467,null,"BM9",415,367,682,524,467]
[445,416,345,418,529,null,"BM10",445,416,345,418,529]
[529,{"$nulls":6},529]
[472,226,211,804,1071,null,"BM1",472,226,211,804,1071]
[621,1648,427,266,184,null,"BM2",621,1648,427,266,184]
[122,110,20,156,315,null,"BM3",122,110,20,156,315]
[{"$nulls":6},"BM4"]
[425,19,303,105,205,null,"BM5",425,19,303,105,205]
[1241,573,737,1154,1245,null,"BM6",1241,573,737,1154,1245]
[140,49,9,92,84,null,"BM7",140,49,9,92,84]
[638,1719,1313,564,273,null,"BM8",638,1719,1313,564,273]
[549,101,1440,1233,1055,null,"BM9",549,101,1440,1233,1055]
[292,56,44,127,65,null,"BM10",292,56,44,127,65]
[521,{"$nulls":6},521]
[85,211,227,179,297,null,"BM1",85,211,227,179,297]
[1081,602,581,1142,686,null,"BM2",1081,602,581,1142,686]
[251,231,385,251,368,null,"BM3",251,231,385,251,368]
[{"$nulls":6},"BM4"]
[940,612,554,436,563,null,"BM5",940,612,554,436,563]
[454,740,714,758,962,null,"BM6",454,740,714,758,962]
[107,161,180,117,50,null,"BM7",107,161,180,117,50]
[791,970,797,985,863,null,"BM8",791,970,797,985,863]
[631,809,823,488,652,null,"BM9",631,809,823,488,652]
[160,155,239,145,56,null,"BM10",160,155,239,145,56]
[524,{"$nulls":6},524]
[361,344,117,197,109,null,"BM1",361,344,117,197,109]
[403,135,428,354,317,null,"BM2",403,135,428,354,317]
[355,155,54,225,38,null,"BM3",355,155,54,225,38]
[{"$nulls":6},"BM4"]
[536,641,1078,932,1212,null,"BM5",536,641,1078,932,1212]
[736,1181,785,882,629,null,"BM6",736,1181,785,882,629]
[275,101,56,85,61,null,"BM7",275,101,56,85,61]
[294,569,657,558,852,null,"BM8",294,569,657,558,852]
[665,1259,1326,1236,1279,null,"BM9",665,1259,1326,1236,1279]
[875,116,0,32,0,null,"BM10",875,116,0,32,0]
[517,{"$nulls":6},517]
[165,524,378,403,358,null,"BM1",165,524,378,403,358]
[746,512,580,873,589,null,"BM2",746,512,580,873,589]
[356,463,380,732,526,null,"BM3",356,463,380,732,526]
[{"$nulls":6},"BM4"]
[491,310,380,121,331,null,"BM5",491,310,380,121,331]
[497,575,961,719,628,null,"BM6",497,575,961,719,628]
[235,251,69,196,160,null,"BM7",235,251,69,196,160]
[1345,737,751,649,892,null,"BM8",1345,737,751,649,892]
[311,830,992,688,867,null,"BM9",311,830,992,688,867]
[354,299,10,120,146,null,"BM10",354,299,10,120,146]
[522,{"$nulls":6},522]
[566,787,888,680,771,null,"BM1",566,787,888,680,771]
[313,545,295,277,297,null,"BM2",313,545,295,277,297]
[375,509,938,1043,667,null,"BM3",375,509,938,1043,667]
[{"$nulls":6},"BM4"]
[773,321,394,311,361,null,"BM5",773,321,394,311,361]
[{"$nulls":6},"BM6"]
[609,646,688,985,959,null,"BM7",609,646,688,985,959]
[647,550,430,401,630,null,"BM8",647,550,430,401,630]
[779,927,786,666,664,null,"BM9",779,927,786,666,664]
[438,216,82,138,148,null,"BM10",438,216,82,138,148]
[534,{"$nulls":6},534]
[208,189,55,55,187,null,"BM1",208,189,55,55,187]
[190,814,449,519,540,null,"BM2",190,814,449,519,540]
[214,112,60,0,100,null,"BM3",214,112,60,0,100]
[{"$nulls":6},"BM4"]
[1497,748,1477,1526,960,null,"BM5",1497,748,1477,1526,960]
[799,901,870,606,1105,null,"BM6",799,901,870,606,1105]
[663,257,25,0,169,null,"BM7",663,257,25,0,169]
[238,505,394,521,311,null,"BM8",238,505,394,521,311]
[374,894,1171,1274,1123,null,"BM9",374,894,1171,1274,1123]
[317,81,0,0,9,null,"BM10",317,81,0,0,9]
[528,{"$nulls":6},528]
[629,350,524,761,592,null,"BM1",629,350,524,761,592]
[466,81,169,227,116,null,"BM2",466,81,169,227,116]
[302,290,512,759,768,null,"BM3",302,290,512,759,768]
[{"$nulls":6},"BM4"]
[200,394,321,157,347,null,"BM5",200,394,321,157,347]
[1421,972,1254,1341,1349,null,"BM6",1421,972,1254,1341,1349]
[266,262,172,309,228,null,"BM7",266,262,172,309,228]
[782,1312,848,395,742,null,"BM8",782,1312,848,395,742]
[186,581,545,405,329,null,"BM9",186,581,545,405,329]
[248,259,156,147,26,null,"BM10",248,259,156,147,26]
[578,{"$nulls":6},578]
[168,410,419,495,439,null,"BM1",168,410,419,495,439]
[302,456,561,723,359,null,"BM2",302,456,561,723,359]
[211,264,245,445,460,null,"BM3",211,264,245,445,460]
[0,0,0,0,0,null,"BM4",0,0,0,0,0]
[1666,1037,961,493,848,null,"BM5",1666,1037,961,493,848]
[650,631,687,752,1024,null,"BM6",650,631,687,752,1024]
[293,277,320,566,325,null,"BM7",293,277,320,566,325]
[532,528,521,432,570,null,"BM8",532,528,521,432,570]
[413,520,591,233,289,null,"BM9",413,520,591,233,289]
[265,378,196,362,183,null,"BM10",265,378,196,362,183]
[533,{"$nulls":6},533]
[163,292,192,302,530,null,"BM1",163,292,192,302,530]
[889,731,753,752,609,null,"BM2",889,731,753,752,609]
[170,188,200,291,334,null,"BM3",170,188,200,291,334]
[0,51,0,11,9,null,"BM4",0,51,0,11,9]
[1104,1090,1063,865,938,null,"BM5",1104,1090,1063,865,938]
[409,614,748,872,725,null,"BM6",409,614,748,872,725]
[161,105,241,213,221,null,"BM7",161,105,241,213,221]
[857,734,482,429,486,null,"BM8",857,734,482,429,486]
[387,438,596,628,520,null,"BM9",387,438,596,628,520]
[360,258,226,138,129,null,"BM10",360,258,226,138,129]
[527,{"$nulls":6},527]
[205,460,173,238,377,null,"BM1",205,460,173,238,377]
[1237,1467,1150,719,1427,null,"BM2",1237,1467,1150,719,1427]
[119,225,25,183,183,null,"BM3",119,225,25,183,183]
[0,0,0,0,0,null,"BM4",0,0,0,0,0]
[294,89,319,218,129,null,"BM5",294,89,319,218,129]
[283,348,355,353,377,null,"BM6",283,348,355,353,377]
[214,158,13,223,142,null,"BM7",214,158,13,223,142]
[1052,907,1025,987,626,null,"BM8",1052,907,1025,987,626]
[880,757,1409,1493,1101,null,"BM9",880,757,1409,1493,1101]
[216,90,32,87,135,null,"BM10",216,90,32,87,135]
[63,{"$nulls":6},63]
[593,99,126,272,251,null,"BM1",593,99,126,272,251]
[110,20,633,354,616,null,"BM2",110,20,633,354,616]
[575,141,83,488,349,null,"BM3",575,141,83,488,349]
[{"$nulls":6},"BM4"]
[284,149,181,286,164,null,"BM5",284,149,181,286,164]
[914,442,901,678,806,null,"BM6",914,442,901,678,806]
[186,9,35,329,115,null,"BM7",186,9,35,329,115]
[768,1507,1660,791,1205,null,"BM8",768,1507,1660,791,1205]
[797,2133,858,1138,915,null,"BM9",797,2133,858,1138,915]
[273,9,24,165,76,null,"BM10",273,9,24,165,76]
[64,{"$nulls":6},64]
[231,173,395,486,470,null,"BM1",231,173,395,486,470]
[446,109,269,191,241,null,"BM2",446,109,269,191,241]
[270,83,118,403,285,null,"BM3",270,83,118,403,285]
[{"$nulls":6},"BM4"]
[758,585,870,656,542,null,"BM5",758,585,870,656,542]
[651,417,477,753,678,null,"BM6",651,417,477,753,678]
[360,33,66,162,286,null,"BM7",360,33,66,162,286]
[378,658,564,427,519,null,"BM8",378,658,564,427,519]
[961,2376,1597,1253,1299,null,"BM9",961,2376,1597,1253,1299]
[445,67,145,170,177,null,"BM10",445,67,145,170,177]
[909,{"$nulls":6},909]
[818,215,181,264,332,null,"BM1",818,215,181,264,332]
[389,994,739,1491,1099,null,"BM2",389,994,739,1491,1099]
[423,70,134,198,109,null,"BM3",423,70,134,198,109]
[{"$nulls":6},"BM4"]
[70,118,363,35,293,null,"BM5",70,118,363,35,293]
[1014,488,398,777,678,null,"BM6",1014,488,398,777,678]
[496,79,61,166,58,null,"BM7",496,79,61,166,58]
[537,1868,1585,1166,1272,null,"BM8",537,1868,1585,1166,1272]
[530,623,963,196,577,null,"BM9",530,623,963,196,577]
[223,46,77,208,79,null,"BM10",223,46,77,208,79]
[162,{"$nulls":6},162]
[1361,161,754,208,184,null,"BM1",1361,161,754,208,184]
[97,9,281,269,369,null,"BM2",97,9,281,269,369]
[589,9,214,31,80,null,"BM3",589,9,214,31,80]
[{"$nulls":6},"BM4"]
[253,211,933,757,835,null,"BM5",253,211,933,757,835]
[754,985,453,680,606,null,"BM6",754,985,453,680,606]
[267,0,348,26,9,null,"BM7",267,0,348,26,9]
[384,834,499,1535,1396,null,"BM8",384,834,499,1535,1396]
[522,2300,406,980,1005,null,"BM9",522,2300,406,980,1005]
[273,0,613,15,15,null,"BM10",273,0,613,15,15]
[294,{"$nulls":6},294]
[485,361,483,440,613,null,"BM1",485,361,483,440,613]
[{"$nulls":6},"BM2"]
[324,322,323,293,522,null,"BM3",324,322,323,293,522]
[{"$nulls":6},"BM4"]
[434,620,629,483,528,null,"BM5",434,620,629,483,528]
[1047,661,788,847,817,null,"BM6",1047,661,788,847,817]
[335,410,208,355,396,null,"BM7",335,410,208,355,396]
[532,725,583,589,523,null,"BM8",532,725,583,589,523]
[929,1014,1332,1168,924,null,"BM9",929,1014,1332,1168,924]
[414,388,155,326,174,null,"BM10",414,388,155,326,174]
[351,{"$nulls":6},351]
[481,316,523,488,757,null,"BM1",481,316,523,488,757]
[800,300,603,586,232,null,"BM2",800,300,603,586,232]
[290,273,245,282,448,null,"BM3",290,273,245,282,448]
[{"$nulls":6},"BM4"]
[437,550,446,471,275,null,"BM5",437,550,446,471,275]
[995,897,874,900,1069,null,"BM6",995,897,874,900,1069]
[201,36,44,174,260,null,"BM7",201,36,44,174,260]
[291,126,361,285,101,null,"BM8",291,126,361,285,101]
[738,1960,1378,1151,1218,null,"BM9",738,1960,1378,1151,1218]
[267,43,27,164,137,null,"BM10",267,43,27,164,137]
[513,{"$nulls":6},513]
[358,268,184,273,326,null,"BM1",358,268,184,273,326]
[286,532,539,395,281,null,"BM2",286,532,539,395,281]
[177,416,339,757,508,null,"BM3",177,416,339,757,508]
[{"$nulls":6},"BM4"]
[1167,536,977,333,604,null,"BM5",1167,536,977,333,604]
[369,465,422,659,320,null,"BM6",369,465,422,659,320]
[257,567,308,734,565,null,"BM7",257,567,308,734,565]
[982,469,1013,447,460,null,"BM8",982,469,1013,447,460]
[446,509,573,487,444,null,"BM9",446,509,573,487,444]
[458,739,146,416,989,null,"BM10",458,739,146,416,989]
[530,{"$nulls":6},530]
[763,596,252,682,501,null,"BM1",763,596,252,682,501]
[414,123,228,342,211,null,"BM2",414,123,228,342,211]
[571,213,75,247,255,null,"BM3",571,213,75,247,255]
[0,28,27,25,12,null,"BM4",0,28,27,25,12]
[593,1635,1857,1116,1596,null,"BM5",593,1635,1857,1116,1596]
[785,718,820,912,757,null,"BM6",785,718,820,912,757]
[252,310,93,248,191,null,"BM7",252,310,93,248,191]
[329,289,574,485,398,null,"BM8",329,289,574,485,398]
[272,452,558,411,394,null,"BM9",272,452,558,411,394]
[521,137,17,33,182,null,"BM10",521,137,17,33,182]
[515,{"$nulls":6},515]
[363,292,550,508,807,null,"BM1",363,292,550,508,807]
[396,258,347,173,260,null,"BM2",396,258,347,173,260]
[164,110,477,410,483,null,"BM3",164,110,477,410,483]
[{"$nulls":6},"BM4"]
[749,701,681,768,570,null,"BM5",749,701,681,768,570]
[533,294,636,771,712,null,"BM6",533,294,636,771,712]
[181,132,64,115,145,null,"BM7",181,132,64,115,145]
[1034,1443,819,550,522,null,"BM8",1034,1443,819,550,522]
[581,1072,866,1046,756,null,"BM9",581,1072,866,1046,756]
[499,199,61,160,242,null,"BM10",499,199,61,160,242]
[531,{"$nulls":6},531]
[114,86,201,227,371,null,"BM1",114,86,201,227,371]
[314,216,390,214,282,null,"BM2",314,216,390,214,282]
[181,161,379,444,360,null,"BM3",181,161,379,444,360]
[{"$nulls":6},"BM4"]
[1940,1376,1069,1458,948,null,"BM5",1940,1376,1069,1458,948]
[252,352,484,484,601,null,"BM6",252,352,484,484,601]
[122,233,282,304,502,null,"BM7",122,233,282,304,502]
[549,373,225,135,315,null,"BM8",549,373,225,135,315]
[751,1497,1069,1075,790,null,"BM9",751,1497,1069,1075,790]
[277,207,402,160,328,null,"BM10",277,207,402,160,328]
[500,{"$nulls":6},500]
[439,881,562,707,750,null,"BM1",439,881,562,707,750]
[707,369,671,386,367,null,"BM2",707,369,671,386,367]
[142,217,255,526,519,null,"BM3",142,217,255,526,519]
[{"$nulls":6},"BM4"]
[578,313,574,354,378,null,"BM5",578,313,574,354,378]
[926,997,530,773,982,null,"BM6",926,997,530,773,982]
[155,37,193,333,377,null,"BM7",155,37,193,333,377]
[628,678,616,361,380,null,"BM8",628,678,616,361,380]
[340,780,589,517,308,null,"BM9",340,780,589,517,308]
[585,229,511,544,436,null,"BM10",585,229,511,544,436]
[498,{"$nulls":6},498]
[243,284,224,158,620,null,"BM1",243,284,224,158,620]
[2264,1854,663,1372,729,null,"BM2",2264,1854,663,1372,729]
[291,108,87,114,444,null,"BM3",291,108,87,114,444]
[{"$nulls":6},"BM4"]
[227,68,1119,462,211,null,"BM5",227,68,1119,462,211]
[764,710,526,609,892,null,"BM6",764,710,526,609,892]
[142,20,12,41,153,null,"BM7",142,20,12,41,153]
[153,707,746,1088,571,null,"BM8",153,707,746,1088,571]
[143,716,1085,596,779,null,"BM9",143,716,1085,596,779]
[273,34,39,61,92,null,"BM10",273,34,39,61,92]
[157,{"$nulls":6},157]
[99,246,79,139,168,null,"BM1",99,246,79,139,168]
[2694,1064,1020,1398,1649,null,"BM2",2694,1064,1020,1398,1649]
[242,186,106,133,233,null,"BM3",242,186,106,133,233]
[{"$nulls":6},"BM4"]
[230,233,681,361,250,null,"BM5",230,233,681,361,250]
[97,250,508,350,554,null,"BM6",97,250,508,350,554]
[56,29,58,12,62,null,"BM7",56,29,58,12,62]
[841,1399,1188,1427,1164,null,"BM8",841,1399,1188,1427,1164]
[169,1086,840,681,408,null,"BM9",169,1086,840,681,408]
[72,9,21,0,9,null,"BM10",72,9,21,0,9]
[514,{"$nulls":6},514]
[386,218,133,260,236,null,"BM1",386,218,133,260,236]
[438,715,951,813,565,null,"BM2",438,715,951,813,565]
[179,222,231,160,107,null,"BM3",179,222,231,160,107]
[{"$nulls":6},"BM4"]
[960,454,650,789,822,null,"BM5",960,454,650,789,822]
[441,557,722,497,498,null,"BM6",441,557,722,497,498]
[{"$nulls":6},"BM7"]
[946,1154,1018,1001,950,null,"BM8",946,1154,1018,1001,950]
[626,809,437,602,1135,null,"BM9",626,809,437,602,1135]
[524,372,359,379,184,null,"BM10",524,372,359,379,184]
[532,{"$nulls":6},532]
[315,114,205,159,220,null,"BM1",315,114,205,159,220]
[807,754,525,718,471,null,"BM2",807,754,525,718,471]
[309,332,296,221,411,null,"BM3",309,332,296,221,411]
[{"$nulls":6},"BM4"]
[326,311,617,365,660,null,"BM5",326,311,617,365,660]
[690,309,613,679,538,null,"BM6",690,309,613,679,538]
[161,237,144,66,68,null,"BM7",161,237,144,66,68]
[835,1573,849,1044,1001,null,"BM8",835,1573,849,1044,1001]
[831,735,1201,1154,1098,null,"BM9",831,735,1201,1154,1098]
[226,136,51,95,30,null,"BM10",226,136,51,95,30]
[516,{"$nulls":6},516]
[465,445,377,472,470,null,"BM1",465,445,377,472,470]
[440,620,605,501,529,null,"BM2",440,620,605,501,529]
[414,341,203,315,308,null,"BM3",414,341,203,315,308]
[{"$nulls":6},"BM4"]
[431,498,774,700,753,null,"BM5",431,498,774,700,753]
[322,523,600,628,496,null,"BM6",322,523,600,628,496]
[581,305,210,336,414,null,"BM7",581,305,210,336,414]
[359,584,1003,713,847,null,"BM8",359,584,1003,713,847]
[296,746,523,638,438,null,"BM9",296,746,523,638,438]
[1192,439,206,198,242,null,"BM10",1192,439,206,198,242]
[158,{"$nulls":6},158]
[446,228,118,186,296,null,"BM1",446,228,118,186,296]
[1198,1189,1484,1216,1552,null,"BM2",1198,1189,1484,1216,1552]
[600,330,346,418,482,null,"BM3",600,330,346,418,482]
[{"$nulls":6},"BM4"]
[307,315,635,640,267,null,"BM5",307,315,635,640,267]
[135,301,393,397,334,null,"BM6",135,301,393,397,334]
[634,93,136,169,265,null,"BM7",634,93,136,169,265]
[411,1534,740,959,687,null,"BM8",411,1534,740,959,687]
[88,341,511,486,345,null,"BM9",88,341,511,486,345]
[681,170,138,30,269,null,"BM10",681,170,138,30,269]
[499,{"$nulls":6},499]
[521,528,461,425,471,null,"BM1",521,528,461,425,471]
[446,63,608,663,425,null,"BM2",446,63,608,663,425]
[405,224,180,277,287,null,"BM3",405,224,180,277,287]
[{"$nulls":6},"BM4"]
[860,865,998,787,884,null,"BM5",860,865,998,787,884]
[352,599,599,565,547,null,"BM6",352,599,599,565,547]
[406,93,102,140,225,null,"BM7",406,93,102,140,225]
[270,488,537,712,578,null,"BM8",270,488,537,712,578]
[495,1392,946,858,863,null,"BM9",495,1392,946,858,863]
[745,249,70,74,217,null,"BM10",745,249,70,74,217]
[156,{"$nulls":6},156]
[499,317,78,221,466,null,"BM1",499,317,78,221,466]
[317,827,845,871,840,null,"BM2",317,827,845,871,840]
[368,56,24,94,231,null,"BM3",368,56,24,94,231]
[0,0,0,0,0,null,"BM4",0,0,0,0,0]
[247,272,533,377,120,null,"BM5",247,272,533,377,120]
[592,530,479,563,548,null,"BM6",592,530,479,563,548]
[190,28,18,63,154,null,"BM7",190,28,18,63,154]
[883,1630,1845,1674,1469,null,"BM8",883,1630,1845,1674,1469]
[535,665,677,572,531,null,"BM9",535,665,677,572,531]
[869,176,9,66,138,null,"BM10",869,176,9,66,138]
[59,{"$nulls":6},59]
[116,363,418,453,363,null,"BM1",116,363,418,453,363]
[882,601,679,758,899,null,"BM2",882,601,679,758,899]
[315,171,349,334,316,null,"BM3",315,171,349,334,316]
[{"$nulls":6},"BM4"]
[397,413,398,330,239,null,"BM5",397,413,398,330,239]
[677,674,731,868,808,null,"BM6",677,674,731,868,808]
[236,119,252,130,190,null,"BM7",236,119,252,130,190]
[1344,1321,1140,998,1088,null,"BM8",1344,1321,1140,998,1088]
[88,590,335,283,327,null,"BM9",88,590,335,283,327]
[445,249,199,347,267,null,"BM10",445,249,199,347,267]
[61,{"$nulls":6},61]
[728,778,656,851,805,null,"BM1",728,778,656,851,805]
[368,500,562,446,310,null,"BM2",368,500,562,446,310]
[389,242,469,560,663,null,"BM3",389,242,469,560,663]
[{"$nulls":6},"BM4"]
[567,367,462,276,137,null,"BM5",567,367,462,276,137]
[584,676,510,459,485,null,"BM6",584,676,510,459,485]
[392,288,474,539,602,null,"BM7",392,288,474,539,602]
[784,387,627,374,317,null,"BM8",784,387,627,374,317]
[384,875,480,499,456,null,"BM9",384,875,480,499,456]
[304,388,261,497,722,null,"BM10",304,388,261,497,722]
[62,{"$nulls":6},62]
[120,101,335,370,287,null,"BM1",120,101,335,370,287]
[286,1821,974,833,642,null,"BM2",286,1821,974,833,642]
[158,394,238,551,441,null,"BM3",158,394,238,551,441]
[{"$nulls":6},"BM4"]
[1777,293,635,710,710,null,"BM5",1777,293,635,710,710]
[485,201,357,407,490,null,"BM6",485,201,357,407,490]
[217,80,202,259,113,null,"BM7",217,80,202,259,113]
[838,1209,1151,912,1231,null,"BM8",838,1209,1151,912,1231]
[169,382,523,296,336,null,"BM9",169,382,523,296,336]
[450,20,86,163,247,null,"BM10",450,20,86,163,247]
[212,{"$nulls":6},212]
[427,179,287,350,408,null,"BM1",427,179,287,350,408]
[440,15,89,81,94,null,"BM2",440,15,89,81,94]
[431,200,191,693,459,null,"BM3",431,200,191,693,459]
[{"$nulls":6},"BM4"]
[406,1036,888,726,1032,null,"BM5",406,1036,888,726,1032]
[547,533,654,745,598,null,"BM6",547,533,654,745,598]
[166,98,21,160,78,null,"BM7",166,98,21,160,78]
[589,524,651,382,439,null,"BM8",589,524,651,382,439]
[1014,1864,1674,1308,1291,null,"BM9",1014,1864,1674,1308,1291]
[480,52,46,56,98,null,"BM10",480,52,46,56,98]
[213,{"$nulls":6},213]
[242,198,116,266,620,null,"BM1",242,198,116,266,620]
[483,511,968,1068,868,null,"BM2",483,511,968,1068,868]
[397,129,17,258,234,null,"BM3",397,129,17,258,234]
[{"$nulls":6},"BM4"]
[203,557,542,257,217,null,"BM5",203,557,542,257,217]
[493,504,317,763,626,null,"BM6",493,504,317,763,626]
[401,130,0,60,98,null,"BM7",401,130,0,60,98]
[643,862,452,367,432,null,"BM8",643,862,452,367,432]
[682,1492,2089,1456,1360,null,"BM9",682,1492,2089,1456,1360]
[956,118,0,9,42,null,"BM10",956,118,0,9,42]
[221,{"$nulls":6},221]
[401,482,510,629,636,null,"BM1",401,482,510,629,636]
[737,640,594,328,524,null,"BM2",737,640,594,328,524]
[168,231,367,422,424,null,"BM3",168,231,367,422,424]
[{"$nulls":6},"BM4"]
[337,479,480,444,472,null,"BM5",337,479,480,444,472]
[727,725,1060,717,928,null,"BM6",727,725,1060,717,928]
[226,214,162,454,250,null,"BM7",226,214,162,454,250]
[780,766,357,586,526,null,"BM8",780,766,357,586,526]
[488,698,854,420,517,null,"BM9",488,698,854,420,517]
[636,266,117,501,220,null,"BM10",636,266,117,501,220]

{"sheet":"Calculated DF-F","index":1,"n_rows":370,"n_cols":8,"rows_kept":370,"cut":false,"hidden":false,"merged":[]}
["BM1","OF","SHAM","T1","T2","T3","Average"]
[496,{"$f":"'Raw Data'!H2","v":542},{"$f":"'Raw Data'!I2","v":783},{"$f":"'Raw Data'!J2","v":640},{"$f":"'Raw Data'!K2","v":482},{"$f":"'Raw Data'!L2","v":450},{"$f":"AVERAGE(D2:F2)","v":524},"F"]
[529,{"$f":"'Raw Data'!H13","v":472},{"$f":"'Raw Data'!I13","v":226},{"$f":"'Raw Data'!J13","v":211},{"$f":"'Raw Data'!K13","v":804},{"$f":"'Raw Data'!L13","v":1071},{"$f":"AVERAGE(D3:F3)","v":695.33333333333337},"F"]
[521,{"$f":"'Raw Data'!H24","v":85},{"$f":"'Raw Data'!I24","v":211},{"$f":"'Raw Data'!J24","v":227},{"$f":"'Raw Data'!K24","v":179},{"$f":"'Raw Data'!L24","v":297},234.33333333333334,"F"]
[524,{"$f":"'Raw Data'!H35","v":361},{"$f":"'Raw Data'!I35","v":344},{"$f":"'Raw Data'!J35","v":117},{"$f":"'Raw Data'!K35","v":197},{"$f":"'Raw Data'!L35","v":109},141,"F"]
[517,{"$f":"'Raw Data'!H46","v":165},{"$f":"'Raw Data'!I46","v":524},{"$f":"'Raw Data'!J46","v":378},{"$f":"'Raw Data'!K46","v":403},{"$f":"'Raw Data'!L46","v":358},379.66666666666669,"F"]
[522,{"$f":"'Raw Data'!H57","v":566},{"$f":"'Raw Data'!I57","v":787},{"$f":"'Raw Data'!J57","v":888},{"$f":"'Raw Data'!K57","v":680},{"$f":"'Raw Data'!L57","v":771},779.66666666666663,"F"]
[534,{"$f":"'Raw Data'!H68","v":208},{"$f":"'Raw Data'!I68","v":189},{"$f":"'Raw Data'!J68","v":55},{"$f":"'Raw Data'!K68","v":55},{"$f":"'Raw Data'!L68","v":187},99,"F"]
[528,{"$f":"'Raw Data'!H79","v":629},{"$f":"'Raw Data'!I79","v":350},{"$f":"'Raw Data'!J79","v":524},{"$f":"'Raw Data'!K79","v":761},{"$f":"'Raw Data'!L79","v":592},625.66666666666663,"F"]
[578,{"$f":"'Raw Data'!H90","v":168},{"$f":"'Raw Data'!I90","v":410},{"$f":"'Raw Data'!J90","v":419},{"$f":"'Raw Data'!K90","v":495},{"$f":"'Raw Data'!L90","v":439},451,"F"]
[533,{"$f":"'Raw Data'!H101","v":163},{"$f":"'Raw Data'!I101","v":292},{"$f":"'Raw Data'!J101","v":192},{"$f":"'Raw Data'!K101","v":302},{"$f":"'Raw Data'!L101","v":530},341.33333333333331,"F"]
[527,{"$f":"'Raw Data'!H112","v":205},{"$f":"'Raw Data'!I112","v":460},{"$f":"'Raw Data'!J112","v":173},{"$f":"'Raw Data'!K112","v":238},{"$f":"'Raw Data'!L112","v":377},262.66666666666669,"F"]
[63,{"$f":"'Raw Data'!H123","v":593},{"$f":"'Raw Data'!I123","v":99},{"$f":"'Raw Data'!J123","v":126},{"$f":"'Raw Data'!K123","v":272},{"$f":"'Raw Data'!L123","v":251},216.33333333333334,"F"]
[64,{"$f":"'Raw Data'!H134","v":231},{"$f":"'Raw Data'!I134","v":173},{"$f":"'Raw Data'!J134","v":395},{"$f":"'Raw Data'!K134","v":486},{"$f":"'Raw Data'!L134","v":470},450.33333333333331,"F"]
[909,{"$f":"'Raw Data'!H145","v":818},{"$f":"'Raw Data'!I145","v":215},{"$f":"'Raw Data'!J145","v":181},{"$f":"'Raw Data'!K145","v":264},{"$f":"'Raw Data'!L145","v":332},259,"F"]
[162,{"$f":"'Raw Data'!H156","v":1361},{"$f":"'Raw Data'!I156","v":161},{"$f":"'Raw Data'!J156","v":754},{"$f":"'Raw Data'!K156","v":208},{"$f":"'Raw Data'!L156","v":184},382,"F"]
[294,{"$f":"'Raw Data'!H167","v":485},{"$f":"'Raw Data'!I167","v":361},{"$f":"'Raw Data'!J167","v":483},{"$f":"'Raw Data'!K167","v":440},{"$f":"'Raw Data'!L167","v":613},512,"F"]
[351,{"$f":"'Raw Data'!H178","v":481},{"$f":"'Raw Data'!I178","v":316},{"$f":"'Raw Data'!J178","v":523},{"$f":"'Raw Data'!K178","v":488},{"$f":"'Raw Data'!L178","v":757},589.33333333333337,"F"]
[513,{"$f":"'Raw Data'!H189","v":358},{"$f":"'Raw Data'!I189","v":268},{"$f":"'Raw Data'!J189","v":184},{"$f":"'Raw Data'!K189","v":273},{"$f":"'Raw Data'!L189","v":326},261,"M"]
[530,{"$f":"'Raw Data'!H200","v":763},{"$f":"'Raw Data'!I200","v":596},{"$f":"'Raw Data'!J200","v":252},{"$f":"'Raw Data'!K200","v":682},{"$f":"'Raw Data'!L200","v":501},478.33333333333331,"M"]
[515,{"$f":"'Raw Data'!H211","v":363},{"$f":"'Raw Data'!I211","v":292},{"$f":"'Raw Data'!J211","v":550},{"$f":"'Raw Data'!K211","v":508},{"$f":"'Raw Data'!L211","v":807},621.66666666666663,"M"]
[531,{"$f":"'Raw Data'!H222","v":114},{"$f":"'Raw Data'!I222","v":86},{"$f":"'Raw Data'!J222","v":201},{"$f":"'Raw Data'!K222","v":227},{"$f":"'Raw Data'!L222","v":371},266.33333333333331,"M"]
[500,{"$f":"'Raw Data'!H233","v":439},{"$f":"'Raw Data'!I233","v":881},{"$f":"'Raw Data'!J233","v":562},{"$f":"'Raw Data'!K233","v":707},{"$f":"'Raw Data'!L233","v":750},673,"M"]
[498,{"$f":"'Raw Data'!H244","v":243},{"$f":"'Raw Data'!I244","v":284},{"$f":"'Raw Data'!J244","v":224},{"$f":"'Raw Data'!K244","v":158},{"$f":"'Raw Data'!L244","v":620},334,"M"]
[157,{"$f":"'Raw Data'!H255","v":99},{"$f":"'Raw Data'!I255","v":246},{"$f":"'Raw Data'!J255","v":79},{"$f":"'Raw Data'!K255","v":139},{"$f":"'Raw Data'!L255","v":168},128.66666666666666,"M"]
[514,{"$f":"'Raw Data'!H266","v":386},{"$f":"'Raw Data'!I266","v":218},{"$f":"'Raw Data'!J266","v":133},{"$f":"'Raw Data'!K266","v":260},{"$f":"'Raw Data'!L266","v":236},209.66666666666666,"M"]
[532,{"$f":"'Raw Data'!H277","v":315},{"$f":"'Raw Data'!I277","v":114},{"$f":"'Raw Data'!J277","v":205},{"$f":"'Raw Data'!K277","v":159},{"$f":"'Raw Data'!L277","v":220},194.66666666666666,"M"]
[516,{"$f":"'Raw Data'!H288","v":465},{"$f":"'Raw Data'!I288","v":445},{"$f":"'Raw Data'!J288","v":377},{"$f":"'Raw Data'!K288","v":472},{"$f":"'Raw Data'!L288","v":470},439.66666666666669,"M"]
[158,{"$f":"'Raw Data'!H299","v":446},{"$f":"'Raw Data'!I299","v":228},{"$f":"'Raw Data'!J299","v":118},{"$f":"'Raw Data'!K299","v":186},{"$f":"'Raw Data'!L299","v":296},200,"M"]
[499,{"$f":"'Raw Data'!H310","v":521},{"$f":"'Raw Data'!I310","v":528},{"$f":"'Raw Data'!J310","v":461},{"$f":"'Raw Data'!K310","v":425},{"$f":"'Raw Data'!L310","v":471},452.33333333333331,"M"]
[156,{"$f":"'Raw Data'!H321","v":499},{"$f":"'Raw Data'!I321","v":317},{"$f":"'Raw Data'!J321","v":78},{"$f":"'Raw Data'!K321","v":221},{"$f":"'Raw Data'!L321","v":466},255,"M"]
[59,{"$f":"'Raw Data'!H332","v":116},{"$f":"'Raw Data'!I332","v":363},{"$f":"'Raw Data'!J332","v":418},{"$f":"'Raw Data'!K332","v":453},{"$f":"'Raw Data'!L332","v":363},411.33333333333331,"M"]
[61,{"$f":"'Raw Data'!H343","v":728},{"$f":"'Raw Data'!I343","v":778},{"$f":"'Raw Data'!J343","v":656},{"$f":"'Raw Data'!K343","v":851},{"$f":"'Raw Data'!L343","v":805},770.66666666666663,"M"]
[62,{"$f":"'Raw Data'!H354","v":120},{"$f":"'Raw Data'!I354","v":101},{"$f":"'Raw Data'!J354","v":335},{"$f":"'Raw Data'!K354","v":370},{"$f":"'Raw Data'!L354","v":287},330.66666666666669,"M"]
[212,{"$f":"'Raw Data'!H365","v":427},{"$f":"'Raw Data'!I365","v":179},{"$f":"'Raw Data'!J365","v":287},{"$f":"'Raw Data'!K365","v":350},{"$f":"'Raw Data'!L365","v":408},348.33333333333331,"M"]
[213,{"$f":"'Raw Data'!H376","v":242},{"$f":"'Raw Data'!I376","v":198},{"$f":"'Raw Data'!J376","v":116},{"$f":"'Raw Data'!K376","v":266},{"$f":"'Raw Data'!L376","v":620},334,"M"]
[221,{"$f":"'Raw Data'!H387","v":401},{"$f":"'Raw Data'!I387","v":482},{"$f":"'Raw Data'!J387","v":510},{"$f":"'Raw Data'!K387","v":629},{"$f":"'Raw Data'!L387","v":636},591.66666666666663,"M"]
["BM2","OF","SHAM","T1","T2","T3","Total"]
[496,{"$f":"'Raw Data'!H3","v":443},{"$f":"'Raw Data'!I3","v":514},{"$f":"'Raw Data'!J3","v":476},{"$f":"'Raw Data'!K3","v":394},{"$f":"'Raw Data'!L3","v":291},{"$f":"AVERAGE(D39:F39)","v":387},"F"]
[529,{"$f":"'Raw Data'!H14","v":621},{"$f":"'Raw Data'!I14","v":1648},{"$f":"'Raw Data'!J14","v":427},{"$f":"'Raw Data'!K14","v":266},{"$f":"'Raw Data'!L14","v":184},{"$f":"AVERAGE(D40:F40)","v":292.33333333333331},"F"]
[521,{"$f":"'Raw Data'!H25","v":1081},{"$f":"'Raw Data'!I25","v":602},{"$f":"'Raw Data'!J25","v":581},{"$f":"'Raw Data'!K25","v":1142},{"$f":"'Raw Data'!L25","v":686},803,"F"]
[524,{"$f":"'Raw Data'!H36","v":403},{"$f":"'Raw Data'!I36","v":135},{"$f":"'Raw Data'!J36","v":428},{"$f":"'Raw Data'!K36","v":354},{"$f":"'Raw Data'!L36","v":317},366.33333333333331,"F"]
[517,{"$f":"'Raw Data'!H47","v":746},{"$f":"'Raw Data'!I47","v":512},{"$f":"'Raw Data'!J47","v":580},{"$f":"'Raw Data'!K47","v":873},{"$f":"'Raw Data'!L47","v":589},680.66666666666663,"F"]
[522,{"$f":"'Raw Data'!H58","v":313},{"$f":"'Raw Data'!I58","v":545},{"$f":"'Raw Data'!J58","v":295},{"$f":"'Raw Data'!K58","v":277},{"$f":"'Raw Data'!L58","v":297},289.66666666666669,"F"]
[534,{"$f":"'Raw Data'!H69","v":190},{"$f":"'Raw Data'!I69","v":814},{"$f":"'Raw Data'!J69","v":449},{"$f":"'Raw Data'!K69","v":519},{"$f":"'Raw Data'!L69","v":540},502.66666666666669,"F"]
[528,{"$f":"'Raw Data'!H80","v":466},{"$f":"'Raw Data'!I80","v":81},{"$f":"'Raw Data'!J80","v":169},{"$f":"'Raw Data'!K80","v":227},{"$f":"'Raw Data'!L80","v":116},170.66666666666666,"F"]
[578,{"$f":"'Raw Data'!H91","v":302},{"$f":"'Raw Data'!I91","v":456},{"$f":"'Raw Data'!J91","v":561},{"$f":"'Raw Data'!K91","v":723},{"$f":"'Raw Data'!L91","v":359},547.66666666666663,"F"]
[533,{"$f":"'Raw Data'!H102","v":889},{"$f":"'Raw Data'!I102","v":731},{"$f":"'Raw Data'!J102","v":753},{"$f":"'Raw Data'!K102","v":752},{"$f":"'Raw Data'!L102","v":609},704.66666666666663,"F"]
[527,{"$f":"'Raw Data'!H113","v":1237},{"$f":"'Raw Data'!I113","v":1467},{"$f":"'Raw Data'!J113","v":1150},{"$f":"'Raw Data'!K113","v":719},{"$f":"'Raw Data'!L113","v":1427},1098.6666666666667,"F"]
[63,{"$f":"'Raw Data'!H124","v":110},{"$f":"'Raw Data'!I124","v":20},{"$f":"'Raw Data'!J124","v":633},{"$f":"'Raw Data'!K124","v":354},{"$f":"'Raw Data'!L124","v":616},534.33333333333337,"F"]
[64,{"$f":"'Raw Data'!H135","v":446},{"$f":"'Raw Data'!I135","v":109},{"$f":"'Raw Data'!J135","v":269},{"$f":"'Raw Data'!K135","v":191},{"$f":"'Raw Data'!L135","v":241},233.66666666666666,"F"]
[909,{"$f":"'Raw Data'!H146","v":389},{"$f":"'Raw Data'!I146","v":994},{"$f":"'Raw Data'!J146","v":739},{"$f":"'Raw Data'!K146","v":1491},{"$f":"'Raw Data'!L146","v":1099},1109.6666666666667,"F"]
[162,{"$f":"'Raw Data'!H157","v":97},{"$f":"'Raw Data'!I157","v":9},{"$f":"'Raw Data'!J157","v":281},{"$f":"'Raw Data'!K157","v":269},{"$f":"'Raw Data'!L157","v":369},306.33333333333331,"F"]
[294,{"$nulls":6},"F"]
[351,{"$f":"'Raw Data'!H179","v":800},{"$f":"'Raw Data'!I179","v":300},{"$f":"'Raw Data'!J179","v":603},{"$f":"'Raw Data'!K179","v":586},{"$f":"'Raw Data'!L179","v":232},473.66666666666669,"F"]
[513,{"$f":"'Raw Data'!H190","v":286},{"$f":"'Raw Data'!I190","v":532},{"$f":"'Raw Data'!J190","v":539},{"$f":"'Raw Data'!K190","v":395},{"$f":"'Raw Data'!L190","v":281},405,"M"]
[530,{"$f":"'Raw Data'!H201","v":414},{"$f":"'Raw Data'!I201","v":123},{"$f":"'Raw Data'!J201","v":228},{"$f":"'Raw Data'!K201","v":342},{"$f":"'Raw Data'!L201","v":211},260.33333333333331,"M"]
[515,{"$f":"'Raw Data'!H212","v":396},{"$f":"'Raw Data'!I212","v":258},{"$f":"'Raw Data'!J212","v":347},{"$f":"'Raw Data'!K212","v":173},{"$f":"'Raw Data'!L212","v":260},260,"M"]
[531,{"$f":"'Raw Data'!H223","v":314},{"$f":"'Raw Data'!I223","v":216},{"$f":"'Raw Data'!J223","v":390},{"$f":"'Raw Data'!K223","v":214},{"$f":"'Raw Data'!L223","v":282},295.33333333333331,"M"]
[500,{"$f":"'Raw Data'!H234","v":707},{"$f":"'Raw Data'!I234","v":369},{"$f":"'Raw Data'!J234","v":671},{"$f":"'Raw Data'!K234","v":386},{"$f":"'Raw Data'!L234","v":367},474.66666666666669,"M"]
[498,{"$f":"'Raw Data'!H245","v":2264},{"$f":"'Raw Data'!I245","v":1854},{"$f":"'Raw Data'!J245","v":663},{"$f":"'Raw Data'!K245","v":1372},{"$f":"'Raw Data'!L245","v":729},921.33333333333337,"M"]
[157,{"$f":"'Raw Data'!H256","v":2694},{"$f":"'Raw Data'!I256","v":1064},{"$f":"'Raw Data'!J256","v":1020},{"$f":"'Raw Data'!K256","v":1398},{"$f":"'Raw Data'!L256","v":1649},1355.6666666666667,"M"]
[514,{"$f":"'Raw Data'!H267","v":438},{"$f":"'Raw Data'!I267","v":715},{"$f":"'Raw Data'!J267","v":951},{"$f":"'Raw Data'!K267","v":813},{"$f":"'Raw Data'!L267","v":565},776.33333333333337,"M"]
[532,{"$f":"'Raw Data'!H278","v":807},{"$f":"'Raw Data'!I278","v":754},{"$f":"'Raw Data'!J278","v":525},{"$f":"'Raw Data'!K278","v":718},{"$f":"'Raw Data'!L278","v":471},571.33333333333337,"M"]
[516,{"$f":"'Raw Data'!H289","v":440},{"$f":"'Raw Data'!I289","v":620},{"$f":"'Raw Data'!J289","v":605},{"$f":"'Raw Data'!K289","v":501},{"$f":"'Raw Data'!L289","v":529},545,"M"]
[158,{"$f":"'Raw Data'!H300","v":1198},{"$f":"'Raw Data'!I300","v":1189},{"$f":"'Raw Data'!J300","v":1484},{"$f":"'Raw Data'!K300","v":1216},{"$f":"'Raw Data'!L300","v":1552},1417.3333333333333,"M"]
[499,{"$f":"'Raw Data'!H311","v":446},{"$f":"'Raw Data'!I311","v":63},{"$f":"'Raw Data'!J311","v":608},{"$f":"'Raw Data'!K311","v":663},{"$f":"'Raw Data'!L311","v":425},565.33333333333337,"M"]
[156,{"$f":"'Raw Data'!H322","v":317},{"$f":"'Raw Data'!I322","v":827},{"$f":"'Raw Data'!J322","v":845},{"$f":"'Raw Data'!K322","v":871},{"$f":"'Raw Data'!L322","v":840},852,"M"]
[59,{"$f":"'Raw Data'!H333","v":882},{"$f":"'Raw Data'!I333","v":601},{"$f":"'Raw Data'!J333","v":679},{"$f":"'Raw Data'!K333","v":758},{"$f":"'Raw Data'!L333","v":899},778.66666666666663,"M"]
[61,{"$f":"'Raw Data'!H344","v":368},{"$f":"'Raw Data'!I344","v":500},{"$f":"'Raw Data'!J344","v":562},{"$f":"'Raw Data'!K344","v":446},{"$f":"'Raw Data'!L344","v":310},439.33333333333331,"M"]
[62,{"$f":"'Raw Data'!H355","v":286},{"$f":"'Raw Data'!I355","v":1821},{"$f":"'Raw Data'!J355","v":974},{"$f":"'Raw Data'!K355","v":833},{"$f":"'Raw Data'!L355","v":642},816.33333333333337,"M"]
[212,{"$f":"'Raw Data'!H366","v":440},{"$f":"'Raw Data'!I366","v":15},{"$f":"'Raw Data'!J366","v":89},{"$f":"'Raw Data'!K366","v":81},{"$f":"'Raw Data'!L366","v":94},88,"M"]
[213,{"$f":"'Raw Data'!H377","v":483},{"$f":"'Raw Data'!I377","v":511},{"$f":"'Raw Data'!J377","v":968},{"$f":"'Raw Data'!K377","v":1068},{"$f":"'Raw Data'!L377","v":868},968,"M"]
[221,{"$f":"'Raw Data'!H388","v":737},{"$f":"'Raw Data'!I388","v":640},{"$f":"'Raw Data'!J388","v":594},{"$f":"'Raw Data'!K388","v":328},{"$f":"'Raw Data'!L388","v":524},482,"M"]
["BM3","OF","SHAM","T1","T2","T3","Total"]
[496,{"$f":"'Raw Data'!H4","v":442},{"$f":"'Raw Data'!I4","v":522},{"$f":"'Raw Data'!J4","v":430},{"$f":"'Raw Data'!K4","v":507},{"$f":"'Raw Data'!L4","v":473},{"$f":"AVERAGE(D76:F76)","v":470},"F"]
[529,{"$f":"'Raw Data'!H15","v":122},{"$f":"'Raw Data'!I15","v":110},{"$f":"'Raw Data'!J15","v":20},{"$f":"'Raw Data'!K15","v":156},{"$f":"'Raw Data'!L15","v":315},{"$f":"AVERAGE(D77:F77)","v":163.66666666666666},"F"]
[521,{"$f":"'Raw Data'!H26","v":251},{"$f":"'Raw Data'!I26","v":231},{"$f":"'Raw Data'!J26","v":385},{"$f":"'Raw Data'!K26","v":251},{"$f":"'Raw Data'!L26","v":368},334.66666666666669,"F"]
[524,{"$f":"'Raw Data'!H37","v":355},{"$f":"'Raw Data'!I37","v":155},{"$f":"'Raw Data'!J37","v":54},{"$f":"'Raw Data'!K37","v":225},{"$f":"'Raw Data'!L37","v":38},105.66666666666667,"F"]
[517,{"$f":"'Raw Data'!H48","v":356},{"$f":"'Raw Data'!I48","v":463},{"$f":"'Raw Data'!J48","v":380},{"$f":"'Raw Data'!K48","v":732},{"$f":"'Raw Data'!L48","v":526},546,"F"]
[522,{"$f":"'Raw Data'!H59","v":375},{"$f":"'Raw Data'!I59","v":509},{"$f":"'Raw Data'!J59","v":938},{"$f":"'Raw Data'!K59","v":1043},{"$f":"'Raw Data'!L59","v":667},882.66666666666663,"F"]
[534,{"$f":"'Raw Data'!H70","v":214},{"$f":"'Raw Data'!I70","v":112},{"$f":"'Raw Data'!J70","v":60},{"$f":"'Raw Data'!K70","v":0},{"$f":"'Raw Data'!L70","v":100},53.333333333333336,"F"]
[528,{"$f":"'Raw Data'!H81","v":302},{"$f":"'Raw Data'!I81","v":290},{"$f":"'Raw Data'!J81","v":512},{"$f":"'Raw Data'!K81","v":759},{"$f":"'Raw Data'!L81","v":768},679.66666666666663,"F"]
[578,{"$f":"'Raw Data'!H92","v":211},{"$f":"'Raw Data'!I92","v":264},{"$f":"'Raw Data'!J92","v":245},{"$f":"'Raw Data'!K92","v":445},{"$f":"'Raw Data'!L92","v":460},383.33333333333331,"F"]
[533,{"$f":"'Raw Data'!H103","v":170},{"$f":"'Raw Data'!I103","v":188},{"$f":"'Raw Data'!J103","v":200},{"$f":"'Raw Data'!K103","v":291},{"$f":"'Raw Data'!L103","v":334},275,"F"]
[527,{"$f":"'Raw Data'!H114","v":119},{"$f":"'Raw Data'!I114","v":225},{"$f":"'Raw Data'!J114","v":25},{"$f":"'Raw Data'!K114","v":183},{"$f":"'Raw Data'!L114","v":183},130.33333333333334,"F"]
[63,{"$f":"'Raw Data'!H125","v":575},{"$f":"'Raw Data'!I125","v":141},{"$f":"'Raw Data'!J125","v":83},{"$f":"'Raw Data'!K125","v":488},{"$f":"'Raw Data'!L125","v":349},306.66666666666669,"F"]
[64,{"$f":"'Raw Data'!H136","v":270},{"$f":"'Raw Data'!I136","v":83},{"$f":"'Raw Data'!J136","v":118},{"$f":"'Raw Data'!K136","v":403},{"$f":"'Raw Data'!L136","v":285},268.66666666666669,"F"]
[909,{"$f":"'Raw Data'!H147","v":423},{"$f":"'Raw Data'!I147","v":70},{"$f":"'Raw Data'!J147","v":134},{"$f":"'Raw Data'!K147","v":198},{"$f":"'Raw Data'!L147","v":109},147,"F"]
[162,{"$f":"'Raw Data'!H158","v":589},{"$f":"'Raw Data'!I158","v":9},{"$f":"'Raw Data'!J158","v":214},{"$f":"'Raw Data'!K158","v":31},{"$f":"'Raw Data'!L158","v":80},108.33333333333333,"F"]
[294,{"$f":"'Raw Data'!H169","v":324},{"$f":"'Raw Data'!I169","v":322},{"$f":"'Raw Data'!J169","v":323},{"$f":"'Raw Data'!K169","v":293},{"$f":"'Raw Data'!L169","v":522},379.33333333333331,"F"]
[351,{"$f":"'Raw Data'!H180","v":290},{"$f":"'Raw Data'!I180","v":273},{"$f":"'Raw Data'!J180","v":245},{"$f":"'Raw Data'!K180","v":282},{"$f":"'Raw Data'!L180","v":448},325,"F"]
[513,{"$f":"'Raw Data'!H191","v":177},{"$f":"'Raw Data'!I191","v":416},{"$f":"'Raw Data'!J191","v":339},{"$f":"'Raw Data'!K191","v":757},{"$f":"'Raw Data'!L191","v":508},534.66666666666663,"M"]
[530,{"$f":"'Raw Data'!H202","v":571},{"$f":"'Raw Data'!I202","v":213},{"$f":"'Raw Data'!J202","v":75},{"$f":"'Raw Data'!K202","v":247},{"$f":"'Raw Data'!L202","v":255},192.33333333333334,"M"]
[515,{"$f":"'Raw Data'!H213","v":164},{"$f":"'Raw Data'!I213","v":110},{"$f":"'Raw Data'!J213","v":477},{"$f":"'Raw Data'!K213","v":410},{"$f":"'Raw Data'!L213","v":483},456.66666666666669,"M"]
[531,{"$f":"'Raw Data'!H224","v":181},{"$f":"'Raw Data'!I224","v":161},{"$f":"'Raw Data'!J224","v":379},{"$f":"'Raw Data'!K224","v":444},{"$f":"'Raw Data'!L224","v":360},394.33333333333331,"M"]
[500,{"$f":"'Raw Data'!H235","v":142},{"$f":"'Raw Data'!I235","v":217},{"$f":"'Raw Data'!J235","v":255},{"$f":"'Raw Data'!K235","v":526},{"$f":"'Raw Data'!L235","v":519},433.33333333333331,"M"]
[498,{"$f":"'Raw Data'!H246","v":291},{"$f":"'Raw Data'!I246","v":108},{"$f":"'Raw Data'!J246","v":87},{"$f":"'Raw Data'!K246","v":114},{"$f":"'Raw Data'!L246","v":444},215,"M"]
[157,{"$f":"'Raw Data'!H257","v":242},{"$f":"'Raw Data'!I257","v":186},{"$f":"'Raw Data'!J257","v":106},{"$f":"'Raw Data'!K257","v":133},{"$f":"'Raw Data'!L257","v":233},157.33333333333334,"M"]
[514,{"$f":"'Raw Data'!H268","v":179},{"$f":"'Raw Data'!I268","v":222},{"$f":"'Raw Data'!J268","v":231},{"$f":"'Raw Data'!K268","v":160},{"$f":"'Raw Data'!L268","v":107},166,"M"]
[532,{"$f":"'Raw Data'!H279","v":309},{"$f":"'Raw Data'!I279","v":332},{"$f":"'Raw Data'!J279","v":296},{"$f":"'Raw Data'!K279","v":221},{"$f":"'Raw Data'!L279","v":411},309.33333333333331,"M"]
[516,{"$f":"'Raw Data'!H290","v":414},{"$f":"'Raw Data'!I290","v":341},{"$f":"'Raw Data'!J290","v":203},{"$f":"'Raw Data'!K290","v":315},{"$f":"'Raw Data'!L290","v":308},275.33333333333331,"M"]
[158,{"$f":"'Raw Data'!H301","v":600},{"$f":"'Raw Data'!I301","v":330},{"$f":"'Raw Data'!J301","v":346},{"$f":"'Raw Data'!K301","v":418},{"$f":"'Raw Data'!L301","v":482},415.33333333333331,"M"]
[499,{"$f":"'Raw Data'!H312","v":405},{"$f":"'Raw Data'!I312","v":224},{"$f":"'Raw Data'!J312","v":180},{"$f":"'Raw Data'!K312","v":277},{"$f":"'Raw Data'!L312","v":287},248,"M"]
[156,{"$f":"'Raw Data'!H323","v":368},{"$f":"'Raw Data'!I323","v":56},{"$f":"'Raw Data'!J323","v":24},{"$f":"'Raw Data'!K323","v":94},{"$f":"'Raw Data'!L323","v":231},116.33333333333333,"M"]
[59,{"$f":"'Raw Data'!H334","v":315},{"$f":"'Raw Data'!I334","v":171},{"$f":"'Raw Data'!J334","v":349},{"$f":"'Raw Data'!K334","v":334},{"$f":"'Raw Data'!L334","v":316},333,"M"]
[61,{"$f":"'Raw Data'!H345","v":389},{"$f":"'Raw Data'!I345","v":242},{"$f":"'Raw Data'!J345","v":469},{"$f":"'Raw Data'!K345","v":560},{"$f":"'Raw Data'!L345","v":663},564,"M"]
[62,{"$f":"'Raw Data'!H356","v":158},{"$f":"'Raw Data'!I356","v":394},{"$f":"'Raw Data'!J356","v":238},{"$f":"'Raw Data'!K356","v":551},{"$f":"'Raw Data'!L356","v":441},410,"M"]
[212,{"$f":"'Raw Data'!H367","v":431},{"$f":"'Raw Data'!I367","v":200},{"$f":"'Raw Data'!J367","v":191},{"$f":"'Raw Data'!K367","v":693},{"$f":"'Raw Data'!L367","v":459},447.66666666666669,"M"]
[213,{"$f":"'Raw Data'!H378","v":397},{"$f":"'Raw Data'!I378","v":129},{"$f":"'Raw Data'!J378","v":17},{"$f":"'Raw Data'!K378","v":258},{"$f":"'Raw Data'!L378","v":234},169.66666666666666,"M"]
[221,{"$f":"'Raw Data'!H389","v":168},{"$f":"'Raw Data'!I389","v":231},{"$f":"'Raw Data'!J389","v":367},{"$f":"'Raw Data'!K389","v":422},{"$f":"'Raw Data'!L389","v":424},404.33333333333331,"M"]
["BM4","OF","SHAM","T1","T2","T3","Total"]
[496,{"$nulls":6},"F"]
[529,{"$nulls":6},"F"]
[521,{"$nulls":6},"F"]
[524,{"$nulls":6},"F"]
[517,{"$nulls":6},"F"]
[522,{"$nulls":6},"F"]
[534,{"$nulls":6},"F"]
[528,{"$nulls":6},"F"]
[578,{"$nulls":6},"F"]
[533,{"$nulls":6},"F"]
[527,{"$nulls":6},"F"]
[]
[]
[]
[]
[]
[]
[513,{"$nulls":6},"M"]
[530,{"$nulls":6},"M"]
[515,{"$nulls":6},"M"]
[531,{"$nulls":6},"M"]
[500,{"$nulls":6},"M"]
[498,{"$nulls":6},"M"]
[157,{"$nulls":6},"M"]
[514,{"$nulls":6},"M"]
[532,{"$nulls":6},"M"]
[516,{"$nulls":6},"M"]
[158,{"$nulls":6},"M"]
[499,{"$nulls":6},"M"]
[156,{"$nulls":6},"M"]
[]
[]
[]
[]
[]
[]
["BM5","OF","SHAM","T1","T2","T3","Total"]
[496,{"$f":"'Raw Data'!H6","v":1046},{"$f":"'Raw Data'!I6","v":552},{"$f":"'Raw Data'!J6","v":711},{"$f":"'Raw Data'!K6","v":760},{"$f":"'Raw Data'!L6","v":904},{"$f":"AVERAGE(D150:F150)","v":791.66666666666663},"F"]
[529,{"$f":"'Raw Data'!H17","v":425},{"$f":"'Raw Data'!I17","v":19},{"$f":"'Raw Data'!J17","v":303},{"$f":"'Raw Data'!K17","v":105},{"$f":"'Raw Data'!L17","v":205},{"$f":"AVERAGE(D151:F151)","v":204.33333333333334},"F"]
[521,{"$f":"'Raw Data'!H28","v":940},{"$f":"'Raw Data'!I28","v":612},{"$f":"'Raw Data'!J28","v":554},{"$f":"'Raw Data'!K28","v":436},{"$f":"'Raw Data'!L28","v":563},517.66666666666663,"F"]
[524,{"$f":"'Raw Data'!H39","v":536},{"$f":"'Raw Data'!I39","v":641},{"$f":"'Raw Data'!J39","v":1078},{"$f":"'Raw Data'!K39","v":932},{"$f":"'Raw Data'!L39","v":1212},1074,"F"]
[517,{"$f":"'Raw Data'!H50","v":491},{"$f":"'Raw Data'!I50","v":310},{"$f":"'Raw Data'!J50","v":380},{"$f":"'Raw Data'!K50","v":121},{"$f":"'Raw Data'!L50","v":331},277.33333333333331,"F"]
[522,{"$f":"'Raw Data'!H61","v":773},{"$f":"'Raw Data'!I61","v":321},{"$f":"'Raw Data'!J61","v":394},{"$f":"'Raw Data'!K61","v":311},{"$f":"'Raw Data'!L61","v":361},355.33333333333331,"F"]
[534,{"$f":"'Raw Data'!H72","v":1497},{"$f":"'Raw Data'!I72","v":748},{"$f":"'Raw Data'!J72","v":1477},{"$f":"'Raw Data'!K72","v":1526},{"$f":"'Raw Data'!L72","v":960},1321,"F"]
[528,{"$f":"'Raw Data'!H83","v":200},{"$f":"'Raw Data'!I83","v":394},{"$f":"'Raw Data'!J83","v":321},{"$f":"'Raw Data'!K83","v":157},{"$f":"'Raw Data'!L83","v":347},275,"F"]
[578,{"$f":"'Raw Data'!H94","v":1666},{"$f":"'Raw Data'!I94","v":1037},{"$f":"'Raw Data'!J94","v":961},{"$f":"'Raw Data'!K94","v":493},{"$f":"'Raw Data'!L94","v":848},767.33333333333337,"F"]
[533,{"$f":"'Raw Data'!H105","v":1104},{"$f":"'Raw Data'!I105","v":1090},{"$f":"'Raw Data'!J105","v":1063},{"$f":"'Raw Data'!K105","v":865},{"$f":"'Raw Data'!L105","v":938},955.33333333333337,"F"]
[527,{"$f":"'Raw Data'!H116","v":294},{"$f":"'Raw Data'!I116","v":89},{"$f":"'Raw Data'!J116","v":319},{"$f":"'Raw Data'!K116","v":218},{"$f":"'Raw Data'!L116","v":129},222,"F"]
[63,{"$f":"'Raw Data'!H127","v":284},{"$f":"'Raw Data'!I127","v":149},{"$f":"'Raw Data'!J127","v":181},{"$f":"'Raw Data'!K127","v":286},{"$f":"'Raw Data'!L127","v":164},210.33333333333334,"F"]
[64,{"$f":"'Raw Data'!H138","v":758},{"$f":"'Raw Data'!I138","v":585},{"$f":"'Raw Data'!J138","v":870},{"$f":"'Raw Data'!K138","v":656},{"$f":"'Raw Data'!L138","v":542},689.33333333333337,"F"]
[909,{"$f":"'Raw Data'!H149","v":70},{"$f":"'Raw Data'!I149","v":118},{"$f":"'Raw Data'!J149","v":363},{"$f":"'Raw Data'!K149","v":35},{"$f":"'Raw Data'!L149","v":293},230.33333333333334,"F"]
[162,{"$f":"'Raw Data'!H160","v":253},{"$f":"'Raw Data'!I160","v":211},{"$f":"'Raw Data'!J160","v":933},{"$f":"'Raw Data'!K160","v":757},{"$f":"'Raw Data'!L160","v":835},841.66666666666663,"F"]
[294,{"$f":"'Raw Data'!H171","v":434},{"$f":"'Raw Data'!I171","v":620},{"$f":"'Raw Data'!J171","v":629},{"$f":"'Raw Data'!K171","v":483},{"$f":"'Raw Data'!L171","v":528},546.66666666666663,"F"]
[351,{"$f":"'Raw Data'!H182","v":437},{"$f":"'Raw Data'!I182","v":550},{"$f":"'Raw Data'!J182","v":446},{"$f":"'Raw Data'!K182","v":471},{"$f":"'Raw Data'!L182","v":275},397.33333333333331,"F"]
[513,{"$f":"'Raw Data'!H193","v":1167},{"$f":"'Raw Data'!I193","v":536},{"$f":"'Raw Data'!J193","v":977},{"$f":"'Raw Data'!K193","v":333},{"$f":"'Raw Data'!L193","v":604},638,"M"]
[530,{"$f":"'Raw Data'!H204","v":593},{"$f":"'Raw Data'!I204","v":1635},{"$f":"'Raw Data'!J204","v":1857},{"$f":"'Raw Data'!K204","v":1116},{"$f":"'Raw Data'!L204","v":1596},1523,"M"]
[515,{"$f":"'Raw Data'!H215","v":749},{"$f":"'Raw Data'!I215","v":701},{"$f":"'Raw Data'!J215","v":681},{"$f":"'Raw Data'!K215","v":768},{"$f":"'Raw Data'!L215","v":570},673,"M"]
[531,{"$f":"'Raw Data'!H226","v":1940},{"$f":"'Raw Data'!I226","v":1376},{"$f":"'Raw Data'!J226","v":1069},{"$f":"'Raw Data'!K226","v":1458},{"$f":"'Raw Data'!L226","v":948},1158.3333333333333,"M"]
[500,{"$f":"'Raw Data'!H237","v":578},{"$f":"'Raw Data'!I237","v":313},{"$f":"'Raw Data'!J237","v":574},{"$f":"'Raw Data'!K237","v":354},{"$f":"'Raw Data'!L237","v":378},435.33333333333331,"M"]
[498,{"$f":"'Raw Data'!H248","v":227},{"$f":"'Raw Data'!I248","v":68},{"$f":"'Raw Data'!J248","v":1119},{"$f":"'Raw Data'!K248","v":462},{"$f":"'Raw Data'!L248","v":211},597.33333333333337,"M"]
[157,{"$f":"'Raw Data'!H259","v":230},{"$f":"'Raw Data'!I259","v":233},{"$f":"'Raw Data'!J259","v":681},{"$f":"'Raw Data'!K259","v":361},{"$f":"'Raw Data'!L259","v":250},430.66666666666669,"M"]
[514,{"$f":"'Raw Data'!H270","v":960},{"$f":"'Raw Data'!I270","v":454},{"$f":"'Raw Data'!J270","v":650},{"$f":"'Raw Data'!K270","v":789},{"$f":"'Raw Data'!L270","v":822},753.66666666666663,"M"]
[532,{"$f":"'Raw Data'!H281","v":326},{"$f":"'Raw Data'!I281","v":311},{"$f":"'Raw Data'!J281","v":617},{"$f":"'Raw Data'!K281","v":365},{"$f":"'Raw Data'!L281","v":660},547.33333333333337,"M"]
[516,{"$f":"'Raw Data'!H292","v":431},{"$f":"'Raw Data'!I292","v":498},{"$f":"'Raw Data'!J292","v":774},{"$f":"'Raw Data'!K292","v":700},{"$f":"'Raw Data'!L292","v":753},742.33333333333337,"M"]
[158,{"$f":"'Raw Data'!H303","v":307},{"$f":"'Raw Data'!I303","v":315},{"$f":"'Raw Data'!J303","v":635},{"$f":"'Raw Data'!K303","v":640},{"$f":"'Raw Data'!L303","v":267},514,"M"]
[499,{"$f":"'Raw Data'!H314","v":860},{"$f":"'Raw Data'!I314","v":865},{"$f":"'Raw Data'!J314","v":998},{"$f":"'Raw Data'!K314","v":787},{"$f":"'Raw Data'!L314","v":884},889.66666666666663,"M"]
[156,{"$f":"'Raw Data'!H325","v":247},{"$f":"'Raw Data'!I325","v":272},{"$f":"'Raw Data'!J325","v":533},{"$f":"'Raw Data'!K325","v":377},{"$f":"'Raw Data'!L325","v":120},343.33333333333331,"M"]
[59,{"$f":"'Raw Data'!H336","v":397},{"$f":"'Raw Data'!I336","v":413},{"$f":"'Raw Data'!J336","v":398},{"$f":"'Raw Data'!K336","v":330},{"$f":"'Raw Data'!L336","v":239},322.33333333333331,"M"]
[61,{"$f":"'Raw Data'!H347","v":567},{"$f":"'Raw Data'!I347","v":367},{"$f":"'Raw Data'!J347","v":462},{"$f":"'Raw Data'!K347","v":276},{"$f":"'Raw Data'!L347","v":137},291.66666666666669,"M"]
[62,{"$f":"'Raw Data'!H358","v":1777},{"$f":"'Raw Data'!I358","v":293},{"$f":"'Raw Data'!J358","v":635},{"$f":"'Raw Data'!K358","v":710},{"$f":"'Raw Data'!L358","v":710},685,"M"]
[212,{"$f":"'Raw Data'!H369","v":406},{"$f":"'Raw Data'!I369","v":1036},{"$f":"'Raw Data'!J369","v":888},{"$f":"'Raw Data'!K369","v":726},{"$f":"'Raw Data'!L369","v":1032},882,"M"]
[213,{"$f":"'Raw Data'!H380","v":203},{"$f":"'Raw Data'!I380","v":557},{"$f":"'Raw Data'!J380","v":542},{"$f":"'Raw Data'!K380","v":257},{"$f":"'Raw Data'!L380","v":217},338.66666666666669,"M"]
[221,{"$f":"'Raw Data'!H391","v":337},{"$f":"'Raw Data'!I391","v":479},{"$f":"'Raw Data'!J391","v":480},{"$f":"'Raw Data'!K391","v":444},{"$f":"'Raw Data'!L391","v":472},465.33333333333331,"M"]
["BM6","OF","SHAM","T1","T2","T3","Total"]
[496,{"$nulls":6},"F"]
[529,{"$f":"'Raw Data'!H18","v":1241},{"$f":"'Raw Data'!I18","v":573},{"$f":"'Raw Data'!J18","v":737},{"$f":"'Raw Data'!K18","v":1154},{"$f":"'Raw Data'!L18","v":1245},{"$f":"AVERAGE(D188:F188)","v":1045.3333333333333},"F"]
[521,{"$f":"'Raw Data'!H29","v":454},{"$f":"'Raw Data'!I29","v":740},{"$f":"'Raw Data'!J29","v":714},{"$f":"'Raw Data'!K29","v":758},{"$f":"'Raw Data'!L29","v":962},811.33333333333337,"F"]
[524,{"$f":"'Raw Data'!H40","v":736},{"$f":"'Raw Data'!I40","v":1181},{"$f":"'Raw Data'!J40","v":785},{"$f":"'Raw Data'!K40","v":882},{"$f":"'Raw Data'!L40","v":629},765.33333333333337,"F"]
[517,{"$f":"'Raw Data'!H51","v":497},{"$f":"'Raw Data'!I51","v":575},{"$f":"'Raw Data'!J51","v":961},{"$f":"'Raw Data'!K51","v":719},{"$f":"'Raw Data'!L51","v":628},769.33333333333337,"F"]
[522,{"$nulls":6},"F"]
[534,{"$f":"'Raw Data'!H73","v":799},{"$f":"'Raw Data'!I73","v":901},{"$f":"'Raw Data'!J73","v":870},{"$f":"'Raw Data'!K73","v":606},{"$f":"'Raw Data'!L73","v":1105},860.33333333333337,"F"]
[528,{"$f":"'Raw Data'!H84","v":1421},{"$f":"'Raw Data'!I84","v":972},{"$f":"'Raw Data'!J84","v":1254},{"$f":"'Raw Data'!K84","v":1341},{"$f":"'Raw Data'!L84","v":1349},1314.6666666666667,"F"]
[578,{"$f":"'Raw Data'!H95","v":650},{"$f":"'Raw Data'!I95","v":631},{"$f":"'Raw Data'!J95","v":687},{"$f":"'Raw Data'!K95","v":752},{"$f":"'Raw Data'!L95","v":1024},821,"F"]
[533,{"$f":"'Raw Data'!H106","v":409},{"$f":"'Raw Data'!I106","v":614},{"$f":"'Raw Data'!J106","v":748},{"$f":"'Raw Data'!K106","v":872},{"$f":"'Raw Data'!L106","v":725},781.66666666666663,"F"]
[527,{"$f":"'Raw Data'!H117","v":283},{"$f":"'Raw Data'!I117","v":348},{"$f":"'Raw Data'!J117","v":355},{"$f":"'Raw Data'!K117","v":353},{"$f":"'Raw Data'!L117","v":377},361.66666666666669,"F"]
[63,{"$f":"'Raw Data'!H128","v":914},{"$f":"'Raw Data'!I128","v":442},{"$f":"'Raw Data'!J128","v":901},{"$f":"'Raw Data'!K128","v":678},{"$f":"'Raw Data'!L128","v":806},795,"F"]
[64,{"$f":"'Raw Data'!H139","v":651},{"$f":"'Raw Data'!I139","v":417},{"$f":"'Raw Data'!J139","v":477},{"$f":"'Raw Data'!K139","v":753},{"$f":"'Raw Data'!L139","v":678},636,"F"]
[909,{"$f":"'Raw Data'!H150","v":1014},{"$f":"'Raw Data'!I150","v":488},{"$f":"'Raw Data'!J150","v":398},{"$f":"'Raw Data'!K150","v":777},{"$f":"'Raw Data'!L150","v":678},617.66666666666663,"F"]
[162,{"$f":"'Raw Data'!H161","v":754},{"$f":"'Raw Data'!I161","v":985},{"$f":"'Raw Data'!J161","v":453},{"$f":"'Raw Data'!K161","v":680},{"$f":"'Raw Data'!L161","v":606},579.66666666666663,"F"]
[294,{"$f":"'Raw Data'!H172","v":1047},{"$f":"'Raw Data'!I172","v":661},{"$f":"'Raw Data'!J172","v":788},{"$f":"'Raw Data'!K172","v":847},{"$f":"'Raw Data'!L172","v":817},817.33333333333337,"F"]
[351,{"$f":"'Raw Data'!H183","v":995},{"$f":"'Raw Data'!I183","v":897},{"$f":"'Raw Data'!J183","v":874},{"$f":"'Raw Data'!K183","v":900},{"$f":"'Raw Data'!L183","v":1069},947.66666666666663,"F"]
[513,{"$f":"'Raw Data'!H194","v":369},{"$f":"'Raw Data'!I194","v":465},{"$f":"'Raw Data'!J194","v":422},{"$f":"'Raw Data'!K194","v":659},{"$f":"'Raw Data'!L194","v":320},467,"M"]
[530,{"$f":"'Raw Data'!H205","v":785},{"$f":"'Raw Data'!I205","v":718},{"$f":"'Raw Data'!J205","v":820},{"$f":"'Raw Data'!K205","v":912},{"$f":"'Raw Data'!L205","v":757},829.66666666666663,"M"]
[515,{"$f":"'Raw Data'!H216","v":533},{"$f":"'Raw Data'!I216","v":294},{"$f":"'Raw Data'!J216","v":636},{"$f":"'Raw Data'!K216","v":771},{"$f":"'Raw Data'!L216","v":712},706.33333333333337,"M"]
[531,{"$f":"'Raw Data'!H227","v":252},{"$f":"'Raw Data'!I227","v":352},{"$f":"'Raw Data'!J227","v":484},{"$f":"'Raw Data'!K227","v":484},{"$f":"'Raw Data'!L227","v":601},523,"M"]
[500,{"$f":"'Raw Data'!H238","v":926},{"$f":"'Raw Data'!I238","v":997},{"$f":"'Raw Data'!J238","v":530},{"$f":"'Raw Data'!K238","v":773},{"$f":"'Raw Data'!L238","v":982},761.66666666666663,"M"]
[498,{"$f":"'Raw Data'!H249","v":764},{"$f":"'Raw Data'!I249","v":710},{"$f":"'Raw Data'!J249","v":526},{"$f":"'Raw Data'!K249","v":609},{"$f":"'Raw Data'!L249","v":892},675.66666666666663,"M"]
[157,{"$f":"'Raw Data'!H260","v":97},{"$f":"'Raw Data'!I260","v":250},{"$f":"'Raw Data'!J260","v":508},{"$f":"'Raw Data'!K260","v":350},{"$f":"'Raw Data'!L260","v":554},470.66666666666669,"M"]
[514,{"$f":"'Raw Data'!H271","v":441},{"$f":"'Raw Data'!I271","v":557},{"$f":"'Raw Data'!J271","v":722},{"$f":"'Raw Data'!K271","v":497},{"$f":"'Raw Data'!L271","v":498},572.33333333333337,"M"]
[532,{"$f":"'Raw Data'!H282","v":690},{"$f":"'Raw Data'!I282","v":309},{"$f":"'Raw Data'!J282","v":613},{"$f":"'Raw Data'!K282","v":679},{"$f":"'Raw Data'!L282","v":538},610,"M"]
[516,{"$f":"'Raw Data'!H293","v":322},{"$f":"'Raw Data'!I293","v":523},{"$f":"'Raw Data'!J293","v":600},{"$f":"'Raw Data'!K293","v":628},{"$f":"'Raw Data'!L293","v":496},574.66666666666663,"M"]
[158,{"$f":"'Raw Data'!H304","v":135},{"$f":"'Raw Data'!I304","v":301},{"$f":"'Raw Data'!J304","v":393},{"$f":"'Raw Data'!K304","v":397},{"$f":"'Raw Data'!L304","v":334},374.66666666666669,"M"]
[499,{"$f":"'Raw Data'!H315","v":352},{"$f":"'Raw Data'!I315","v":599},{"$f":"'Raw Data'!J315","v":599},{"$f":"'Raw Data'!K315","v":565},{"$f":"'Raw Data'!L315","v":547},570.33333333333337,"M"]
[156,{"$f":"'Raw Data'!H326","v":592},{"$f":"'Raw Data'!I326","v":530},{"$f":"'Raw Data'!J326","v":479},{"$f":"'Raw Data'!K326","v":563},{"$f":"'Raw Data'!L326","v":548},{"$f":"AVERAGE(D216:F216)","v":530},"M"]
[59,{"$f":"'Raw Data'!H337","v":677},{"$f":"'Raw Data'!I337","v":674},{"$f":"'Raw Data'!J337","v":731},{"$f":"'Raw Data'!K337","v":868},{"$f":"'Raw Data'!L337","v":808},802.33333333333337,"M"]
[61,{"$f":"'Raw Data'!H348","v":584},{"$f":"'Raw Data'!I348","v":676},{"$f":"'Raw Data'!J348","v":510},{"$f":"'Raw Data'!K348","v":459},{"$f":"'Raw Data'!L348","v":485},484.66666666666669,"M"]
[62,{"$f":"'Raw Data'!H359","v":485},{"$f":"'Raw Data'!I359","v":201},{"$f":"'Raw Data'!J359","v":357},{"$f":"'Raw Data'!K359","v":407},{"$f":"'Raw Data'!L359","v":490},418,"M"]
[212,{"$f":"'Raw Data'!H370","v":547},{"$f":"'Raw Data'!I370","v":533},{"$f":"'Raw Data'!J370","v":654},{"$f":"'Raw Data'!K370","v":745},{"$f":"'Raw Data'!L370","v":598},665.66666666666663,"M"]
[213,{"$f":"'Raw Data'!H381","v":493},{"$f":"'Raw Data'!I381","v":504},{"$f":"'Raw Data'!J381","v":317},{"$f":"'Raw Data'!K381","v":763},{"$f":"'Raw Data'!L381","v":626},568.66666666666663,"M"]
[221,{"$f":"'Raw Data'!H392","v":727},{"$f":"'Raw Data'!I392","v":725},{"$f":"'Raw Data'!J392","v":1060},{"$f":"'Raw Data'!K392","v":717},{"$f":"'Raw Data'!L392","v":928},901.66666666666663,"M"]
["BM7","OF","SHAM","T1","T2","T3","Total"]
[496,{"$f":"'Raw Data'!H8","v":391},{"$f":"'Raw Data'!I8","v":649},{"$f":"'Raw Data'!J8","v":462},{"$f":"'Raw Data'!K8","v":669},{"$f":"'Raw Data'!L8","v":676},{"$f":"AVERAGE(D224:F224)","v":602.33333333333337},"F"]
[529,{"$f":"'Raw Data'!H19","v":140},{"$f":"'Raw Data'!I19","v":49},{"$f":"'Raw Data'!J19","v":9},{"$f":"'Raw Data'!K19","v":92},{"$f":"'Raw Data'!L19","v":84},{"$f":"AVERAGE(D225:F225)","v":61.666666666666664},"F"]
[521,{"$f":"'Raw Data'!H30","v":107},{"$f":"'Raw Data'!I30","v":161},{"$f":"'Raw Data'!J30","v":180},{"$f":"'Raw Data'!K30","v":117},{"$f":"'Raw Data'!L30","v":50},115.66666666666667,"F"]
[524,{"$nulls":6},"F"]
[517,{"$f":"'Raw Data'!H52","v":235},{"$f":"'Raw Data'!I52","v":251},{"$f":"'Raw Data'!J52","v":69},{"$f":"'Raw Data'!K52","v":196},{"$f":"'Raw Data'!L52","v":160},141.66666666666666,"F"]
[522,{"$f":"'Raw Data'!H63","v":609},{"$f":"'Raw Data'!I63","v":646},{"$f":"'Raw Data'!J63","v":688},{"$f":"'Raw Data'!K63","v":985},{"$f":"'Raw Data'!L63","v":959},877.33333333333337,"F"]
[534,{"$f":"'Raw Data'!H74","v":663},{"$f":"'Raw Data'!I74","v":257},{"$f":"'Raw Data'!J74","v":25},{"$f":"'Raw Data'!K74","v":0},{"$f":"'Raw Data'!L74","v":169},64.666666666666671,"F"]
[528,{"$f":"'Raw Data'!H85","v":266},{"$f":"'Raw Data'!I85","v":262},{"$f":"'Raw Data'!J85","v":172},{"$f":"'Raw Data'!K85","v":309},{"$f":"'Raw Data'!L85","v":228},236.33333333333334,"F"]
[578,{"$f":"'Raw Data'!H96","v":293},{"$f":"'Raw Data'!I96","v":277},{"$f":"'Raw Data'!J96","v":320},{"$f":"'Raw Data'!K96","v":566},{"$f":"'Raw Data'!L96","v":325},403.66666666666669,"F"]
[533,{"$f":"'Raw Data'!H107","v":161},{"$f":"'Raw Data'!I107","v":105},{"$f":"'Raw Data'!J107","v":241},{"$f":"'Raw Data'!K107","v":213},{"$f":"'Raw Data'!L107","v":221},225,"F"]
[527,{"$f":"'Raw Data'!H118","v":214},{"$f":"'Raw Data'!I118","v":158},{"$f":"'Raw Data'!J118","v":13},{"$f":"'Raw Data'!K118","v":223},{"$f":"'Raw Data'!L118","v":142},126,"F"]
[63,{"$f":"'Raw Data'!H129","v":186},{"$f":"'Raw Data'!I129","v":9},{"$f":"'Raw Data'!J129","v":35},{"$f":"'Raw Data'!K129","v":329},{"$f":"'Raw Data'!L129","v":115},159.66666666666666,"F"]
[64,{"$f":"'Raw Data'!H140","v":360},{"$f":"'Raw Data'!I140","v":33},{"$f":"'Raw Data'!J140","v":66},{"$f":"'Raw Data'!K140","v":162},{"$f":"'Raw Data'!L140","v":286},171.33333333333334,"F"]
[909,{"$f":"'Raw Data'!H151","v":496},{"$f":"'Raw Data'!I151","v":79},{"$f":"'Raw Data'!J151","v":61},{"$f":"'Raw Data'!K151","v":166},{"$f":"'Raw Data'!L151","v":58},95,"F"]
[162,{"$nulls":6},"F"]
[294,{"$f":"'Raw Data'!H173","v":335},{"$f":"'Raw Data'!I173","v":410},{"$f":"'Raw Data'!J173","v":208},{"$f":"'Raw Data'!K173","v":355},{"$f":"'Raw Data'!L173","v":396},319.66666666666669,"F"]
[351,{"$f":"'Raw Data'!H184","v":201},{"$f":"'Raw Data'!I184","v":36},{"$f":"'Raw Data'!J184","v":44},{"$f":"'Raw Data'!K184","v":174},{"$f":"'Raw Data'!L184","v":260},159.33333333333334,"F"]
[513,{"$f":"'Raw Data'!H195","v":257},{"$f":"'Raw Data'!I195","v":567},{"$f":"'Raw Data'!J195","v":308},{"$f":"'Raw Data'!K195","v":734},{"$f":"'Raw Data'!L195","v":565},535.66666666666663,"M"]
[530,{"$f":"'Raw Data'!H206","v":252},{"$f":"'Raw Data'!I206","v":310},{"$f":"'Raw Data'!J206","v":93},{"$f":"'Raw Data'!K206","v":248},{"$f":"'Raw Data'!L206","v":191},177.33333333333334,"M"]
[515,{"$f":"'Raw Data'!H217","v":181},{"$f":"'Raw Data'!I217","v":132},{"$f":"'Raw Data'!J217","v":64},{"$f":"'Raw Data'!K217","v":115},{"$f":"'Raw Data'!L217","v":145},108,"M"]
[531,{"$f":"'Raw Data'!H228","v":122},{"$f":"'Raw Data'!I228","v":233},{"$f":"'Raw Data'!J228","v":282},{"$f":"'Raw Data'!K228","v":304},{"$f":"'Raw Data'!L228","v":502},362.66666666666669,"M"]
[500,{"$f":"'Raw Data'!H239","v":155},{"$f":"'Raw Data'!I239","v":37},{"$f":"'Raw Data'!J239","v":193},{"$f":"'Raw Data'!K239","v":333},{"$f":"'Raw Data'!L239","v":377},301,"M"]
[498,{"$f":"'Raw Data'!H250","v":142},{"$f":"'Raw Data'!I250","v":20},{"$f":"'Raw Data'!J250","v":12},{"$f":"'Raw Data'!K250","v":41},{"$f":"'Raw Data'!L250","v":153},68.666666666666671,"M"]
[157,{"$f":"'Raw Data'!H261","v":56},{"$f":"'Raw Data'!I261","v":29},{"$f":"'Raw Data'!J261","v":58},{"$f":"'Raw Data'!K261","v":12},{"$f":"'Raw Data'!L261","v":62},44,"M"]
[514,{"$nulls":6},"M"]
[532,{"$f":"'Raw Data'!H283","v":161},{"$f":"'Raw Data'!I283","v":237},{"$f":"'Raw Data'!J283","v":144},{"$f":"'Raw Data'!K283","v":66},{"$f":"'Raw Data'!L283","v":68},92.666666666666671,"M"]
[516,{"$f":"'Raw Data'!H294","v":581},{"$f":"'Raw Data'!I294","v":305},{"$f":"'Raw Data'!J294","v":210},{"$f":"'Raw Data'!K294","v":336},{"$f":"'Raw Data'!L294","v":414},320,"M"]
[158,{"$f":"'Raw Data'!H305","v":634},{"$f":"'Raw Data'!I305","v":93},{"$f":"'Raw Data'!J305","v":136},{"$f":"'Raw Data'!K305","v":169},{"$f":"'Raw Data'!L305","v":265},190,"M"]
[499,{"$f":"'Raw Data'!H316","v":406},{"$f":"'Raw Data'!I316","v":93},{"$f":"'Raw Data'!J316","v":102},{"$f":"'Raw Data'!K316","v":140},{"$f":"'Raw Data'!L316","v":225},155.66666666666666,"M"]
[156,{"$f":"'Raw Data'!H327","v":190},{"$f":"'Raw Data'!I327","v":28},{"$f":"'Raw Data'!J327","v":18},{"$f":"'Raw Data'!K327","v":63},{"$f":"'Raw Data'!L327","v":154},78.333333333333329,"M"]
[59,{"$f":"'Raw Data'!H338","v":236},{"$f":"'Raw Data'!I338","v":119},{"$f":"'Raw Data'!J338","v":252},{"$f":"'Raw Data'!K338","v":130},{"$f":"'Raw Data'!L338","v":190},190.66666666666666,"M"]
[61,{"$f":"'Raw Data'!H349","v":392},{"$f":"'Raw Data'!I349","v":288},{"$f":"'Raw Data'!J349","v":474},{"$f":"'Raw Data'!K349","v":539},{"$f":"'Raw Data'!L349","v":602},538.33333333333337,"M"]
[62,{"$f":"'Raw Data'!H360","v":217},{"$f":"'Raw Data'!I360","v":80},{"$f":"'Raw Data'!J360","v":202},{"$f":"'Raw Data'!K360","v":259},{"$f":"'Raw Data'!L360","v":113},191.33333333333334,"M"]
[212,{"$f":"'Raw Data'!H371","v":166},{"$f":"'Raw Data'!I371","v":98},{"$f":"'Raw Data'!J371","v":21},{"$f":"'Raw Data'!K371","v":160},{"$f":"'Raw Data'!L371","v":78},86.333333333333329,"M"]
[213,{"$f":"'Raw Data'!H382","v":401},{"$f":"'Raw Data'!I382","v":130},{"$f":"'Raw Data'!J382","v":0},{"$f":"'Raw Data'!K382","v":60},{"$f":"'Raw Data'!L382","v":98},52.666666666666664,"M"]
[221,{"$f":"'Raw Data'!H393","v":226},{"$f":"'Raw Data'!I393","v":214},{"$f":"'Raw Data'!J393","v":162},{"$f":"'Raw Data'!K393","v":454},{"$f":"'Raw Data'!L393","v":250},288.66666666666669,"M"]
["BM8","OF","SHAM","T1","T2","T3","Total"]
[496,{"$f":"'Raw Data'!H9","v":776},{"$f":"'Raw Data'!I9","v":698},{"$f":"'Raw Data'!J9","v":755},{"$f":"'Raw Data'!K9","v":747},{"$f":"'Raw Data'!L9","v":707},{"$f":"AVERAGE(D261:F261)","v":736.33333333333337},"F"]
[529,{"$f":"'Raw Data'!H20","v":638},{"$f":"'Raw Data'!I20","v":1719},{"$f":"'Raw Data'!J20","v":1313},{"$f":"'Raw Data'!K20","v":564},{"$f":"'Raw Data'!L20","v":273},{"$f":"AVERAGE(D262:F262)","v":716.66666666666663},"F"]
[521,{"$f":"'Raw Data'!H31","v":791},{"$f":"'Raw Data'!I31","v":970},{"$f":"'Raw Data'!J31","v":797},{"$f":"'Raw Data'!K31","v":985},{"$f":"'Raw Data'!L31","v":863},881.66666666666663,"F"]
[524,{"$f":"'Raw Data'!H42","v":294},{"$f":"'Raw Data'!I42","v":569},{"$f":"'Raw Data'!J42","v":657},{"$f":"'Raw Data'!K42","v":558},{"$f":"'Raw Data'!L42","v":852},689,"F"]
[517,{"$f":"'Raw Data'!H53","v":1345},{"$f":"'Raw Data'!I53","v":737},{"$f":"'Raw Data'!J53","v":751},{"$f":"'Raw Data'!K53","v":649},{"$f":"'Raw Data'!L53","v":892},764,"F"]
[522,{"$f":"'Raw Data'!H64","v":647},{"$f":"'Raw Data'!I64","v":550},{"$f":"'Raw Data'!J64","v":430},{"$f":"'Raw Data'!K64","v":401},{"$f":"'Raw Data'!L64","v":630},487,"F"]
[534,{"$f":"'Raw Data'!H75","v":238},{"$f":"'Raw Data'!I75","v":505},{"$f":"'Raw Data'!J75","v":394},{"$f":"'Raw Data'!K75","v":521},{"$f":"'Raw Data'!L75","v":311},408.66666666666669,"F"]
[528,{"$f":"'Raw Data'!H86","v":782},{"$f":"'Raw Data'!I86","v":1312},{"$f":"'Raw Data'!J86","v":848},{"$f":"'Raw Data'!K86","v":395},{"$f":"'Raw Data'!L86","v":742},661.66666666666663,"F"]
[578,{"$f":"'Raw Data'!H97","v":532},{"$f":"'Raw Data'!I97","v":528},{"$f":"'Raw Data'!J97","v":521},{"$f":"'Raw Data'!K97","v":432},{"$f":"'Raw Data'!L97","v":570},507.66666666666669,"F"]
[533,{"$f":"'Raw Data'!H108","v":857},{"$f":"'Raw Data'!I108","v":734},{"$f":"'Raw Data'!J108","v":482},{"$f":"'Raw Data'!K108","v":429},{"$f":"'Raw Data'!L108","v":486},465.66666666666669,"F"]
[527,{"$f":"'Raw Data'!H119","v":1052},{"$f":"'Raw Data'!I119","v":907},{"$f":"'Raw Data'!J119","v":1025},{"$f":"'Raw Data'!K119","v":987},{"$f":"'Raw Data'!L119","v":626},879.33333333333337,"F"]
[63,{"$f":"'Raw Data'!H130","v":768},{"$f":"'Raw Data'!I130","v":1507},{"$f":"'Raw Data'!J130","v":1660},{"$f":"'Raw Data'!K130","v":791},{"$f":"'Raw Data'!L130","v":1205},1218.6666666666667,"F"]
[64,{"$f":"'Raw Data'!H141","v":378},{"$f":"'Raw Data'!I141","v":658},{"$f":"'Raw Data'!J141","v":564},{"$f":"'Raw Data'!K141","v":427},{"$f":"'Raw Data'!L141","v":519},503.33333333333331,"F"]
[909,{"$f":"'Raw Data'!H152","v":537},{"$f":"'Raw Data'!I152","v":1868},{"$f":"'Raw Data'!J152","v":1585},{"$f":"'Raw Data'!K152","v":1166},{"$f":"'Raw Data'!L152","v":1272},1341,"F"]
[162,{"$f":"'Raw Data'!H163","v":384},{"$f":"'Raw Data'!I163","v":834},{"$f":"'Raw Data'!J163","v":499},{"$f":"'Raw Data'!K163","v":1535},{"$f":"'Raw Data'!L163","v":1396},1143.3333333333333,"F"]
[294,{"$f":"'Raw Data'!H174","v":532},{"$f":"'Raw Data'!I174","v":725},{"$f":"'Raw Data'!J174","v":583},{"$f":"'Raw Data'!K174","v":589},{"$f":"'Raw Data'!L174","v":523},565,"F"]
[351,{"$f":"'Raw Data'!H185","v":291},{"$f":"'Raw Data'!I185","v":126},{"$f":"'Raw Data'!J185","v":361},{"$f":"'Raw Data'!K185","v":285},{"$f":"'Raw Data'!L185","v":101},249,"F"]
[513,{"$f":"'Raw Data'!H196","v":982},{"$f":"'Raw Data'!I196","v":469},{"$f":"'Raw Data'!J196","v":1013},{"$f":"'Raw Data'!K196","v":447},{"$f":"'Raw Data'!L196","v":460},640,"M"]
[530,{"$f":"'Raw Data'!H207","v":329},{"$f":"'Raw Data'!I207","v":289},{"$f":"'Raw Data'!J207","v":574},{"$f":"'Raw Data'!K207","v":485},{"$f":"'Raw Data'!L207","v":398},485.66666666666669,"M"]
[515,{"$f":"'Raw Data'!H218","v":1034},{"$f":"'Raw Data'!I218","v":1443},{"$f":"'Raw Data'!J218","v":819},{"$f":"'Raw Data'!K218","v":550},{"$f":"'Raw Data'!L218","v":522},630.33333333333337,"M"]
[531,{"$f":"'Raw Data'!H229","v":549},{"$f":"'Raw Data'!I229","v":373},{"$f":"'Raw Data'!J229","v":225},{"$f":"'Raw Data'!K229","v":135},{"$f":"'Raw Data'!L229","v":315},225,"M"]
[500,{"$f":"'Raw Data'!H240","v":628},{"$f":"'Raw Data'!I240","v":678},{"$f":"'Raw Data'!J240","v":616},{"$f":"'Raw Data'!K240","v":361},{"$f":"'Raw Data'!L240","v":380},452.33333333333331,"M"]
[498,{"$f":"'Raw Data'!H251","v":153},{"$f":"'Raw Data'!I251","v":707},{"$f":"'Raw Data'!J251","v":746},{"$f":"'Raw Data'!K251","v":1088},{"$f":"'Raw Data'!L251","v":571},801.66666666666663,"M"]
[157,{"$f":"'Raw Data'!H262","v":841},{"$f":"'Raw Data'!I262","v":1399},{"$f":"'Raw Data'!J262","v":1188},{"$f":"'Raw Data'!K262","v":1427},{"$f":"'Raw Data'!L262","v":1164},1259.6666666666667,"M"]
[514,{"$f":"'Raw Data'!H273","v":946},{"$f":"'Raw Data'!I273","v":1154},{"$f":"'Raw Data'!J273","v":1018},{"$f":"'Raw Data'!K273","v":1001},{"$f":"'Raw Data'!L273","v":950},989.66666666666663,"M"]
[532,{"$f":"'Raw Data'!H284","v":835},{"$f":"'Raw Data'!I284","v":1573},{"$f":"'Raw Data'!J284","v":849},{"$f":"'Raw Data'!K284","v":1044},{"$f":"'Raw Data'!L284","v":1001},964.66666666666663,"M"]
[516,{"$f":"'Raw Data'!H295","v":359},{"$f":"'Raw Data'!I295","v":584},{"$f":"'Raw Data'!J295","v":1003},{"$f":"'Raw Data'!K295","v":713},{"$f":"'Raw Data'!L295","v":847},854.33333333333337,"M"]
[158,{"$f":"'Raw Data'!H306","v":411},{"$f":"'Raw Data'!I306","v":1534},{"$f":"'Raw Data'!J306","v":740},{"$f":"'Raw Data'!K306","v":959},{"$f":"'Raw Data'!L306","v":687},795.33333333333337,"M"]
[499,{"$f":"'Raw Data'!H317","v":270},{"$f":"'Raw Data'!I317","v":488},{"$f":"'Raw Data'!J317","v":537},{"$f":"'Raw Data'!K317","v":712},{"$f":"'Raw Data'!L317","v":578},609,"M"]
[156,{"$f":"'Raw Data'!H328","v":883},{"$f":"'Raw Data'!I328","v":1630},{"$f":"'Raw Data'!J328","v":1845},{"$f":"'Raw Data'!K328","v":1674},{"$f":"'Raw Data'!L328","v":1469},1662.6666666666667,"M"]
[59,{"$f":"'Raw Data'!H339","v":1344},{"$f":"'Raw Data'!I339","v":1321},{"$f":"'Raw Data'!J339","v":1140},{"$f":"'Raw Data'!K339","v":998},{"$f":"'Raw Data'!L339","v":1088},1075.3333333333333,"M"]
[61,{"$f":"'Raw Data'!H350","v":784},{"$f":"'Raw Data'!I350","v":387},{"$f":"'Raw Data'!J350","v":627},{"$f":"'Raw Data'!K350","v":374},{"$f":"'Raw Data'!L350","v":317},439.33333333333331,"M"]
[62,{"$f":"'Raw Data'!H361","v":838},{"$f":"'Raw Data'!I361","v":1209},{"$f":"'Raw Data'!J361","v":1151},{"$f":"'Raw Data'!K361","v":912},{"$f":"'Raw Data'!L361","v":1231},1098,"M"]
[212,{"$f":"'Raw Data'!H372","v":589},{"$f":"'Raw Data'!I372","v":524},{"$f":"'Raw Data'!J372","v":651},{"$f":"'Raw Data'!K372","v":382},{"$f":"'Raw Data'!L372","v":439},490.66666666666669,"M"]
[213,{"$f":"'Raw Data'!H383","v":643},{"$f":"'Raw Data'!I383","v":862},{"$f":"'Raw Data'!J383","v":452},{"$f":"'Raw Data'!K383","v":367},{"$f":"'Raw Data'!L383","v":432},417,"M"]
[221,{"$f":"'Raw Data'!H394","v":780},{"$f":"'Raw Data'!I394","v":766},{"$f":"'Raw Data'!J394","v":357},{"$f":"'Raw Data'!K394","v":586},{"$f":"'Raw Data'!L394","v":526},489.66666666666669,"M"]
["BM9","OF","SHAM","T1","T2","T3","Total"]
[496,{"$f":"'Raw Data'!H10","v":415},{"$f":"'Raw Data'!I10","v":367},{"$f":"'Raw Data'!J10","v":682},{"$f":"'Raw Data'!K10","v":524},{"$f":"'Raw Data'!L10","v":467},{"$f":"AVERAGE(D298:F298)","v":557.66666666666663},"F"]
[529,{"$f":"'Raw Data'!H21","v":549},{"$f":"'Raw Data'!I21","v":101},{"$f":"'Raw Data'!J21","v":1440},{"$f":"'Raw Data'!K21","v":1233},{"$f":"'Raw Data'!L21","v":1055},{"$f":"AVERAGE(D299:F299)","v":1242.6666666666667},"F"]
[521,{"$f":"'Raw Data'!H32","v":631},{"$f":"'Raw Data'!I32","v":809},{"$f":"'Raw Data'!J32","v":823},{"$f":"'Raw Data'!K32","v":488},{"$f":"'Raw Data'!L32","v":652},654.33333333333337,"F"]
[524,{"$f":"'Raw Data'!H43","v":665},{"$f":"'Raw Data'!I43","v":1259},{"$f":"'Raw Data'!J43","v":1326},{"$f":"'Raw Data'!K43","v":1236},{"$f":"'Raw Data'!L43","v":1279},1280.3333333333333,"F"]
[517,{"$f":"'Raw Data'!H54","v":311},{"$f":"'Raw Data'!I54","v":830},{"$f":"'Raw Data'!J54","v":992},{"$f":"'Raw Data'!K54","v":688},{"$f":"'Raw Data'!L54","v":867},849,"F"]
[522,{"$f":"'Raw Data'!H65","v":779},{"$f":"'Raw Data'!I65","v":927},{"$f":"'Raw Data'!J65","v":786},{"$f":"'Raw Data'!K65","v":666},{"$f":"'Raw Data'!L65","v":664},705.33333333333337,"F"]
[534,{"$nulls":6},"F"]
[528,{"$f":"'Raw Data'!H87","v":186},{"$f":"'Raw Data'!I87","v":581},{"$f":"'Raw Data'!J87","v":545},{"$f":"'Raw Data'!K87","v":405},{"$f":"'Raw Data'!L87","v":329},426.33333333333331,"F"]
[578,{"$f":"'Raw Data'!H98","v":413},{"$f":"'Raw Data'!I98","v":520},{"$f":"'Raw Data'!J98","v":591},{"$f":"'Raw Data'!K98","v":233},{"$f":"'Raw Data'!L98","v":289},371,"F"]
[533,{"$f":"'Raw Data'!H109","v":387},{"$f":"'Raw Data'!I109","v":438},{"$f":"'Raw Data'!J109","v":596},{"$f":"'Raw Data'!K109","v":628},{"$f":"'Raw Data'!L109","v":520},581.33333333333337,"F"]
[527,{"$f":"'Raw Data'!H120","v":880},{"$f":"'Raw Data'!I120","v":757},{"$f":"'Raw Data'!J120","v":1409},{"$f":"'Raw Data'!K120","v":1493},{"$f":"'Raw Data'!L120","v":1101},1334.3333333333333,"F"]
[63,{"$f":"'Raw Data'!H131","v":797},{"$f":"'Raw Data'!I131","v":2133},{"$f":"'Raw Data'!J131","v":858},{"$f":"'Raw Data'!K131","v":1138},{"$f":"'Raw Data'!L131","v":915},970.33333333333337,"F"]
[64,{"$f":"'Raw Data'!H142","v":961},{"$f":"'Raw Data'!I142","v":2376},{"$f":"'Raw Data'!J142","v":1597},{"$f":"'Raw Data'!K142","v":1253},{"$f":"'Raw Data'!L142","v":1299},1383,"F"]
[909,{"$f":"'Raw Data'!H153","v":530},{"$f":"'Raw Data'!I153","v":623},{"$f":"'Raw Data'!J153","v":963},{"$f":"'Raw Data'!K153","v":196},{"$f":"'Raw Data'!L153","v":577},578.66666666666663,"F"]
[162,{"$f":"'Raw Data'!H164","v":522},{"$f":"'Raw Data'!I164","v":2300},{"$f":"'Raw Data'!J164","v":406},{"$f":"'Raw Data'!K164","v":980},{"$f":"'Raw Data'!L164","v":1005},797,"F"]
[294,{"$f":"'Raw Data'!H175","v":929},{"$f":"'Raw Data'!I175","v":1014},{"$f":"'Raw Data'!J175","v":1332},{"$f":"'Raw Data'!K175","v":1168},{"$f":"'Raw Data'!L175","v":924},1141.3333333333333,"F"]
[351,{"$f":"'Raw Data'!H186","v":738},{"$f":"'Raw Data'!I186","v":1960},{"$f":"'Raw Data'!J186","v":1378},{"$f":"'Raw Data'!K186","v":1151},{"$f":"'Raw Data'!L186","v":1218},1249,"F"]
[513,{"$f":"'Raw Data'!H197","v":446},{"$f":"'Raw Data'!I197","v":509},{"$f":"'Raw Data'!J197","v":573},{"$f":"'Raw Data'!K197","v":487},{"$f":"'Raw Data'!L197","v":444},501.33333333333331,"M"]
[530,{"$f":"'Raw Data'!H208","v":272},{"$f":"'Raw Data'!I208","v":452},{"$f":"'Raw Data'!J208","v":558},{"$f":"'Raw Data'!K208","v":411},{"$f":"'Raw Data'!L208","v":394},454.33333333333331,"M"]
[515,{"$f":"'Raw Data'!H219","v":581},{"$f":"'Raw Data'!I219","v":1072},{"$f":"'Raw Data'!J219","v":866},{"$f":"'Raw Data'!K219","v":1046},{"$f":"'Raw Data'!L219","v":756},889.33333333333337,"M"]
[531,{"$f":"'Raw Data'!H230","v":751},{"$f":"'Raw Data'!I230","v":1497},{"$f":"'Raw Data'!J230","v":1069},{"$f":"'Raw Data'!K230","v":1075},{"$f":"'Raw Data'!L230","v":790},978,"M"]
[500,{"$f":"'Raw Data'!H241","v":340},{"$f":"'Raw Data'!I241","v":780},{"$f":"'Raw Data'!J241","v":589},{"$f":"'Raw Data'!K241","v":517},{"$f":"'Raw Data'!L241","v":308},471.33333333333331,"M"]
[498,{"$f":"'Raw Data'!H252","v":143},{"$f":"'Raw Data'!I252","v":716},{"$f":"'Raw Data'!J252","v":1085},{"$f":"'Raw Data'!K252","v":596},{"$f":"'Raw Data'!L252","v":779},820,"M"]
[157,{"$f":"'Raw Data'!H263","v":169},{"$f":"'Raw Data'!I263","v":1086},{"$f":"'Raw Data'!J263","v":840},{"$f":"'Raw Data'!K263","v":681},{"$f":"'Raw Data'!L263","v":408},643,"M"]
[514,{"$f":"'Raw Data'!H274","v":626},{"$f":"'Raw Data'!I274","v":809},{"$f":"'Raw Data'!J274","v":437},{"$f":"'Raw Data'!K274","v":602},{"$f":"'Raw Data'!L274","v":1135},724.66666666666663,"M"]
[532,{"$f":"'Raw Data'!H285","v":831},{"$f":"'Raw Data'!I285","v":735},{"$f":"'Raw Data'!J285","v":1201},{"$f":"'Raw Data'!K285","v":1154},{"$f":"'Raw Data'!L285","v":1098},1151,"M"]
[516,{"$f":"'Raw Data'!H296","v":296},{"$f":"'Raw Data'!I296","v":746},{"$f":"'Raw Data'!J296","v":523},{"$f":"'Raw Data'!K296","v":638},{"$f":"'Raw Data'!L296","v":438},533,"M"]
[158,{"$f":"'Raw Data'!H307","v":88},{"$f":"'Raw Data'!I307","v":341},{"$f":"'Raw Data'!J307","v":511},{"$f":"'Raw Data'!K307","v":486},{"$f":"'Raw Data'!L307","v":345},447.33333333333331,"M"]
[499,{"$f":"'Raw Data'!H318","v":495},{"$f":"'Raw Data'!I318","v":1392},{"$f":"'Raw Data'!J318","v":946},{"$f":"'Raw Data'!K318","v":858},{"$f":"'Raw Data'!L318","v":863},889,"M"]
[156,{"$f":"'Raw Data'!H329","v":535},{"$f":"'Raw Data'!I329","v":665},{"$f":"'Raw Data'!J329","v":677},{"$f":"'Raw Data'!K329","v":572},{"$f":"'Raw Data'!L329","v":531},593.33333333333337,"M"]
[59,{"$f":"'Raw Data'!H340","v":88},{"$f":"'Raw Data'!I340","v":590},{"$f":"'Raw Data'!J340","v":335},{"$f":"'Raw Data'!K340","v":283},{"$f":"'Raw Data'!L340","v":327},315,"M"]
[61,{"$f":"'Raw Data'!H351","v":384},{"$f":"'Raw Data'!I351","v":875},{"$f":"'Raw Data'!J351","v":480},{"$f":"'Raw Data'!K351","v":499},{"$f":"'Raw Data'!L351","v":456},478.33333333333331,"M"]
[62,{"$f":"'Raw Data'!H362","v":169},{"$f":"'Raw Data'!I362","v":382},{"$f":"'Raw Data'!J362","v":523},{"$f":"'Raw Data'!K362","v":296},{"$f":"'Raw Data'!L362","v":336},385,"M"]
[212,{"$f":"'Raw Data'!H373","v":1014},{"$f":"'Raw Data'!I373","v":1864},{"$f":"'Raw Data'!J373","v":1674},{"$f":"'Raw Data'!K373","v":1308},{"$f":"'Raw Data'!L373","v":1291},1424.3333333333333,"M"]
[213,{"$f":"'Raw Data'!H384","v":682},{"$f":"'Raw Data'!I384","v":1492},{"$f":"'Raw Data'!J384","v":2089},{"$f":"'Raw Data'!K384","v":1456},{"$f":"'Raw Data'!L384","v":1360},1635,"M"]
[221,{"$f":"'Raw Data'!H395","v":488},{"$f":"'Raw Data'!I395","v":698},{"$f":"'Raw Data'!J395","v":854},{"$f":"'Raw Data'!K395","v":420},{"$f":"'Raw Data'!L395","v":517},597,"M"]
["BM10","OF","SHAM","T1","T2","T3","Total"]
[496,{"$f":"'Raw Data'!H11","v":445},{"$f":"'Raw Data'!I11","v":416},{"$f":"'Raw Data'!J11","v":345},{"$f":"'Raw Data'!K11","v":418},{"$f":"'Raw Data'!L11","v":529},{"$f":"AVERAGE(D335:F335)","v":430.66666666666669},"F"]
[529,{"$f":"'Raw Data'!H22","v":292},{"$f":"'Raw Data'!I22","v":56},{"$f":"'Raw Data'!J22","v":44},{"$f":"'Raw Data'!K22","v":127},{"$f":"'Raw Data'!L22","v":65},{"$f":"AVERAGE(D336:F336)","v":78.666666666666671},"F"]
[521,{"$f":"'Raw Data'!H33","v":160},{"$f":"'Raw Data'!I33","v":155},{"$f":"'Raw Data'!J33","v":239},{"$f":"'Raw Data'!K33","v":145},{"$f":"'Raw Data'!L33","v":56},146.66666666666666,"F"]
[524,{"$f":"'Raw Data'!H44","v":875},{"$f":"'Raw Data'!I44","v":116},{"$f":"'Raw Data'!J44","v":0},{"$f":"'Raw Data'!K44","v":32},{"$f":"'Raw Data'!L44","v":0},10.666666666666666,"F"]
[517,{"$f":"'Raw Data'!H55","v":354},{"$f":"'Raw Data'!I55","v":299},{"$f":"'Raw Data'!J55","v":10},{"$f":"'Raw Data'!K55","v":120},{"$f":"'Raw Data'!L55","v":146},92,"F"]
[522,{"$f":"'Raw Data'!H66","v":438},{"$f":"'Raw Data'!I66","v":216},{"$f":"'Raw Data'!J66","v":82},{"$f":"'Raw Data'!K66","v":138},{"$f":"'Raw Data'!L66","v":148},122.66666666666667,"F"]
[534,{"$f":"'Raw Data'!H77","v":317},{"$f":"'Raw Data'!I77","v":81},{"$f":"'Raw Data'!J77","v":0},{"$f":"'Raw Data'!K77","v":0},{"$f":"'Raw Data'!L77","v":9},3,"F"]
[528,{"$f":"'Raw Data'!H88","v":248},{"$f":"'Raw Data'!I88","v":259},{"$f":"'Raw Data'!J88","v":156},{"$f":"'Raw Data'!K88","v":147},{"$f":"'Raw Data'!L88","v":26},109.66666666666667,"F"]
[578,{"$f":"'Raw Data'!H99","v":265},{"$f":"'Raw Data'!I99","v":378},{"$f":"'Raw Data'!J99","v":196},{"$f":"'Raw Data'!K99","v":362},{"$f":"'Raw Data'!L99","v":183},247,"F"]
[533,{"$f":"'Raw Data'!H110","v":360},{"$f":"'Raw Data'!I110","v":258},{"$f":"'Raw Data'!J110","v":226},{"$f":"'Raw Data'!K110","v":138},{"$f":"'Raw Data'!L110","v":129},164.33333333333334,"F"]
[527,{"$f":"'Raw Data'!H121","v":216},{"$f":"'Raw Data'!I121","v":90},{"$f":"'Raw Data'!J121","v":32},{"$f":"'Raw Data'!K121","v":87},{"$f":"'Raw Data'!L121","v":135},84.666666666666671,"F"]
[63,{"$f":"'Raw Data'!H132","v":273},{"$f":"'Raw Data'!I132","v":9},{"$f":"'Raw Data'!J132","v":24},{"$f":"'Raw Data'!K132","v":165},{"$f":"'Raw Data'!L132","v":76},88.333333333333329,"F"]
[64,{"$f":"'Raw Data'!H143","v":445},{"$f":"'Raw Data'!I143","v":67},{"$f":"'Raw Data'!J143","v":145},{"$f":"'Raw Data'!K143","v":170},{"$f":"'Raw Data'!L143","v":177},164,"F"]
[909,{"$f":"'Raw Data'!H154","v":223},{"$f":"'Raw Data'!I154","v":46},{"$f":"'Raw Data'!J154","v":77},{"$f":"'Raw Data'!K154","v":208},{"$f":"'Raw Data'!L154","v":79},121.33333333333333,"F"]
[162,{"$nulls":6},"F"]
[294,{"$f":"'Raw Data'!H176","v":414},{"$f":"'Raw Data'!I176","v":388},{"$f":"'Raw Data'!J176","v":155},{"$f":"'Raw Data'!K176","v":326},{"$f":"'Raw Data'!L176","v":174},218.33333333333334,"F"]
[351,{"$f":"'Raw Data'!H187","v":267},{"$f":"'Raw Data'!I187","v":43},{"$f":"'Raw Data'!J187","v":27},{"$f":"'Raw Data'!K187","v":164},{"$f":"'Raw Data'!L187","v":137},109.33333333333333,"F"]
[513,{"$f":"'Raw Data'!H198","v":458},{"$f":"'Raw Data'!I198","v":739},{"$f":"'Raw Data'!J198","v":146},{"$f":"'Raw Data'!K198","v":416},{"$f":"'Raw Data'!L198","v":989},517,"M"]
[530,{"$f":"'Raw Data'!H209","v":521},{"$f":"'Raw Data'!I209","v":137},{"$f":"'Raw Data'!J209","v":17},{"$f":"'Raw Data'!K209","v":33},{"$f":"'Raw Data'!L209","v":182},77.333333333333329,"M"]
[515,{"$f":"'Raw Data'!H220","v":499},{"$f":"'Raw Data'!I220","v":199},{"$f":"'Raw Data'!J220","v":61},{"$f":"'Raw Data'!K220","v":160},{"$f":"'Raw Data'!L220","v":242},154.33333333333334,"M"]
[531,{"$f":"'Raw Data'!H231","v":277},{"$f":"'Raw Data'!I231","v":207},{"$f":"'Raw Data'!J231","v":402},{"$f":"'Raw Data'!K231","v":160},{"$f":"'Raw Data'!L231","v":328},296.66666666666669,"M"]
[500,{"$f":"'Raw Data'!H242","v":585},{"$f":"'Raw Data'!I242","v":229},{"$f":"'Raw Data'!J242","v":511},{"$f":"'Raw Data'!K242","v":544},{"$f":"'Raw Data'!L242","v":436},497,"M"]
[498,{"$f":"'Raw Data'!H253","v":273},{"$f":"'Raw Data'!I253","v":34},{"$f":"'Raw Data'!J253","v":39},{"$f":"'Raw Data'!K253","v":61},{"$f":"'Raw Data'!L253","v":92},64,"M"]
[157,{"$f":"'Raw Data'!H264","v":72},{"$f":"'Raw Data'!I264","v":9},{"$f":"'Raw Data'!J264","v":21},{"$f":"'Raw Data'!K264","v":0},{"$f":"'Raw Data'!L264","v":9},10,"M"]
[514,{"$f":"'Raw Data'!H275","v":524},{"$f":"'Raw Data'!I275","v":372},{"$f":"'Raw Data'!J275","v":359},{"$f":"'Raw Data'!K275","v":379},{"$f":"'Raw Data'!L275","v":184},307.33333333333331,"M"]
[532,{"$f":"'Raw Data'!H286","v":226},{"$f":"'Raw Data'!I286","v":136},{"$f":"'Raw Data'!J286","v":51},{"$f":"'Raw Data'!K286","v":95},{"$f":"'Raw Data'!L286","v":30},58.666666666666664,"M"]
[516,{"$f":"'Raw Data'!H297","v":1192},{"$f":"'Raw Data'!I297","v":439},{"$f":"'Raw Data'!J297","v":206},{"$f":"'Raw Data'!K297","v":198},{"$f":"'Raw Data'!L297","v":242},215.33333333333334,"M"]
[158,{"$f":"'Raw Data'!H308","v":681},{"$f":"'Raw Data'!I308","v":170},{"$f":"'Raw Data'!J308","v":138},{"$f":"'Raw Data'!K308","v":30},{"$f":"'Raw Data'!L308","v":269},145.66666666666666,"M"]
[499,{"$f":"'Raw Data'!H319","v":745},{"$f":"'Raw Data'!I319","v":249},{"$f":"'Raw Data'!J319","v":70},{"$f":"'Raw Data'!K319","v":74},{"$f":"'Raw Data'!L319","v":217},120.33333333333333,"M"]
[156,{"$f":"'Raw Data'!H330","v":869},{"$f":"'Raw Data'!I330","v":176},{"$f":"'Raw Data'!J330","v":9},{"$f":"'Raw Data'!K330","v":66},{"$f":"'Raw Data'!L330","v":138},71,"M"]
[59,{"$f":"'Raw Data'!H341","v":445},{"$f":"'Raw Data'!I341","v":249},{"$f":"'Raw Data'!J341","v":199},{"$f":"'Raw Data'!K341","v":347},{"$f":"'Raw Data'!L341","v":267},271,"M"]
[61,{"$f":"'Raw Data'!H352","v":304},{"$f":"'Raw Data'!I352","v":388},{"$f":"'Raw Data'!J352","v":261},{"$f":"'Raw Data'!K352","v":497},{"$f":"'Raw Data'!L352","v":722},493.33333333333331,"M"]
[62,{"$f":"'Raw Data'!H363","v":450},{"$f":"'Raw Data'!I363","v":20},{"$f":"'Raw Data'!J363","v":86},{"$f":"'Raw Data'!K363","v":163},{"$f":"'Raw Data'!L363","v":247},165.33333333333334,"M"]
[212,{"$f":"'Raw Data'!H374","v":480},{"$f":"'Raw Data'!I374","v":52},{"$f":"'Raw Data'!J374","v":46},{"$f":"'Raw Data'!K374","v":56},{"$f":"'Raw Data'!L374","v":98},66.666666666666671,"M"]
[213,{"$f":"'Raw Data'!H385","v":956},{"$f":"'Raw Data'!I385","v":118},{"$f":"'Raw Data'!J385","v":0},{"$f":"'Raw Data'!K385","v":9},{"$f":"'Raw Data'!L385","v":42},17,"M"]
[221,{"$f":"'Raw Data'!H396","v":636},{"$f":"'Raw Data'!I396","v":266},{"$f":"'Raw Data'!J396","v":117},{"$f":"'Raw Data'!K396","v":501},{"$f":"'Raw Data'!L396","v":220},279.33333333333331,"M"]