{"text_format":"2","workbook":"xlsx","n_sheets":3,"sheets":["Foglio1","LA","BLA"],"not_rendered":{"charts":0,"images":0,"macros":0,"external_links":0,"defined_names":0,"comments":0,"pivot_tables":0},"unopened":[],"bounds":{"document_bytes":16777216,"sheet_cells":100000,"run_cost":"one","rows_first":2000,"rows_last":500,"rows_between":2000,"halvings":0,"cell_chars":16384,"cell_head_chars":4096},"cells_cut":0,"cells_raw":0,"read":"whole","date_system":"1900"}

{"sheet":"Foglio1","index":0,"n_rows":396,"n_cols":12,"rows_kept":396,"cut":false,"hidden":false,"merged":[]}
{"$rows_empty":121}
[63,{"$nulls":6},63]
[593,99,126,272,251,null,"BM1",593,99,126,272,251]
[110,20,633,354,616,null,"BM2",110,20,633,354,616]
[575,141,83,488,349,null,"BM3",575,141,83,488,349]
[{"$nulls":6},"BM4"]
[284,149,181,286,164,null,"BM5",284,149,181,286,164]
[914,442,901,678,806,null,"BM6",914,442,901,678,806]
[186,9,35,329,115,null,"BM7",186,9,35,329,115]
[768,1507,1660,791,1205,null,"BM8",768,1507,1660,791,1205]
[797,2133,858,1138,915,null,"BM9",797,2133,858,1138,915]
[273,9,24,165,76,null,"BM10",273,9,24,165,76]
[64,{"$nulls":6},64]
[231,173,395,486,470,null,"BM1",231,173,395,486,470]
[446,109,269,191,241,null,"BM2",446,109,269,191,241]
[270,83,118,403,285,null,"BM3",270,83,118,403,285]
[{"$nulls":6},"BM4"]
[758,585,870,656,542,null,"BM5",758,585,870,656,542]
[651,417,477,753,678,null,"BM6",651,417,477,753,678]
[360,33,66,162,286,null,"BM7",360,33,66,162,286]
[378,658,564,427,519,null,"BM8",378,658,564,427,519]
[961,2376,1597,1253,1299,null,"BM9",961,2376,1597,1253,1299]
[445,67,145,170,177,null,"BM10",445,67,145,170,177]
[909,{"$nulls":6},909]
[818,215,181,264,332,null,"BM1",818,215,181,264,332]
[389,994,739,1491,1099,null,"BM2",389,994,739,1491,1099]
[423,70,134,198,109,null,"BM3",423,70,134,198,109]
[{"$nulls":6},"BM4"]
[70,118,363,35,293,null,"BM5",70,118,363,35,293]
[1014,488,398,777,678,null,"BM6",1014,488,398,777,678]
[496,79,61,166,58,null,"BM7",496,79,61,166,58]
[537,1868,1585,1166,1272,null,"BM8",537,1868,1585,1166,1272]
[530,623,963,196,577,null,"BM9",530,623,963,196,577]
[223,46,77,208,79,null,"BM10",223,46,77,208,79]
[162,{"$nulls":6},162]
[1361,161,754,208,184,null,"BM1",1361,161,754,208,184]
[97,9,281,269,369,null,"BM2",97,9,281,269,369]
[589,9,214,31,80,null,"BM3",589,9,214,31,80]
[{"$nulls":6},"BM4"]
[253,211,933,757,835,null,"BM5",253,211,933,757,835]
[754,985,453,680,606,null,"BM6",754,985,453,680,606]
[267,0,348,26,9,null,"BM7",267,0,348,26,9]
[384,834,499,1535,1396,null,"BM8",384,834,499,1535,1396]
[522,2300,406,980,1005,null,"BM9",522,2300,406,980,1005]
[273,0,613,15,15,null,"BM10",273,0,613,15,15]
[294,{"$nulls":6},294]
[485,361,483,440,613,null,"BM1",485,361,483,440,613]
[{"$nulls":6},"BM2"]
[324,322,323,293,522,null,"BM3",324,322,323,293,522]
[{"$nulls":6},"BM4"]
[434,620,629,483,528,null,"BM5",434,620,629,483,528]
[1047,661,788,847,817,null,"BM6",1047,661,788,847,817]
[335,410,208,355,396,null,"BM7",335,410,208,355,396]
[532,725,583,589,523,null,"BM8",532,725,583,589,523]
[929,1014,1332,1168,924,null,"BM9",929,1014,1332,1168,924]
[414,388,155,326,174,null,"BM10",414,388,155,326,174]
[351,{"$nulls":6},351]
[481,316,523,488,757,null,"BM1",481,316,523,488,757]
[800,300,603,586,232,null,"BM2",800,300,603,586,232]
[290,273,245,282,448,null,"BM3",290,273,245,282,448]
[{"$nulls":6},"BM4"]
[437,550,446,471,275,null,"BM5",437,550,446,471,275]
[995,897,874,900,1069,null,"BM6",995,897,874,900,1069]
[201,36,44,174,260,null,"BM7",201,36,44,174,260]
[291,126,361,285,101,null,"BM8",291,126,361,285,101]
[738,1960,1378,1151,1218,null,"BM9",738,1960,1378,1151,1218]
[267,43,27,164,137,null,"BM10",267,43,27,164,137]
{"$rows_empty":143}
[59]
[116,363,418,453,363,null,"BM1",116,363,418,453,363]
[882,601,679,758,899,null,"BM2",882,601,679,758,899]
[315,171,349,334,316,null,"BM3",315,171,349,334,316]
[{"$nulls":6},"BM4"]
[397,413,398,330,239,null,"BM5",397,413,398,330,239]
[677,674,731,868,808,null,"BM6",677,674,731,868,808]
[236,119,252,130,190,null,"BM7",236,119,252,130,190]
[1344,1321,1140,998,1088,null,"BM8",1344,1321,1140,998,1088]
[88,590,335,283,327,null,"BM9",88,590,335,283,327]
[445,249,199,347,267,null,"BM10",445,249,199,347,267]
[61,{"$nulls":6},61]
[728,778,656,851,805,null,"BM1",728,778,656,851,805]
[368,500,562,446,310,null,"BM2",368,500,562,446,310]
[389,242,469,560,663,null,"BM3",389,242,469,560,663]
[{"$nulls":6},"BM4"]
[567,367,462,276,137,null,"BM5",567,367,462,276,137]
[584,676,510,459,485,null,"BM6",584,676,510,459,485]
[392,288,474,539,602,null,"BM7",392,288,474,539,602]
[784,387,627,374,317,null,"BM8",784,387,627,374,317]
[384,875,480,499,456,null,"BM9",384,875,480,499,456]
[304,388,261,497,722,null,"BM10",304,388,261,497,722]
[62,{"$nulls":6},62]
[120,101,335,370,287,null,"BM1",120,101,335,370,287]
[286,1821,974,833,642,null,"BM2",286,1821,974,833,642]
[158,394,238,551,441,null,"BM3",158,394,238,551,441]
[{"$nulls":6},"BM4"]
[1777,293,635,710,710,null,"BM5",1777,293,635,710,710]
[485,201,357,407,490,null,"BM6",485,201,357,407,490]
[217,80,202,259,113,null,"BM7",217,80,202,259,113]
[838,1209,1151,912,1231,null,"BM8",838,1209,1151,912,1231]
[169,382,523,296,336,null,"BM9",169,382,523,296,336]
[450,20,86,163,247,null,"BM10",450,20,86,163,247]
[212,{"$nulls":6},212]
[427,179,287,350,408,null,"BM1",427,179,287,350,408]
[440,15,89,81,94,null,"BM2",440,15,89,81,94]
[431,200,191,693,459,null,"BM3",431,200,191,693,459]
[{"$nulls":6},"BM4"]
[406,1036,888,726,1032,null,"BM5",406,1036,888,726,1032]
[547,533,654,745,598,null,"BM6",547,533,654,745,598]
[166,98,21,160,78,null,"BM7",166,98,21,160,78]
[589,524,651,382,439,null,"BM8",589,524,651,382,439]
[1014,1864,1674,1308,1291,null,"BM9",1014,1864,1674,1308,1291]
[480,52,46,56,98,null,"BM10",480,52,46,56,98]
[213,{"$nulls":6},213]
[242,198,116,266,620,null,"BM1",242,198,116,266,620]
[483,511,968,1068,868,null,"BM2",483,511,968,1068,868]
[397,129,17,258,234,null,"BM3",397,129,17,258,234]
[{"$nulls":6},"BM4"]
[203,557,542,257,217,null,"BM5",203,557,542,257,217]
[493,504,317,763,626,null,"BM6",493,504,317,763,626]
[401,130,0,60,98,null,"BM7",401,130,0,60,98]
[643,862,452,367,432,null,"BM8",643,862,452,367,432]
[682,1492,2089,1456,1360,null,"BM9",682,1492,2089,1456,1360]
[956,118,0,9,42,null,"BM10",956,118,0,9,42]
[221,{"$nulls":6},221]
[401,482,510,629,636,null,"BM1",401,482,510,629,636]
[737,640,594,328,524,null,"BM2",737,640,594,328,524]
[168,231,367,422,424,null,"BM3",168,231,367,422,424]
[{"$nulls":6},"BM4"]
[337,479,480,444,472,null,"BM5",337,479,480,444,472]
[727,725,1060,717,928,null,"BM6",727,725,1060,717,928]
[226,214,162,454,250,null,"BM7",226,214,162,454,250]
[780,766,357,586,526,null,"BM8",780,766,357,586,526]
[488,698,854,420,517,null,"BM9",488,698,854,420,517]
[636,266,117,501,220,null,"BM10",636,266,117,501,220]

{"sheet":"LA","index":1,"n_rows":117,"n_cols":26,"rows_kept":117,"cut":false,"hidden":false,"merged":[]}
["BM1","OF","SHAM","T1","T2","T3","Average",null,null,"T1","T2","T3","Total",null,"T1","T2","T3","Total",{"$nulls":4},"T1","T2","T3","Total"]
[63,{"$f":"Foglio1!H123","v":593},{"$f":"Foglio1!I123","v":99},{"$f":"Foglio1!J123","v":126},{"$f":"Foglio1!K123","v":272},{"$f":"Foglio1!L123","v":251},{"$f":"AVERAGE(D2:F2)","v":216.33333333333334},"F",null,340578590.15856004,340578590.15856004,340578590.15856004,340578590.15856004,null,{"$f":"CORREL(J2:J13,D2:D13)","v":0.43452025085610141},{"$f":"CORREL(K2:K13,E2:E13)","v":-0.42299412243042339},{"$f":"CORREL(L2:L13,F2:F13)","v":-0.40913274336092464},{"$f":"CORREL(M2:M13,G2:G13)","v":-0.15331087955732672},null,null,null,"BM1",{"$f":"O2","v":0.43452025085610141},{"$f":"P2","v":-0.42299412243042339},-0.40913274336092464,-0.15331087955732672]
[64,{"$f":"Foglio1!H134","v":231},{"$f":"Foglio1!I134","v":173},{"$f":"Foglio1!J134","v":395},{"$f":"Foglio1!K134","v":486},{"$f":"Foglio1!L134","v":470},450.33333333333331,"F",null,622266105.378528,622266105.378528,622266105.378528,622266105.378528,{"$nulls":8},"BM2",{"$f":"O15","v":-0.49127810373637243},{"$f":"P15","v":-0.23558490536760565},-0.23052085318718291,-0.3263802540127772]
[909,{"$f":"Foglio1!H145","v":818},{"$f":"Foglio1!I145","v":215},{"$f":"Foglio1!J145","v":181},{"$f":"Foglio1!K145","v":264},{"$f":"Foglio1!L145","v":332},259,"F",null,768376971.67759335,768376971.67759335,768376971.67759335,768376971.67759335,{"$nulls":8},"BM3",{"$f":"O28","v":-0.18694815957829325},{"$f":"P28","v":-0.56651154466094034},-0.60440746738595663,-0.57361417463339359]
[162,{"$f":"Foglio1!H156","v":1361},{"$f":"Foglio1!I156","v":161},{"$f":"Foglio1!J156","v":754},{"$f":"Foglio1!K156","v":208},{"$f":"Foglio1!L156","v":184},382,"F",null,2379488686.2590399,2379488686.2590399,2379488686.2590399,2379488686.2590399,{"$nulls":8},"BM4",{"$f":"O41","v":0.57593802691541429},{"$f":"P41","v":0.39390621558280015},0.50344257673207826,0.5220058974487507]
[294,{"$f":"Foglio1!H167","v":485},{"$f":"Foglio1!I167","v":361},{"$f":"Foglio1!J167","v":483},{"$f":"Foglio1!K167","v":440},{"$f":"Foglio1!L167","v":613},512,"F",null,315079227.70526999,315079227.70526999,315079227.70526999,315079227.70526999,{"$nulls":8},"BM5",{"$f":"O54","v":-0.25924109759576469},{"$f":"P54","v":8.8081722729526964E-3},-0.19368198756090077,-0.19208689721062278]
[351,{"$f":"Foglio1!H178","v":481},{"$f":"Foglio1!I178","v":316},{"$f":"Foglio1!J178","v":523},{"$f":"Foglio1!K178","v":488},{"$f":"Foglio1!L178","v":757},589.33333333333337,"F",null,481642319.17229158,481642319.17229158,481642319.17229158,481642319.17229158,{"$nulls":8},"BM6",{"$f":"O67","v":-0.57802642743774957},{"$f":"P67","v":-0.26142081970931275},-0.31929544824564637,-0.42175722751651734]
[59,{"$f":"Foglio1!H332","v":116},{"$f":"Foglio1!I332","v":363},{"$f":"Foglio1!J332","v":418},{"$f":"Foglio1!K332","v":453},{"$f":"Foglio1!L332","v":363},411.33333333333331,"M",null,109635969.173556,109635969.173556,109635969.173556,109635969.173556,{"$nulls":8},"BM7",{"$f":"O80","v":-0.25278748296882014},{"$f":"P80","v":0.5737829120794371},0.34172361608756568,0.22289722716110591]
[61,{"$f":"Foglio1!H343","v":728},{"$f":"Foglio1!I343","v":778},{"$f":"Foglio1!J343","v":656},{"$f":"Foglio1!K343","v":851},{"$f":"Foglio1!L343","v":805},770.66666666666663,"M",null,339719202.84032732,339719202.84032732,339719202.84032732,339719202.84032732,{"$nulls":8},"BM8",{"$f":"O93","v":-0.12559081250813001},{"$f":"P93","v":0.18756276616219539},0.30105850899981457,9.9740695029053E-2]
[62,{"$f":"Foglio1!H354","v":120},{"$f":"Foglio1!I354","v":101},{"$f":"Foglio1!J354","v":335},{"$f":"Foglio1!K354","v":370},{"$f":"Foglio1!L354","v":287},330.66666666666669,"M",null,223607197.98994404,223607197.98994404,223607197.98994404,223607197.98994404,{"$nulls":8},"BM9",{"$f":"O106","v":-0.42341891339881088},{"$f":"P106","v":-0.36095457016521526},-0.40495085357324934,-0.42557836496796969]
[212,{"$f":"Foglio1!H365","v":427},{"$f":"Foglio1!I365","v":179},{"$f":"Foglio1!J365","v":287},{"$f":"Foglio1!K365","v":350},{"$f":"Foglio1!L365","v":408},348.33333333333331,"M",null,778935094.88065529,778935094.88065529,778935094.88065529,778935094.88065529]
[213,{"$f":"Foglio1!H376","v":242},{"$f":"Foglio1!I376","v":198},{"$f":"Foglio1!J376","v":116},{"$f":"Foglio1!K376","v":266},{"$f":"Foglio1!L376","v":620},334,"M",null,536433655.51437306,536433655.51437306,536433655.51437306,536433655.51437306]
[221,{"$f":"Foglio1!H387","v":401},{"$f":"Foglio1!I387","v":482},{"$f":"Foglio1!J387","v":510},{"$f":"Foglio1!K387","v":629},{"$f":"Foglio1!L387","v":636},591.66666666666663,"M",null,560231764.58800805,560231764.58800805,560231764.58800805,560231764.58800805]
["BM2","OF","SHAM","T1","T2","T3","Total",{"$nulls":5},"Total",null,"T1","T2","T3","Total"]
[63,{"$f":"Foglio1!H124","v":110},{"$f":"Foglio1!I124","v":20},{"$f":"Foglio1!J124","v":633},{"$f":"Foglio1!K124","v":354},{"$f":"Foglio1!L124","v":616},{"$f":"AVERAGE(D15:F15)","v":534.33333333333337},"F",null,340578590.15856004,340578590.15856004,340578590.15856004,340578590.15856004,null,{"$f":"CORREL(J15:J26,D15:D26)","v":-0.49127810373637243},{"$f":"CORREL(K15:K26,E15:E26)","v":-0.23558490536760565},{"$f":"CORREL(L15:L26,F15:F26)","v":-0.23052085318718291},{"$f":"CORREL(M15:M26,G15:G26)","v":-0.3263802540127772}]
[64,{"$f":"Foglio1!H135","v":446},{"$f":"Foglio1!I135","v":109},{"$f":"Foglio1!J135","v":269},{"$f":"Foglio1!K135","v":191},{"$f":"Foglio1!L135","v":241},233.66666666666666,"F",null,622266105.378528,622266105.378528,622266105.378528,622266105.378528]
[909,{"$f":"Foglio1!H146","v":389},{"$f":"Foglio1!I146","v":994},{"$f":"Foglio1!J146","v":739},{"$f":"Foglio1!K146","v":1491},{"$f":"Foglio1!L146","v":1099},1109.6666666666667,"F",null,768376971.67759335,768376971.67759335,768376971.67759335,768376971.67759335]
[162,{"$f":"Foglio1!H157","v":97},{"$f":"Foglio1!I157","v":9},{"$f":"Foglio1!J157","v":281},{"$f":"Foglio1!K157","v":269},{"$f":"Foglio1!L157","v":369},306.33333333333331,"F",null,2379488686.2590399,2379488686.2590399,2379488686.2590399,2379488686.2590399]
[294,{"$nulls":6},"F",null,315079227.70526999,315079227.70526999,315079227.70526999,315079227.70526999]
[351,{"$f":"Foglio1!H179","v":800},{"$f":"Foglio1!I179","v":300},{"$f":"Foglio1!J179","v":603},{"$f":"Foglio1!K179","v":586},{"$f":"Foglio1!L179","v":232},473.66666666666669,"F",null,481642319.17229158,481642319.17229158,481642319.17229158,481642319.17229158]
[59,{"$f":"Foglio1!H333","v":882},{"$f":"Foglio1!I333","v":601},{"$f":"Foglio1!J333","v":679},{"$f":"Foglio1!K333","v":758},{"$f":"Foglio1!L333","v":899},778.66666666666663,"M",null,109635969.173556,109635969.173556,109635969.173556,109635969.173556]
[61,{"$f":"Foglio1!H344","v":368},{"$f":"Foglio1!I344","v":500},{"$f":"Foglio1!J344","v":562},{"$f":"Foglio1!K344","v":446},{"$f":"Foglio1!L344","v":310},439.33333333333331,"M",null,339719202.84032732,339719202.84032732,339719202.84032732,339719202.84032732]
[62,{"$f":"Foglio1!H355","v":286},{"$f":"Foglio1!I355","v":1821},{"$f":"Foglio1!J355","v":974},{"$f":"Foglio1!K355","v":833},{"$f":"Foglio1!L355","v":642},816.33333333333337,"M",null,223607197.98994404,223607197.98994404,223607197.98994404,223607197.98994404]
[212,{"$f":"Foglio1!H366","v":440},{"$f":"Foglio1!I366","v":15},{"$f":"Foglio1!J366","v":89},{"$f":"Foglio1!K366","v":81},{"$f":"Foglio1!L366","v":94},88,"M",null,778935094.88065529,778935094.88065529,778935094.88065529,778935094.88065529]
[213,{"$f":"Foglio1!H377","v":483},{"$f":"Foglio1!I377","v":511},{"$f":"Foglio1!J377","v":968},{"$f":"Foglio1!K377","v":1068},{"$f":"Foglio1!L377","v":868},968,"M",null,536433655.51437306,536433655.51437306,536433655.51437306,536433655.51437306]
[221,{"$f":"Foglio1!H388","v":737},{"$f":"Foglio1!I388","v":640},{"$f":"Foglio1!J388","v":594},{"$f":"Foglio1!K388","v":328},{"$f":"Foglio1!L388","v":524},482,"M",null,560231764.58800805,560231764.58800805,560231764.58800805,560231764.58800805]
["BM3","OF","SHAM","T1","T2","T3","Total",{"$nulls":5},"Total",null,"T1","T2","T3","Total"]
[63,{"$f":"Foglio1!H125","v":575},{"$f":"Foglio1!I125","v":141},{"$f":"Foglio1!J125","v":83},{"$f":"Foglio1!K125","v":488},{"$f":"Foglio1!L125","v":349},{"$f":"AVERAGE(D28:F28)","v":306.66666666666669},"F",null,340578590.15856004,340578590.15856004,340578590.15856004,340578590.15856004,null,{"$f":"CORREL(J28:J39,D28:D39)","v":-0.18694815957829325},{"$f":"CORREL(K28:K39,E28:E39)","v":-0.56651154466094034},{"$f":"CORREL(L28:L39,F28:F39)","v":-0.60440746738595663},{"$f":"CORREL(M28:M39,G28:G39)","v":-0.57361417463339359}]
[64,{"$f":"Foglio1!H136","v":270},{"$f":"Foglio1!I136","v":83},{"$f":"Foglio1!J136","v":118},{"$f":"Foglio1!K136","v":403},{"$f":"Foglio1!L136","v":285},268.66666666666669,"F",null,622266105.378528,622266105.378528,622266105.378528,622266105.378528]
[909,{"$f":"Foglio1!H147","v":423},{"$f":"Foglio1!I147","v":70},{"$f":"Foglio1!J147","v":134},{"$f":"Foglio1!K147","v":198},{"$f":"Foglio1!L147","v":109},147,"F",null,768376971.67759335,768376971.67759335,768376971.67759335,768376971.67759335]
[162,{"$f":"Foglio1!H158","v":589},{"$f":"Foglio1!I158","v":9},{"$f":"Foglio1!J158","v":214},{"$f":"Foglio1!K158","v":31},{"$f":"Foglio1!L158","v":80},108.33333333333333,"F",null,2379488686.2590399,2379488686.2590399,2379488686.2590399,2379488686.2590399]
[294,{"$f":"Foglio1!H169","v":324},{"$f":"Foglio1!I169","v":322},{"$f":"Foglio1!J169","v":323},{"$f":"Foglio1!K169","v":293},{"$f":"Foglio1!L169","v":522},379.33333333333331,"F",null,315079227.70526999,315079227.70526999,315079227.70526999,315079227.70526999]
[351,{"$f":"Foglio1!H180","v":290},{"$f":"Foglio1!I180","v":273},{"$f":"Foglio1!J180","v":245},{"$f":"Foglio1!K180","v":282},{"$f":"Foglio1!L180","v":448},325,"F",null,481642319.17229158,481642319.17229158,481642319.17229158,481642319.17229158]
[59,{"$f":"Foglio1!H334","v":315},{"$f":"Foglio1!I334","v":171},{"$f":"Foglio1!J334","v":349},{"$f":"Foglio1!K334","v":334},{"$f":"Foglio1!L334","v":316},333,"M",null,109635969.173556,109635969.173556,109635969.173556,109635969.173556]
[61,{"$f":"Foglio1!H345","v":389},{"$f":"Foglio1!I345","v":242},{"$f":"Foglio1!J345","v":469},{"$f":"Foglio1!K345","v":560},{"$f":"Foglio1!L345","v":663},564,"M",null,339719202.84032732,339719202.84032732,339719202.84032732,339719202.84032732]
[62,{"$f":"Foglio1!H356","v":158},{"$f":"Foglio1!I356","v":394},{"$f":"Foglio1!J356","v":238},{"$f":"Foglio1!K356","v":551},{"$f":"Foglio1!L356","v":441},410,"M",null,223607197.98994404,223607197.98994404,223607197.98994404,223607197.98994404]
[212,{"$f":"Foglio1!H367","v":431},{"$f":"Foglio1!I367","v":200},{"$f":"Foglio1!J367","v":191},{"$f":"Foglio1!K367","v":693},{"$f":"Foglio1!L367","v":459},447.66666666666669,"M",null,778935094.88065529,778935094.88065529,778935094.88065529,778935094.88065529]
[213,{"$f":"Foglio1!H378","v":397},{"$f":"Foglio1!I378","v":129},{"$f":"Foglio1!J378","v":17},{"$f":"Foglio1!K378","v":258},{"$f":"Foglio1!L378","v":234},169.66666666666666,"M",null,536433655.51437306,536433655.51437306,536433655.51437306,536433655.51437306]
[221,{"$f":"Foglio1!H389","v":168},{"$f":"Foglio1!I389","v":231},{"$f":"Foglio1!J389","v":367},{"$f":"Foglio1!K389","v":422},{"$f":"Foglio1!L389","v":424},404.33333333333331,"M",null,560231764.58800805,560231764.58800805,560231764.58800805,560231764.58800805]
["BM5","OF","SHAM","T1","T2","T3","Total",{"$nulls":5},"Total",null,"T1","T2","T3","Total"]
[63,{"$f":"Foglio1!H127","v":284},{"$f":"Foglio1!I127","v":149},{"$f":"Foglio1!J127","v":181},{"$f":"Foglio1!K127","v":286},{"$f":"Foglio1!L127","v":164},{"$f":"AVERAGE(D41:F41)","v":210.33333333333334},null,null,340578590.15856004,340578590.15856004,340578590.15856004,340578590.15856004,null,{"$f":"CORREL(J41:J52,D41:D52)","v":0.57593802691541429},{"$f":"CORREL(K41:K52,E41:E52)","v":0.39390621558280015},{"$f":"CORREL(L41:L52,F41:F52)","v":0.50344257673207826},{"$f":"CORREL(M41:M52,G41:G52)","v":0.5220058974487507}]
[64,{"$f":"Foglio1!H138","v":758},{"$f":"Foglio1!I138","v":585},{"$f":"Foglio1!J138","v":870},{"$f":"Foglio1!K138","v":656},{"$f":"Foglio1!L138","v":542},689.33333333333337,null,null,622266105.378528,622266105.378528,622266105.378528,622266105.378528]
[909,{"$f":"Foglio1!H149","v":70},{"$f":"Foglio1!I149","v":118},{"$f":"Foglio1!J149","v":363},{"$f":"Foglio1!K149","v":35},{"$f":"Foglio1!L149","v":293},230.33333333333334,null,null,768376971.67759335,768376971.67759335,768376971.67759335,768376971.67759335]
[162,{"$f":"Foglio1!H160","v":253},{"$f":"Foglio1!I160","v":211},{"$f":"Foglio1!J160","v":933},{"$f":"Foglio1!K160","v":757},{"$f":"Foglio1!L160","v":835},841.66666666666663,null,null,2379488686.2590399,2379488686.2590399,2379488686.2590399,2379488686.2590399]
[294,{"$f":"Foglio1!H171","v":434},{"$f":"Foglio1!I171","v":620},{"$f":"Foglio1!J171","v":629},{"$f":"Foglio1!K171","v":483},{"$f":"Foglio1!L171","v":528},546.66666666666663,null,null,315079227.70526999,315079227.70526999,315079227.70526999,315079227.70526999]
[351,{"$f":"Foglio1!H182","v":437},{"$f":"Foglio1!I182","v":550},{"$f":"Foglio1!J182","v":446},{"$f":"Foglio1!K182","v":471},{"$f":"Foglio1!L182","v":275},397.33333333333331,null,null,481642319.17229158,481642319.17229158,481642319.17229158,481642319.17229158]
[59,{"$f":"Foglio1!H336","v":397},{"$f":"Foglio1!I336","v":413},{"$f":"Foglio1!J336","v":398},{"$f":"Foglio1!K336","v":330},{"$f":"Foglio1!L336","v":239},322.33333333333331,null,null,109635969.173556,109635969.173556,109635969.173556,109635969.173556]
[61,{"$f":"Foglio1!H347","v":567},{"$f":"Foglio1!I347","v":367},{"$f":"Foglio1!J347","v":462},{"$f":"Foglio1!K347","v":276},{"$f":"Foglio1!L347","v":137},291.66666666666669,null,null,339719202.84032732,339719202.84032732,339719202.84032732,339719202.84032732]
[62,{"$f":"Foglio1!H358","v":1777},{"$f":"Foglio1!I358","v":293},{"$f":"Foglio1!J358","v":635},{"$f":"Foglio1!K358","v":710},{"$f":"Foglio1!L358","v":710},685,null,null,223607197.98994404,223607197.98994404,223607197.98994404,223607197.98994404]
[212,{"$f":"Foglio1!H369","v":406},{"$f":"Foglio1!I369","v":1036},{"$f":"Foglio1!J369","v":888},{"$f":"Foglio1!K369","v":726},{"$f":"Foglio1!L369","v":1032},882,null,null,778935094.88065529,778935094.88065529,778935094.88065529,778935094.88065529]
[213,{"$f":"Foglio1!H380","v":203},{"$f":"Foglio1!I380","v":557},{"$f":"Foglio1!J380","v":542},{"$f":"Foglio1!K380","v":257},{"$f":"Foglio1!L380","v":217},338.66666666666669,null,null,536433655.51437306,536433655.51437306,536433655.51437306,536433655.51437306]
[221,{"$f":"Foglio1!H391","v":337},{"$f":"Foglio1!I391","v":479},{"$f":"Foglio1!J391","v":480},{"$f":"Foglio1!K391","v":444},{"$f":"Foglio1!L391","v":472},465.33333333333331,null,null,560231764.58800805,560231764.58800805,560231764.58800805,560231764.58800805]
["BM6","OF","SHAM","T1","T2","T3","Total",{"$nulls":5},"Total",null,"T1","T2","T3","Total"]
[63,{"$f":"Foglio1!H128","v":914},{"$f":"Foglio1!I128","v":442},{"$f":"Foglio1!J128","v":901},{"$f":"Foglio1!K128","v":678},{"$f":"Foglio1!L128","v":806},{"$f":"AVERAGE(D54:F54)","v":795},"F",null,340578590.15856004,340578590.15856004,340578590.15856004,340578590.15856004,null,{"$f":"CORREL(J54:J65,D54:D65)","v":-0.25924109759576469},{"$f":"CORREL(K54:K65,E54:E65)","v":8.8081722729526964E-3},{"$f":"CORREL(L54:L65,F54:F65)","v":-0.19368198756090077},{"$f":"CORREL(M54:M65,G54:G65)","v":-0.19208689721062278}]
[64,{"$f":"Foglio1!H139","v":651},{"$f":"Foglio1!I139","v":417},{"$f":"Foglio1!J139","v":477},{"$f":"Foglio1!K139","v":753},{"$f":"Foglio1!L139","v":678},636,"F",null,622266105.378528,622266105.378528,622266105.378528,622266105.378528]
[909,{"$f":"Foglio1!H150","v":1014},{"$f":"Foglio1!I150","v":488},{"$f":"Foglio1!J150","v":398},{"$f":"Foglio1!K150","v":777},{"$f":"Foglio1!L150","v":678},617.66666666666663,"F",null,768376971.67759335,768376971.67759335,768376971.67759335,768376971.67759335]
[162,{"$f":"Foglio1!H161","v":754},{"$f":"Foglio1!I161","v":985},{"$f":"Foglio1!J161","v":453},{"$f":"Foglio1!K161","v":680},{"$f":"Foglio1!L161","v":606},579.66666666666663,"F",null,2379488686.2590399,2379488686.2590399,2379488686.2590399,2379488686.2590399]
[294,{"$f":"Foglio1!H172","v":1047},{"$f":"Foglio1!I172","v":661},{"$f":"Foglio1!J172","v":788},{"$f":"Foglio1!K172","v":847},{"$f":"Foglio1!L172","v":817},817.33333333333337,"F",null,315079227.70526999,315079227.70526999,315079227.70526999,315079227.70526999]
[351,{"$f":"Foglio1!H183","v":995},{"$f":"Foglio1!I183","v":897},{"$f":"Foglio1!J183","v":874},{"$f":"Foglio1!K183","v":900},{"$f":"Foglio1!L183","v":1069},947.66666666666663,"F",null,481642319.17229158,481642319.17229158,481642319.17229158,481642319.17229158]
[59,{"$f":"Foglio1!H337","v":677},{"$f":"Foglio1!I337","v":674},{"$f":"Foglio1!J337","v":731},{"$f":"Foglio1!K337","v":868},{"$f":"Foglio1!L337","v":808},802.33333333333337,"M",null,109635969.173556,109635969.173556,109635969.173556,109635969.173556]
[61,{"$f":"Foglio1!H348","v":584},{"$f":"Foglio1!I348","v":676},{"$f":"Foglio1!J348","v":510},{"$f":"Foglio1!K348","v":459},{"$f":"Foglio1!L348","v":485},484.66666666666669,"M",null,339719202.84032732,339719202.84032732,339719202.84032732,339719202.84032732]
[62,{"$f":"Foglio1!H359","v":485},{"$f":"Foglio1!I359","v":201},{"$f":"Foglio1!J359","v":357},{"$f":"Foglio1!K359","v":407},{"$f":"Foglio1!L359","v":490},418,"M",null,223607197.98994404,223607197.98994404,223607197.98994404,223607197.98994404]
[212,{"$f":"Foglio1!H370","v":547},{"$f":"Foglio1!I370","v":533},{"$f":"Foglio1!J370","v":654},{"$f":"Foglio1!K370","v":745},{"$f":"Foglio1!L370","v":598},665.66666666666663,"M",null,778935094.88065529,778935094.88065529,778935094.88065529,778935094.88065529]
[213,{"$f":"Foglio1!H381","v":493},{"$f":"Foglio1!I381","v":504},{"$f":"Foglio1!J381","v":317},{"$f":"Foglio1!K381","v":763},{"$f":"Foglio1!L381","v":626},568.66666666666663,"M",null,536433655.51437306,536433655.51437306,536433655.51437306,536433655.51437306]
[221,{"$f":"Foglio1!H392","v":727},{"$f":"Foglio1!I392","v":725},{"$f":"Foglio1!J392","v":1060},{"$f":"Foglio1!K392","v":717},{"$f":"Foglio1!L392","v":928},901.66666666666663,"M",null,560231764.58800805,560231764.58800805,560231764.58800805,560231764.58800805]
["BM7","OF","SHAM","T1","T2","T3","Total",{"$nulls":5},"Total",null,"T1","T2","T3","Total"]
[63,{"$f":"Foglio1!H129","v":186},{"$f":"Foglio1!I129","v":9},{"$f":"Foglio1!J129","v":35},{"$f":"Foglio1!K129","v":329},{"$f":"Foglio1!L129","v":115},{"$f":"AVERAGE(D67:F67)","v":159.66666666666666},"F",null,340578590.15856004,340578590.15856004,340578590.15856004,340578590.15856004,null,{"$f":"CORREL(J67:J78,D67:D78)","v":-0.57802642743774957},{"$f":"CORREL(K67:K78,E67:E78)","v":-0.26142081970931275},{"$f":"CORREL(L67:L78,F67:F78)","v":-0.31929544824564637},{"$f":"CORREL(M67:M78,G67:G78)","v":-0.42175722751651734}]
[64,{"$f":"Foglio1!H140","v":360},{"$f":"Foglio1!I140","v":33},{"$f":"Foglio1!J140","v":66},{"$f":"Foglio1!K140","v":162},{"$f":"Foglio1!L140","v":286},171.33333333333334,"F",null,622266105.378528,622266105.378528,622266105.378528,622266105.378528]
[909,{"$f":"Foglio1!H151","v":496},{"$f":"Foglio1!I151","v":79},{"$f":"Foglio1!J151","v":61},{"$f":"Foglio1!K151","v":166},{"$f":"Foglio1!L151","v":58},95,"F",null,768376971.67759335,768376971.67759335,768376971.67759335,768376971.67759335]
[162,{"$nulls":6},"F",null,2379488686.2590399,2379488686.2590399,2379488686.2590399,2379488686.2590399]
[294,{"$f":"Foglio1!H173","v":335},{"$f":"Foglio1!I173","v":410},{"$f":"Foglio1!J173","v":208},{"$f":"Foglio1!K173","v":355},{"$f":"Foglio1!L173","v":396},319.66666666666669,"F",null,315079227.70526999,315079227.70526999,315079227.70526999,315079227.70526999]
[351,{"$f":"Foglio1!H184","v":201},{"$f":"Foglio1!I184","v":36},{"$f":"Foglio1!J184","v":44},{"$f":"Foglio1!K184","v":174},{"$f":"Foglio1!L184","v":260},159.33333333333334,"F",null,481642319.17229158,481642319.17229158,481642319.17229158,481642319.17229158]
[59,{"$f":"Foglio1!H338","v":236},{"$f":"Foglio1!I338","v":119},{"$f":"Foglio1!J338","v":252},{"$f":"Foglio1!K338","v":130},{"$f":"Foglio1!L338","v":190},190.66666666666666,"M",null,109635969.173556,109635969.173556,109635969.173556,109635969.173556]
[61,{"$f":"Foglio1!H349","v":392},{"$f":"Foglio1!I349","v":288},{"$f":"Foglio1!J349","v":474},{"$f":"Foglio1!K349","v":539},{"$f":"Foglio1!L349","v":602},538.33333333333337,"M",null,339719202.84032732,339719202.84032732,339719202.84032732,339719202.84032732]
[62,{"$f":"Foglio1!H360","v":217},{"$f":"Foglio1!I360","v":80},{"$f":"Foglio1!J360","v":202},{"$f":"Foglio1!K360","v":259},{"$f":"Foglio1!L360","v":113},191.33333333333334,"M",null,223607197.98994404,223607197.98994404,223607197.98994404,223607197.98994404]
[212,{"$f":"Foglio1!H371","v":166},{"$f":"Foglio1!I371","v":98},{"$f":"Foglio1!J371","v":21},{"$f":"Foglio1!K371","v":160},{"$f":"Foglio1!L371","v":78},86.333333333333329,"M",null,778935094.88065529,778935094.88065529,778935094.88065529,778935094.88065529]
[213,{"$f":"Foglio1!H382","v":401},{"$f":"Foglio1!I382","v":130},{"$f":"Foglio1!J382","v":0},{"$f":"Foglio1!K382","v":60},{"$f":"Foglio1!L382","v":98},52.666666666666664,"M",null,536433655.51437306,536433655.51437306,536433655.51437306,536433655.51437306]
[221,{"$f":"Foglio1!H393","v":226},{"$f":"Foglio1!I393","v":214},{"$f":"Foglio1!J393","v":162},{"$f":"Foglio1!K393","v":454},{"$f":"Foglio1!L393","v":250},288.66666666666669,"M",null,560231764.58800805,560231764.58800805,560231764.58800805,560231764.58800805]
["BM8","OF","SHAM","T1","T2","T3","Total",{"$nulls":5},"Total",null,"T1","T2","T3","Total"]
[63,{"$f":"Foglio1!H130","v":768},{"$f":"Foglio1!I130","v":1507},{"$f":"Foglio1!J130","v":1660},{"$f":"Foglio1!K130","v":791},{"$f":"Foglio1!L130","v":1205},{"$f":"AVERAGE(D80:F80)","v":1218.6666666666667},"F",null,340578590.15856004,340578590.15856004,340578590.15856004,340578590.15856004,null,{"$f":"CORREL(J80:J91,D80:D91)","v":-0.25278748296882014},{"$f":"CORREL(K80:K91,E80:E91)","v":0.5737829120794371},{"$f":"CORREL(L80:L91,F80:F91)","v":0.34172361608756568},{"$f":"CORREL(M80:M91,G80:G91)","v":0.22289722716110591}]
[64,{"$f":"Foglio1!H141","v":378},{"$f":"Foglio1!I141","v":658},{"$f":"Foglio1!J141","v":564},{"$f":"Foglio1!K141","v":427},{"$f":"Foglio1!L141","v":519},503.33333333333331,"F",null,622266105.378528,622266105.378528,622266105.378528,622266105.378528]
[909,{"$f":"Foglio1!H152","v":537},{"$f":"Foglio1!I152","v":1868},{"$f":"Foglio1!J152","v":1585},{"$f":"Foglio1!K152","v":1166},{"$f":"Foglio1!L152","v":1272},1341,"F",null,768376971.67759335,768376971.67759335,768376971.67759335,768376971.67759335]
[162,{"$f":"Foglio1!H163","v":384},{"$f":"Foglio1!I163","v":834},{"$f":"Foglio1!J163","v":499},{"$f":"Foglio1!K163","v":1535},{"$f":"Foglio1!L163","v":1396},1143.3333333333333,"F",null,2379488686.2590399,2379488686.2590399,2379488686.2590399,2379488686.2590399]
[294,{"$f":"Foglio1!H174","v":532},{"$f":"Foglio1!I174","v":725},{"$f":"Foglio1!J174","v":583},{"$f":"Foglio1!K174","v":589},{"$f":"Foglio1!L174","v":523},565,"F",null,315079227.70526999,315079227.70526999,315079227.70526999,315079227.70526999]
[351,{"$f":"Foglio1!H185","v":291},{"$f":"Foglio1!I185","v":126},{"$f":"Foglio1!J185","v":361},{"$f":"Foglio1!K185","v":285},{"$f":"Foglio1!L185","v":101},249,"F",null,481642319.17229158,481642319.17229158,481642319.17229158,481642319.17229158]
[59,{"$f":"Foglio1!H339","v":1344},{"$f":"Foglio1!I339","v":1321},{"$f":"Foglio1!J339","v":1140},{"$f":"Foglio1!K339","v":998},{"$f":"Foglio1!L339","v":1088},1075.3333333333333,"M",null,109635969.173556,109635969.173556,109635969.173556,109635969.173556]
[61,{"$f":"Foglio1!H350","v":784},{"$f":"Foglio1!I350","v":387},{"$f":"Foglio1!J350","v":627},{"$f":"Foglio1!K350","v":374},{"$f":"Foglio1!L350","v":317},439.33333333333331,"M",null,339719202.84032732,339719202.84032732,339719202.84032732,339719202.84032732]
[62,{"$f":"Foglio1!H361","v":838},{"$f":"Foglio1!I361","v":1209},{"$f":"Foglio1!J361","v":1151},{"$f":"Foglio1!K361","v":912},{"$f":"Foglio1!L361","v":1231},1098,"M",null,223607197.98994404,223607197.98994404,223607197.98994404,223607197.98994404]
[212,{"$f":"Foglio1!H372","v":589},{"$f":"Foglio1!I372","v":524},{"$f":"Foglio1!J372","v":651},{"$f":"Foglio1!K372","v":382},{"$f":"Foglio1!L372","v":439},490.66666666666669,"M",null,778935094.88065529,778935094.88065529,778935094.88065529,778935094.88065529]
[213,{"$f":"Foglio1!H383","v":643},{"$f":"Foglio1!I383","v":862},{"$f":"Foglio1!J383","v":452},{"$f":"Foglio1!K383","v":367},{"$f":"Foglio1!L383","v":432},417,"M",null,536433655.51437306,536433655.51437306,536433655.51437306,536433655.51437306]
[221,{"$f":"Foglio1!H394","v":780},{"$f":"Foglio1!I394","v":766},{"$f":"Foglio1!J394","v":357},{"$f":"Foglio1!K394","v":586},{"$f":"Foglio1!L394","v":526},489.66666666666669,"M",null,560231764.58800805,560231764.58800805,560231764.58800805,560231764.58800805]
["BM9","OF","SHAM","T1","T2","T3","Total",{"$nulls":5},"Total",null,"T1","T2","T3","Total"]
[63,{"$f":"Foglio1!H131","v":797},{"$f":"Foglio1!I131","v":2133},{"$f":"Foglio1!J131","v":858},{"$f":"Foglio1!K131","v":1138},{"$f":"Foglio1!L131","v":915},{"$f":"AVERAGE(D93:F93)","v":970.33333333333337},"F",null,340578590.15856004,340578590.15856004,340578590.15856004,340578590.15856004,null,{"$f":"CORREL(J93:J104,D93:D104)","v":-0.12559081250813001},{"$f":"CORREL(K93:K104,E93:E104)","v":0.18756276616219539},{"$f":"CORREL(L93:L104,F93:F104)","v":0.30105850899981457},{"$f":"CORREL(M93:M104,G93:G104)","v":9.9740695029053E-2}]
[64,{"$f":"Foglio1!H142","v":961},{"$f":"Foglio1!I142","v":2376},{"$f":"Foglio1!J142","v":1597},{"$f":"Foglio1!K142","v":1253},{"$f":"Foglio1!L142","v":1299},1383,"F",null,622266105.378528,622266105.378528,622266105.378528,622266105.378528]
[909,{"$f":"Foglio1!H153","v":530},{"$f":"Foglio1!I153","v":623},{"$f":"Foglio1!J153","v":963},{"$f":"Foglio1!K153","v":196},{"$f":"Foglio1!L153","v":577},578.66666666666663,"F",null,768376971.67759335,768376971.67759335,768376971.67759335,768376971.67759335]
[162,{"$f":"Foglio1!H164","v":522},{"$f":"Foglio1!I164","v":2300},{"$f":"Foglio1!J164","v":406},{"$f":"Foglio1!K164","v":980},{"$f":"Foglio1!L164","v":1005},797,"F",null,2379488686.2590399,2379488686.2590399,2379488686.2590399,2379488686.2590399]
[294,{"$f":"Foglio1!H175","v":929},{"$f":"Foglio1!I175","v":1014},{"$f":"Foglio1!J175","v":1332},{"$f":"Foglio1!K175","v":1168},{"$f":"Foglio1!L175","v":924},1141.3333333333333,"F",null,315079227.70526999,315079227.70526999,315079227.70526999,315079227.70526999]
[351,{"$f":"Foglio1!H186","v":738},{"$f":"Foglio1!I186","v":1960},{"$f":"Foglio1!J186","v":1378},{"$f":"Foglio1!K186","v":1151},{"$f":"Foglio1!L186","v":1218},1249,"F",null,481642319.17229158,481642319.17229158,481642319.17229158,481642319.17229158]
[59,{"$f":"Foglio1!H340","v":88},{"$f":"Foglio1!I340","v":590},{"$f":"Foglio1!J340","v":335},{"$f":"Foglio1!K340","v":283},{"$f":"Foglio1!L340","v":327},315,null,null,109635969.173556,109635969.173556,109635969.173556,109635969.173556]
[61,{"$f":"Foglio1!H351","v":384},{"$f":"Foglio1!I351","v":875},{"$f":"Foglio1!J351","v":480},{"$f":"Foglio1!K351","v":499},{"$f":"Foglio1!L351","v":456},478.33333333333331,null,null,339719202.84032732,339719202.84032732,339719202.84032732,339719202.84032732]
[62,{"$f":"Foglio1!H362","v":169},{"$f":"Foglio1!I362","v":382},{"$f":"Foglio1!J362","v":523},{"$f":"Foglio1!K362","v":296},{"$f":"Foglio1!L362","v":336},385,null,null,223607197.98994404,223607197.98994404,223607197.98994404,223607197.98994404]
[212,{"$f":"Foglio1!H373","v":1014},{"$f":"Foglio1!I373","v":1864},{"$f":"Foglio1!J373","v":1674},{"$f":"Foglio1!K373","v":1308},{"$f":"Foglio1!L373","v":1291},1424.3333333333333,null,null,778935094.88065529,778935094.88065529,778935094.88065529,778935094.88065529]
[213,{"$f":"Foglio1!H384","v":682},{"$f":"Foglio1!I384","v":1492},{"$f":"Foglio1!J384","v":2089},{"$f":"Foglio1!K384","v":1456},{"$f":"Foglio1!L384","v":1360},1635,null,null,536433655.51437306,536433655.51437306,536433655.51437306,536433655.51437306]
[221,{"$f":"Foglio1!H395","v":488},{"$f":"Foglio1!I395","v":698},{"$f":"Foglio1!J395","v":854},{"$f":"Foglio1!K395","v":420},{"$f":"Foglio1!L395","v":517},597,null,null,560231764.58800805,560231764.58800805,560231764.58800805,560231764.58800805]
["BM10","OF","SHAM","T1","T2","T3","Total",{"$nulls":5},"Total",null,"T1","T2","T3","Total"]
[63,{"$f":"Foglio1!H132","v":273},{"$f":"Foglio1!I132","v":9},{"$f":"Foglio1!J132","v":24},{"$f":"Foglio1!K132","v":165},{"$f":"Foglio1!L132","v":76},{"$f":"AVERAGE(D106:F106)","v":88.333333333333329},"F",null,340578590.15856004,340578590.15856004,340578590.15856004,340578590.15856004,null,{"$f":"CORREL(J106:J117,D106:D117)","v":-0.42341891339881088},{"$f":"CORREL(K106:K117,E106:E117)","v":-0.36095457016521526},{"$f":"CORREL(L106:L117,F106:F117)","v":-0.40495085357324934},{"$f":"CORREL(M106:M117,G106:G117)","v":-0.42557836496796969}]
[64,{"$f":"Foglio1!H143","v":445},{"$f":"Foglio1!I143","v":67},{"$f":"Foglio1!J143","v":145},{"$f":"Foglio1!K143","v":170},{"$f":"Foglio1!L143","v":177},164,"F",null,622266105.378528,622266105.378528,622266105.378528,622266105.378528]
[909,{"$f":"Foglio1!H154","v":223},{"$f":"Foglio1!I154","v":46},{"$f":"Foglio1!J154","v":77},{"$f":"Foglio1!K154","v":208},{"$f":"Foglio1!L154","v":79},121.33333333333333,"F",null,768376971.67759335,768376971.67759335,768376971.67759335,768376971.67759335]
[162,{"$nulls":6},"F",null,2379488686.2590399,2379488686.2590399,2379488686.2590399,2379488686.2590399]
[294,{"$f":"Foglio1!H176","v":414},{"$f":"Foglio1!I176","v":388},{"$f":"Foglio1!J176","v":155},{"$f":"Foglio1!K176","v":326},{"$f":"Foglio1!L176","v":174},218.33333333333334,"F",null,315079227.70526999,315079227.70526999,315079227.70526999,315079227.70526999]
[351,{"$f":"Foglio1!H187","v":267},{"$f":"Foglio1!I187","v":43},{"$f":"Foglio1!J187","v":27},{"$f":"Foglio1!K187","v":164},{"$f":"Foglio1!L187","v":137},109.33333333333333,"F",null,481642319.17229158,481642319.17229158,481642319.17229158,481642319.17229158]
[59,{"$f":"Foglio1!H341","v":445},{"$f":"Foglio1!I341","v":249},{"$f":"Foglio1!J341","v":199},{"$f":"Foglio1!K341","v":347},{"$f":"Foglio1!L341","v":267},271,"M",null,109635969.173556,109635969.173556,109635969.173556,109635969.173556]
[61,{"$f":"Foglio1!H352","v":304},{"$f":"Foglio1!I352","v":388},{"$f":"Foglio1!J352","v":261},{"$f":"Foglio1!K352","v":497},{"$f":"Foglio1!L352","v":722},493.33333333333331,"M",null,339719202.84032732,339719202.84032732,339719202.84032732,339719202.84032732]
[62,{"$f":"Foglio1!H363","v":450},{"$f":"Foglio1!I363","v":20},{"$f":"Foglio1!J363","v":86},{"$f":"Foglio1!K363","v":163},{"$f":"Foglio1!L363","v":247},165.33333333333334,"M",null,223607197.98994404,223607197.98994404,223607197.98994404,223607197.98994404]
[212,{"$f":"Foglio1!H374","v":480},{"$f":"Foglio1!I374","v":52},{"$f":"Foglio1!J374","v":46},{"$f":"Foglio1!K374","v":56},{"$f":"Foglio1!L374","v":98},66.666666666666671,"M",null,778935094.88065529,778935094.88065529,778935094.88065529,778935094.88065529]
[213,{"$f":"Foglio1!H385","v":956},{"$f":"Foglio1!I385","v":118},{"$f":"Foglio1!J385","v":0},{"$f":"Foglio1!K385","v":9},{"$f":"Foglio1!L385","v":42},17,"M",null,536433655.51437306,536433655.51437306,536433655.51437306,536433655.51437306]
[221,{"$f":"Foglio1!H396","v":636},{"$f":"Foglio1!I396","v":266},{"$f":"Foglio1!J396","v":117},{"$f":"Foglio1!K396","v":501},{"$f":"Foglio1!L396","v":220},279.33333333333331,"M",null,560231764.58800805,560231764.58800805,560231764.58800805,560231764.58800805]

{"sheet":"BLA","index":2,"n_rows":117,"n_cols":27,"rows_kept":117,"cut":false,"hidden":false,"merged":[]}
["BM1","OF","SHAM","T1","T2","T3","Average",null,null,"BM1",null,null,"T1","T2","T3","Total",null,"T1","T2","T3","Total",null,null,"T1","T2","T3","Total"]
[63,{"$f":"Foglio1!H123","v":593},{"$f":"Foglio1!I123","v":99},{"$f":"Foglio1!J123","v":126},{"$f":"Foglio1!K123","v":272},{"$f":"Foglio1!L123","v":251},{"$f":"AVERAGE(D2:F2)","v":216.33333333333334},"F",null,63,null,null,392536142.27842671,392536142.27842671,392536142.27842671,392536142.27842671,null,{"$f":"CORREL(M2:M13,D2:D13)","v":-0.35034665739585902},{"$f":"CORREL(N2:N13,E2:E13)","v":-0.30896882177061114},0.15979482015142787,{"$f":"CORREL(P2:P13,G2:G13)","v":-0.19681709531768518},null,"BM1",{"$f":"R2","v":-0.35034665739585902},{"$f":"S2","v":-0.30896882177061114},{"$f":"T2","v":0.15979482015142787},{"$f":"U2","v":-0.19681709531768518}]
[64,{"$f":"Foglio1!H134","v":231},{"$f":"Foglio1!I134","v":173},{"$f":"Foglio1!J134","v":395},{"$f":"Foglio1!K134","v":486},{"$f":"Foglio1!L134","v":470},450.33333333333331,"F",null,64,null,null,864109598.80300808,864109598.80300808,864109598.80300808,864109598.80300808,{"$nulls":6},"BM2",{"$f":"R15","v":-0.11855674746869435},{"$f":"S15","v":0.14821327064273096},{"$f":"T15","v":1.1710579903348102E-2},{"$f":"U15","v":3.5330152893707667E-2}]
[909,{"$f":"Foglio1!H145","v":818},{"$f":"Foglio1!I145","v":215},{"$f":"Foglio1!J145","v":181},{"$f":"Foglio1!K145","v":264},{"$f":"Foglio1!L145","v":332},259,"F",null,909,null,null,686814280.02155399,686814280.02155399,686814280.02155399,686814280.02155399,{"$nulls":6},"BM3",{"$f":"R28","v":-0.5909920451050088},{"$f":"S28","v":-0.2956783893762544},{"$f":"T28","v":-0.29841151903909791},{"$f":"U28","v":-0.45439667418367569}]
[162,{"$f":"Foglio1!H156","v":1361},{"$f":"Foglio1!I156","v":161},{"$f":"Foglio1!J156","v":754},{"$f":"Foglio1!K156","v":208},{"$f":"Foglio1!L156","v":184},382,"F",null,162,null,null,369755427.14550668,369755427.14550668,369755427.14550668,369755427.14550668,{"$nulls":6},"BM4",{"$f":"R41","v":0.2496778006121296},{"$f":"S41","v":-7.2178325652268838E-2},{"$f":"T41","v":5.3335231103552545E-2},{"$f":"U41","v":8.0823447751943667E-2}]
[294,{"$f":"Foglio1!H167","v":485},{"$f":"Foglio1!I167","v":361},{"$f":"Foglio1!J167","v":483},{"$f":"Foglio1!K167","v":440},{"$f":"Foglio1!L167","v":613},512,"F",null,294,null,null,778700692.08094537,778700692.08094537,778700692.08094537,778700692.08094537,{"$nulls":6},"BM5",{"$f":"R54","v":-0.16492521152496348},{"$f":"S54","v":0.45320995219836196},{"$f":"T54","v":0.14018781351575421},{"$f":"U54","v":0.10521008543408272}]
[351,{"$f":"Foglio1!H178","v":481},{"$f":"Foglio1!I178","v":316},{"$f":"Foglio1!J178","v":523},{"$f":"Foglio1!K178","v":488},{"$f":"Foglio1!L178","v":757},589.33333333333337,"F",null,351,null,null,484188662.8783223,484188662.8783223,484188662.8783223,484188662.8783223,{"$nulls":6},"BM6",{"$f":"R67","v":-0.59998380079717528},{"$f":"S67","v":-0.35596603326487603},{"$f":"T67","v":-0.14339161399276579},{"$f":"U67","v":-0.39331063069370031}]
[59,{"$f":"Foglio1!H332","v":116},{"$f":"Foglio1!I332","v":363},{"$f":"Foglio1!J332","v":418},{"$f":"Foglio1!K332","v":453},{"$f":"Foglio1!L332","v":363},411.33333333333331,"M",null,59,null,null,65338846.097357318,65338846.097357318,65338846.097357318,65338846.097357318,{"$nulls":6},"BM7",{"$f":"R80","v":-0.22880186398283142},{"$f":"S80","v":-0.28899838916966231},{"$f":"T80","v":-0.30167535106105731},{"$f":"U80","v":-0.30449114631057239}]
[61,{"$f":"Foglio1!H343","v":728},{"$f":"Foglio1!I343","v":778},{"$f":"Foglio1!J343","v":656},{"$f":"Foglio1!K343","v":851},{"$f":"Foglio1!L343","v":805},770.66666666666663,"M",null,61,null,null,164378989.54209766,164378989.54209766,164378989.54209766,164378989.54209766,{"$nulls":6},"BM8",{"$f":"R93","v":0.81179200051033729},{"$f":"S93","v":0.59470446297044377},{"$f":"T93","v":0.69466121941974102},{"$f":"U93","v":0.75128004212796307}]
[62,{"$f":"Foglio1!H354","v":120},{"$f":"Foglio1!I354","v":101},{"$f":"Foglio1!J354","v":335},{"$f":"Foglio1!K354","v":370},{"$f":"Foglio1!L354","v":287},330.66666666666669,"M",null,62,null,null,191976319.28626198,191976319.28626198,191976319.28626198,191976319.28626198,{"$nulls":6},"BM9",{"$f":"R106","v":-0.38586775879548085},{"$f":"S106","v":-0.43973861000592013},{"$f":"T106","v":-0.56463707850220424},{"$f":"U106","v":-0.52554718061796424}]
[212,{"$f":"Foglio1!H365","v":427},{"$f":"Foglio1!I365","v":179},{"$f":"Foglio1!J365","v":287},{"$f":"Foglio1!K365","v":350},{"$f":"Foglio1!L365","v":408},348.33333333333331,"M",null,212,null,null,479500852.87391329,479500852.87391329,479500852.87391329,479500852.87391329]
[213,{"$f":"Foglio1!H376","v":242},{"$f":"Foglio1!I376","v":198},{"$f":"Foglio1!J376","v":116},{"$f":"Foglio1!K376","v":266},{"$f":"Foglio1!L376","v":620},334,"M",null,213,null,null,796722673.46593666,796722673.46593666,796722673.46593666,796722673.46593666]
[221,{"$f":"Foglio1!H387","v":401},{"$f":"Foglio1!I387","v":482},{"$f":"Foglio1!J387","v":510},{"$f":"Foglio1!K387","v":629},{"$f":"Foglio1!L387","v":636},591.66666666666663,"M",null,221,null,null,414434834.75627196,414434834.75627196,414434834.75627196,414434834.75627196]
["BM2","OF","SHAM","T1","T2","T3","Total",null,null,"BM2",{"$nulls":5},"Total",null,"T1","T2","T3","Total"]
[63,{"$f":"Foglio1!H124","v":110},{"$f":"Foglio1!I124","v":20},{"$f":"Foglio1!J124","v":633},{"$f":"Foglio1!K124","v":354},{"$f":"Foglio1!L124","v":616},{"$f":"AVERAGE(D15:F15)","v":534.33333333333337},"F",null,63,null,null,392536142.27842671,392536142.27842671,392536142.27842671,392536142.27842671,null,{"$f":"CORREL(M15:M26,D15:D26)","v":-0.11855674746869435},0.14821327064273096,1.1710579903348102E-2,{"$f":"CORREL(P15:P26,G15:G26)","v":3.5330152893707667E-2}]
[64,{"$f":"Foglio1!H135","v":446},{"$f":"Foglio1!I135","v":109},{"$f":"Foglio1!J135","v":269},{"$f":"Foglio1!K135","v":191},{"$f":"Foglio1!L135","v":241},233.66666666666666,"F",null,64,null,null,864109598.80300808,864109598.80300808,864109598.80300808,864109598.80300808]
[909,{"$f":"Foglio1!H146","v":389},{"$f":"Foglio1!I146","v":994},{"$f":"Foglio1!J146","v":739},{"$f":"Foglio1!K146","v":1491},{"$f":"Foglio1!L146","v":1099},1109.6666666666667,"F",null,909,null,null,686814280.02155399,686814280.02155399,686814280.02155399,686814280.02155399]
[162,{"$f":"Foglio1!H157","v":97},{"$f":"Foglio1!I157","v":9},{"$f":"Foglio1!J157","v":281},{"$f":"Foglio1!K157","v":269},{"$f":"Foglio1!L157","v":369},306.33333333333331,"F",null,162,null,null,369755427.14550668,369755427.14550668,369755427.14550668,369755427.14550668]
[294,{"$nulls":6},"F",null,294,null,null,778700692.08094537,778700692.08094537,778700692.08094537,778700692.08094537]
[351,{"$f":"Foglio1!H179","v":800},{"$f":"Foglio1!I179","v":300},{"$f":"Foglio1!J179","v":603},{"$f":"Foglio1!K179","v":586},{"$f":"Foglio1!L179","v":232},473.66666666666669,"F",null,351,null,null,484188662.8783223,484188662.8783223,484188662.8783223,484188662.8783223]
[59,{"$f":"Foglio1!H333","v":882},{"$f":"Foglio1!I333","v":601},{"$f":"Foglio1!J333","v":679},{"$f":"Foglio1!K333","v":758},{"$f":"Foglio1!L333","v":899},778.66666666666663,"M",null,59,null,null,65338846.097357318,65338846.097357318,65338846.097357318,65338846.097357318]
[61,{"$f":"Foglio1!H344","v":368},{"$f":"Foglio1!I344","v":500},{"$f":"Foglio1!J344","v":562},{"$f":"Foglio1!K344","v":446},{"$f":"Foglio1!L344","v":310},439.33333333333331,"M",null,61,null,null,164378989.54209766,164378989.54209766,164378989.54209766,164378989.54209766]
[62,{"$f":"Foglio1!H355","v":286},{"$f":"Foglio1!I355","v":1821},{"$f":"Foglio1!J355","v":974},{"$f":"Foglio1!K355","v":833},{"$f":"Foglio1!L355","v":642},816.33333333333337,"M",null,62,null,null,191976319.28626198,191976319.28626198,191976319.28626198,191976319.28626198]
[212,{"$f":"Foglio1!H366","v":440},{"$f":"Foglio1!I366","v":15},{"$f":"Foglio1!J366","v":89},{"$f":"Foglio1!K366","v":81},{"$f":"Foglio1!L366","v":94},88,"M",null,212,null,null,479500852.87391329,479500852.87391329,479500852.87391329,479500852.87391329]
[213,{"$f":"Foglio1!H377","v":483},{"$f":"Foglio1!I377","v":511},{"$f":"Foglio1!J377","v":968},{"$f":"Foglio1!K377","v":1068},{"$f":"Foglio1!L377","v":868},968,"M",null,213,null,null,796722673.46593666,796722673.46593666,796722673.46593666,796722673.46593666]
[221,{"$f":"Foglio1!H388","v":737},{"$f":"Foglio1!I388","v":640},{"$f":"Foglio1!J388","v":594},{"$f":"Foglio1!K388","v":328},{"$f":"Foglio1!L388","v":524},482,"M",null,221,null,null,414434834.75627196,414434834.75627196,414434834.75627196,414434834.75627196]
["BM3","OF","SHAM","T1","T2","T3","Total",null,null,"BM3",{"$nulls":5},"Total",null,"T1","T2","T3","Total"]
[63,{"$f":"Foglio1!H125","v":575},{"$f":"Foglio1!I125","v":141},{"$f":"Foglio1!J125","v":83},{"$f":"Foglio1!K125","v":488},{"$f":"Foglio1!L125","v":349},{"$f":"AVERAGE(D28:F28)","v":306.66666666666669},"F",null,63,null,null,392536142.27842671,392536142.27842671,392536142.27842671,392536142.27842671,null,{"$f":"CORREL(M28:M39,D28:D39)","v":-0.5909920451050088},-0.2956783893762544,-0.29841151903909791,{"$f":"CORREL(P28:P39,G28:G39)","v":-0.45439667418367569}]
[64,{"$f":"Foglio1!H136","v":270},{"$f":"Foglio1!I136","v":83},{"$f":"Foglio1!J136","v":118},{"$f":"Foglio1!K136","v":403},{"$f":"Foglio1!L136","v":285},268.66666666666669,"F",null,64,null,null,864109598.80300808,864109598.80300808,864109598.80300808,864109598.80300808]
[909,{"$f":"Foglio1!H147","v":423},{"$f":"Foglio1!I147","v":70},{"$f":"Foglio1!J147","v":134},{"$f":"Foglio1!K147","v":198},{"$f":"Foglio1!L147","v":109},147,"F",null,909,null,null,686814280.02155399,686814280.02155399,686814280.02155399,686814280.02155399]
[162,{"$f":"Foglio1!H158","v":589},{"$f":"Foglio1!I158","v":9},{"$f":"Foglio1!J158","v":214},{"$f":"Foglio1!K158","v":31},{"$f":"Foglio1!L158","v":80},108.33333333333333,"F",null,162,null,null,369755427.14550668,369755427.14550668,369755427.14550668,369755427.14550668]
[294,{"$f":"Foglio1!H169","v":324},{"$f":"Foglio1!I169","v":322},{"$f":"Foglio1!J169","v":323},{"$f":"Foglio1!K169","v":293},{"$f":"Foglio1!L169","v":522},379.33333333333331,"F",null,294,null,null,778700692.08094537,778700692.08094537,778700692.08094537,778700692.08094537]
[351,{"$f":"Foglio1!H180","v":290},{"$f":"Foglio1!I180","v":273},{"$f":"Foglio1!J180","v":245},{"$f":"Foglio1!K180","v":282},{"$f":"Foglio1!L180","v":448},325,"F",null,351,null,null,484188662.8783223,484188662.8783223,484188662.8783223,484188662.8783223]
[59,{"$f":"Foglio1!H334","v":315},{"$f":"Foglio1!I334","v":171},{"$f":"Foglio1!J334","v":349},{"$f":"Foglio1!K334","v":334},{"$f":"Foglio1!L334","v":316},333,"M",null,59,null,null,65338846.097357318,65338846.097357318,65338846.097357318,65338846.097357318]
[61,{"$f":"Foglio1!H345","v":389},{"$f":"Foglio1!I345","v":242},{"$f":"Foglio1!J345","v":469},{"$f":"Foglio1!K345","v":560},{"$f":"Foglio1!L345","v":663},564,"M",null,61,null,null,164378989.54209766,164378989.54209766,164378989.54209766,164378989.54209766]
[62,{"$f":"Foglio1!H356","v":158},{"$f":"Foglio1!I356","v":394},{"$f":"Foglio1!J356","v":238},{"$f":"Foglio1!K356","v":551},{"$f":"Foglio1!L356","v":441},410,"M",null,62,null,null,191976319.28626198,191976319.28626198,191976319.28626198,191976319.28626198]
[212,{"$f":"Foglio1!H367","v":431},{"$f":"Foglio1!I367","v":200},{"$f":"Foglio1!J367","v":191},{"$f":"Foglio1!K367","v":693},{"$f":"Foglio1!L367","v":459},447.66666666666669,"M",null,212,null,null,479500852.87391329,479500852.87391329,479500852.87391329,479500852.87391329]
[213,{"$f":"Foglio1!H378","v":397},{"$f":"Foglio1!I378","v":129},{"$f":"Foglio1!J378","v":17},{"$f":"Foglio1!K378","v":258},{"$f":"Foglio1!L378","v":234},169.66666666666666,"M",null,213,null,null,796722673.46593666,796722673.46593666,796722673.46593666,796722673.46593666]
[221,{"$f":"Foglio1!H389","v":168},{"$f":"Foglio1!I389","v":231},{"$f":"Foglio1!J389","v":367},{"$f":"Foglio1!K389","v":422},{"$f":"Foglio1!L389","v":424},404.33333333333331,"M",null,221,null,null,414434834.75627196,414434834.75627196,414434834.75627196,414434834.75627196]
["BM5","OF","SHAM","T1","T2","T3","Total",null,null,"BM5",{"$nulls":5},"Total",null,"T1","T2","T3","Total"]
[63,{"$f":"Foglio1!H127","v":284},{"$f":"Foglio1!I127","v":149},{"$f":"Foglio1!J127","v":181},{"$f":"Foglio1!K127","v":286},{"$f":"Foglio1!L127","v":164},{"$f":"AVERAGE(D41:F41)","v":210.33333333333334},null,null,63,null,null,392536142.27842671,392536142.27842671,392536142.27842671,392536142.27842671,null,{"$f":"CORREL(M41:M52,D41:D52)","v":0.2496778006121296},-7.2178325652268838E-2,5.3335231103552545E-2,{"$f":"CORREL(P41:P52,G41:G52)","v":8.0823447751943667E-2}]
[64,{"$f":"Foglio1!H138","v":758},{"$f":"Foglio1!I138","v":585},{"$f":"Foglio1!J138","v":870},{"$f":"Foglio1!K138","v":656},{"$f":"Foglio1!L138","v":542},689.33333333333337,null,null,64,null,null,864109598.80300808,864109598.80300808,864109598.80300808,864109598.80300808]
[909,{"$f":"Foglio1!H149","v":70},{"$f":"Foglio1!I149","v":118},{"$f":"Foglio1!J149","v":363},{"$f":"Foglio1!K149","v":35},{"$f":"Foglio1!L149","v":293},230.33333333333334,null,null,909,null,null,686814280.02155399,686814280.02155399,686814280.02155399,686814280.02155399]
[162,{"$f":"Foglio1!H160","v":253},{"$f":"Foglio1!I160","v":211},{"$f":"Foglio1!J160","v":933},{"$f":"Foglio1!K160","v":757},{"$f":"Foglio1!L160","v":835},841.66666666666663,null,null,162,null,null,369755427.14550668,369755427.14550668,369755427.14550668,369755427.14550668]
[294,{"$f":"Foglio1!H171","v":434},{"$f":"Foglio1!I171","v":620},{"$f":"Foglio1!J171","v":629},{"$f":"Foglio1!K171","v":483},{"$f":"Foglio1!L171","v":528},546.66666666666663,null,null,294,null,null,778700692.08094537,778700692.08094537,778700692.08094537,778700692.08094537]
[351,{"$f":"Foglio1!H182","v":437},{"$f":"Foglio1!I182","v":550},{"$f":"Foglio1!J182","v":446},{"$f":"Foglio1!K182","v":471},{"$f":"Foglio1!L182","v":275},397.33333333333331,null,null,351,null,null,484188662.8783223,484188662.8783223,484188662.8783223,484188662.8783223]
[59,{"$f":"Foglio1!H336","v":397},{"$f":"Foglio1!I336","v":413},{"$f":"Foglio1!J336","v":398},{"$f":"Foglio1!K336","v":330},{"$f":"Foglio1!L336","v":239},322.33333333333331,null,null,59,null,null,65338846.097357318,65338846.097357318,65338846.097357318,65338846.097357318]
[61,{"$f":"Foglio1!H347","v":567},{"$f":"Foglio1!I347","v":367},{"$f":"Foglio1!J347","v":462},{"$f":"Foglio1!K347","v":276},{"$f":"Foglio1!L347","v":137},291.66666666666669,null,null,61,null,null,164378989.54209766,164378989.54209766,164378989.54209766,164378989.54209766]
[62,{"$f":"Foglio1!H358","v":1777},{"$f":"Foglio1!I358","v":293},{"$f":"Foglio1!J358","v":635},{"$f":"Foglio1!K358","v":710},{"$f":"Foglio1!L358","v":710},685,null,null,62,null,null,191976319.28626198,191976319.28626198,191976319.28626198,191976319.28626198]
[212,{"$f":"Foglio1!H369","v":406},{"$f":"Foglio1!I369","v":1036},{"$f":"Foglio1!J369","v":888},{"$f":"Foglio1!K369","v":726},{"$f":"Foglio1!L369","v":1032},882,null,null,212,null,null,479500852.87391329,479500852.87391329,479500852.87391329,479500852.87391329]
[213,{"$f":"Foglio1!H380","v":203},{"$f":"Foglio1!I380","v":557},{"$f":"Foglio1!J380","v":542},{"$f":"Foglio1!K380","v":257},{"$f":"Foglio1!L380","v":217},338.66666666666669,null,null,213,null,null,796722673.46593666,796722673.46593666,796722673.46593666,796722673.46593666]
[221,{"$f":"Foglio1!H391","v":337},{"$f":"Foglio1!I391","v":479},{"$f":"Foglio1!J391","v":480},{"$f":"Foglio1!K391","v":444},{"$f":"Foglio1!L391","v":472},465.33333333333331,null,null,221,null,null,414434834.75627196,414434834.75627196,414434834.75627196,414434834.75627196]
["BM6","OF","SHAM","T1","T2","T3","Total",null,null,"BM6",{"$nulls":5},"Total",null,"T1","T2","T3","Total"]
[63,{"$f":"Foglio1!H128","v":914},{"$f":"Foglio1!I128","v":442},{"$f":"Foglio1!J128","v":901},{"$f":"Foglio1!K128","v":678},{"$f":"Foglio1!L128","v":806},{"$f":"AVERAGE(D54:F54)","v":795},"F",null,63,null,null,392536142.27842671,392536142.27842671,392536142.27842671,392536142.27842671,null,{"$f":"CORREL(M54:M65,D54:D65)","v":-0.16492521152496348},0.45320995219836196,0.14018781351575421,{"$f":"CORREL(P54:P65,G54:G65)","v":0.10521008543408272}]
[64,{"$f":"Foglio1!H139","v":651},{"$f":"Foglio1!I139","v":417},{"$f":"Foglio1!J139","v":477},{"$f":"Foglio1!K139","v":753},{"$f":"Foglio1!L139","v":678},636,"F",null,64,null,null,864109598.80300808,864109598.80300808,864109598.80300808,864109598.80300808]
[909,{"$f":"Foglio1!H150","v":1014},{"$f":"Foglio1!I150","v":488},{"$f":"Foglio1!J150","v":398},{"$f":"Foglio1!K150","v":777},{"$f":"Foglio1!L150","v":678},617.66666666666663,"F",null,909,null,null,686814280.02155399,686814280.02155399,686814280.02155399,686814280.02155399]
[162,{"$f":"Foglio1!H161","v":754},{"$f":"Foglio1!I161","v":985},{"$f":"Foglio1!J161","v":453},{"$f":"Foglio1!K161","v":680},{"$f":"Foglio1!L161","v":606},579.66666666666663,"F",null,162,null,null,369755427.14550668,369755427.14550668,369755427.14550668,369755427.14550668]
[294,{"$f":"Foglio1!H172","v":1047},{"$f":"Foglio1!I172","v":661},{"$f":"Foglio1!J172","v":788},{"$f":"Foglio1!K172","v":847},{"$f":"Foglio1!L172","v":817},817.33333333333337,"F",null,294,null,null,778700692.08094537,778700692.08094537,778700692.08094537,778700692.08094537]
[351,{"$f":"Foglio1!H183","v":995},{"$f":"Foglio1!I183","v":897},{"$f":"Foglio1!J183","v":874},{"$f":"Foglio1!K183","v":900},{"$f":"Foglio1!L183","v":1069},947.66666666666663,"F",null,351,null,null,484188662.8783223,484188662.8783223,484188662.8783223,484188662.8783223]
[59,{"$f":"Foglio1!H337","v":677},{"$f":"Foglio1!I337","v":674},{"$f":"Foglio1!J337","v":731},{"$f":"Foglio1!K337","v":868},{"$f":"Foglio1!L337","v":808},802.33333333333337,"M",null,59,null,null,65338846.097357318,65338846.097357318,65338846.097357318,65338846.097357318]
[61,{"$f":"Foglio1!H348","v":584},{"$f":"Foglio1!I348","v":676},{"$f":"Foglio1!J348","v":510},{"$f":"Foglio1!K348","v":459},{"$f":"Foglio1!L348","v":485},484.66666666666669,"M",null,61,null,null,164378989.54209766,164378989.54209766,164378989.54209766,164378989.54209766]
[62,{"$f":"Foglio1!H359","v":485},{"$f":"Foglio1!I359","v":201},{"$f":"Foglio1!J359","v":357},{"$f":"Foglio1!K359","v":407},{"$f":"Foglio1!L359","v":490},418,"M",null,62,null,null,191976319.28626198,191976319.28626198,191976319.28626198,191976319.28626198]
[212,{"$f":"Foglio1!H370","v":547},{"$f":"Foglio1!I370","v":533},{"$f":"Foglio1!J370","v":654},{"$f":"Foglio1!K370","v":745},{"$f":"Foglio1!L370","v":598},665.66666666666663,"M",null,212,null,null,479500852.87391329,479500852.87391329,479500852.87391329,479500852.87391329]
[213,{"$f":"Foglio1!H381","v":493},{"$f":"Foglio1!I381","v":504},{"$f":"Foglio1!J381","v":317},{"$f":"Foglio1!K381","v":763},{"$f":"Foglio1!L381","v":626},568.66666666666663,"M",null,213,null,null,796722673.46593666,796722673.46593666,796722673.46593666,796722673.46593666]
[221,{"$f":"Foglio1!H392","v":727},{"$f":"Foglio1!I392","v":725},{"$f":"Foglio1!J392","v":1060},{"$f":"Foglio1!K392","v":717},{"$f":"Foglio1!L392","v":928},901.66666666666663,"M",null,221,null,null,414434834.75627196,414434834.75627196,414434834.75627196,414434834.75627196]
["BM7","OF","SHAM","T1","T2","T3","Total",null,null,"BM7",{"$nulls":5},"Total",null,"T1","T2","T3","Total"]
[63,{"$f":"Foglio1!H129","v":186},{"$f":"Foglio1!I129","v":9},{"$f":"Foglio1!J129","v":35},{"$f":"Foglio1!K129","v":329},{"$f":"Foglio1!L129","v":115},{"$f":"AVERAGE(D67:F67)","v":159.66666666666666},"F",null,63,null,null,392536142.27842671,392536142.27842671,392536142.27842671,392536142.27842671,null,{"$f":"CORREL(M67:M78,D67:D78)","v":-0.59998380079717528},-0.35596603326487603,-0.14339161399276579,{"$f":"CORREL(P67:P78,G67:G78)","v":-0.39331063069370031}]
[64,{"$f":"Foglio1!H140","v":360},{"$f":"Foglio1!I140","v":33},{"$f":"Foglio1!J140","v":66},{"$f":"Foglio1!K140","v":162},{"$f":"Foglio1!L140","v":286},171.33333333333334,"F",null,64,null,null,864109598.80300808,864109598.80300808,864109598.80300808,864109598.80300808]
[909,{"$f":"Foglio1!H151","v":496},{"$f":"Foglio1!I151","v":79},{"$f":"Foglio1!J151","v":61},{"$f":"Foglio1!K151","v":166},{"$f":"Foglio1!L151","v":58},95,"F",null,909,null,null,686814280.02155399,686814280.02155399,686814280.02155399,686814280.02155399]
[162,{"$nulls":6},"F",null,162,null,null,369755427.14550668,369755427.14550668,369755427.14550668,369755427.14550668]
[294,{"$f":"Foglio1!H173","v":335},{"$f":"Foglio1!I173","v":410},{"$f":"Foglio1!J173","v":208},{"$f":"Foglio1!K173","v":355},{"$f":"Foglio1!L173","v":396},319.66666666666669,"F",null,294,null,null,778700692.08094537,778700692.08094537,778700692.08094537,778700692.08094537]
[351,{"$f":"Foglio1!H184","v":201},{"$f":"Foglio1!I184","v":36},{"$f":"Foglio1!J184","v":44},{"$f":"Foglio1!K184","v":174},{"$f":"Foglio1!L184","v":260},159.33333333333334,"F",null,351,null,null,484188662.8783223,484188662.8783223,484188662.8783223,484188662.8783223]
[59,{"$f":"Foglio1!H338","v":236},{"$f":"Foglio1!I338","v":119},{"$f":"Foglio1!J338","v":252},{"$f":"Foglio1!K338","v":130},{"$f":"Foglio1!L338","v":190},190.66666666666666,"M",null,59,null,null,65338846.097357318,65338846.097357318,65338846.097357318,65338846.097357318]
[61,{"$f":"Foglio1!H349","v":392},{"$f":"Foglio1!I349","v":288},{"$f":"Foglio1!J349","v":474},{"$f":"Foglio1!K349","v":539},{"$f":"Foglio1!L349","v":602},538.33333333333337,"M",null,61,null,null,164378989.54209766,164378989.54209766,164378989.54209766,164378989.54209766]
[62,{"$f":"Foglio1!H360","v":217},{"$f":"Foglio1!I360","v":80},{"$f":"Foglio1!J360","v":202},{"$f":"Foglio1!K360","v":259},{"$f":"Foglio1!L360","v":113},191.33333333333334,"M",null,62,null,null,191976319.28626198,191976319.28626198,191976319.28626198,191976319.28626198]
[212,{"$f":"Foglio1!H371","v":166},{"$f":"Foglio1!I371","v":98},{"$f":"Foglio1!J371","v":21},{"$f":"Foglio1!K371","v":160},{"$f":"Foglio1!L371","v":78},86.333333333333329,"M",null,212,null,null,479500852.87391329,479500852.87391329,479500852.87391329,479500852.87391329]
[213,{"$f":"Foglio1!H382","v":401},{"$f":"Foglio1!I382","v":130},{"$f":"Foglio1!J382","v":0},{"$f":"Foglio1!K382","v":60},{"$f":"Foglio1!L382","v":98},52.666666666666664,"M",null,213,null,null,796722673.46593666,796722673.46593666,796722673.46593666,796722673.46593666]
[221,{"$f":"Foglio1!H393","v":226},{"$f":"Foglio1!I393","v":214},{"$f":"Foglio1!J393","v":162},{"$f":"Foglio1!K393","v":454},{"$f":"Foglio1!L393","v":250},288.66666666666669,"M",null,221,null,null,414434834.75627196,414434834.75627196,414434834.75627196,414434834.75627196]
["BM8","OF","SHAM","T1","T2","T3","Total",null,null,"BM8",{"$nulls":5},"Total",null,"T1","T2","T3","Total"]
[63,{"$f":"Foglio1!H130","v":768},{"$f":"Foglio1!I130","v":1507},{"$f":"Foglio1!J130","v":1660},{"$f":"Foglio1!K130","v":791},{"$f":"Foglio1!L130","v":1205},{"$f":"AVERAGE(D80:F80)","v":1218.6666666666667},"F",null,63,null,null,392536142.27842671,392536142.27842671,392536142.27842671,392536142.27842671,null,{"$f":"CORREL(M80:M91,D80:D91)","v":-0.22880186398283142},-0.28899838916966231,-0.30167535106105731,{"$f":"CORREL(P80:P91,G80:G91)","v":-0.30449114631057239}]
[64,{"$f":"Foglio1!H141","v":378},{"$f":"Foglio1!I141","v":658},{"$f":"Foglio1!J141","v":564},{"$f":"Foglio1!K141","v":427},{"$f":"Foglio1!L141","v":519},503.33333333333331,"F",null,64,null,null,864109598.80300808,864109598.80300808,864109598.80300808,864109598.80300808]
[909,{"$f":"Foglio1!H152","v":537},{"$f":"Foglio1!I152","v":1868},{"$f":"Foglio1!J152","v":1585},{"$f":"Foglio1!K152","v":1166},{"$f":"Foglio1!L152","v":1272},1341,"F",null,909,null,null,686814280.02155399,686814280.02155399,686814280.02155399,686814280.02155399]
[162,{"$f":"Foglio1!H163","v":384},{"$f":"Foglio1!I163","v":834},{"$f":"Foglio1!J163","v":499},{"$f":"Foglio1!K163","v":1535},{"$f":"Foglio1!L163","v":1396},1143.3333333333333,"F",null,162,null,null,369755427.14550668,369755427.14550668,369755427.14550668,369755427.14550668]
[294,{"$f":"Foglio1!H174","v":532},{"$f":"Foglio1!I174","v":725},{"$f":"Foglio1!J174","v":583},{"$f":"Foglio1!K174","v":589},{"$f":"Foglio1!L174","v":523},565,"F",null,294,null,null,778700692.08094537,778700692.08094537,778700692.08094537,778700692.08094537]
[351,{"$f":"Foglio1!H185","v":291},{"$f":"Foglio1!I185","v":126},{"$f":"Foglio1!J185","v":361},{"$f":"Foglio1!K185","v":285},{"$f":"Foglio1!L185","v":101},249,"F",null,351,null,null,484188662.8783223,484188662.8783223,484188662.8783223,484188662.8783223]
[59,{"$f":"Foglio1!H339","v":1344},{"$f":"Foglio1!I339","v":1321},{"$f":"Foglio1!J339","v":1140},{"$f":"Foglio1!K339","v":998},{"$f":"Foglio1!L339","v":1088},1075.3333333333333,"M",null,59,null,null,65338846.097357318,65338846.097357318,65338846.097357318,65338846.097357318]
[61,{"$f":"Foglio1!H350","v":784},{"$f":"Foglio1!I350","v":387},{"$f":"Foglio1!J350","v":627},{"$f":"Foglio1!K350","v":374},{"$f":"Foglio1!L350","v":317},439.33333333333331,"M",null,61,null,null,164378989.54209766,164378989.54209766,164378989.54209766,164378989.54209766]
[62,{"$f":"Foglio1!H361","v":838},{"$f":"Foglio1!I361","v":1209},{"$f":"Foglio1!J361","v":1151},{"$f":"Foglio1!K361","v":912},{"$f":"Foglio1!L361","v":1231},1098,"M",null,62,null,null,191976319.28626198,191976319.28626198,191976319.28626198,191976319.28626198]
[212,{"$f":"Foglio1!H372","v":589},{"$f":"Foglio1!I372","v":524},{"$f":"Foglio1!J372","v":651},{"$f":"Foglio1!K372","v":382},{"$f":"Foglio1!L372","v":439},490.66666666666669,"M",null,212,null,null,479500852.87391329,479500852.87391329,479500852.87391329,479500852.87391329]
[213,{"$f":"Foglio1!H383","v":643},{"$f":"Foglio1!I383","v":862},{"$f":"Foglio1!J383","v":452},{"$f":"Foglio1!K383","v":367},{"$f":"Foglio1!L383","v":432},417,"M",null,213,null,null,796722673.46593666,796722673.46593666,796722673.46593666,796722673.46593666]
[221,{"$f":"Foglio1!H394","v":780},{"$f":"Foglio1!I394","v":766},{"$f":"Foglio1!J394","v":357},{"$f":"Foglio1!K394","v":586},{"$f":"Foglio1!L394","v":526},489.66666666666669,"M",null,221,null,null,414434834.75627196,414434834.75627196,414434834.75627196,414434834.75627196]
["BM9","OF","SHAM","T1","T2","T3","Total",null,null,"BM9",{"$nulls":5},"Total",null,"T1","T2","T3","Total"]
[63,{"$f":"Foglio1!H131","v":797},{"$f":"Foglio1!I131","v":2133},{"$f":"Foglio1!J131","v":858},{"$f":"Foglio1!K131","v":1138},{"$f":"Foglio1!L131","v":915},{"$f":"AVERAGE(D93:F93)","v":970.33333333333337},"F",null,63,null,null,392536142.27842671,392536142.27842671,392536142.27842671,392536142.27842671,null,{"$f":"CORREL(M93:M104,D93:D104)","v":0.81179200051033729},0.59470446297044377,0.69466121941974102,{"$f":"CORREL(P93:P104,G93:G104)","v":0.75128004212796307}]
[64,{"$f":"Foglio1!H142","v":961},{"$f":"Foglio1!I142","v":2376},{"$f":"Foglio1!J142","v":1597},{"$f":"Foglio1!K142","v":1253},{"$f":"Foglio1!L142","v":1299},1383,"F",null,64,null,null,864109598.80300808,864109598.80300808,864109598.80300808,864109598.80300808]
[909,{"$f":"Foglio1!H153","v":530},{"$f":"Foglio1!I153","v":623},{"$f":"Foglio1!J153","v":963},{"$f":"Foglio1!K153","v":196},{"$f":"Foglio1!L153","v":577},578.66666666666663,"F",null,909,null,null,686814280.02155399,686814280.02155399,686814280.02155399,686814280.02155399]
[162,{"$f":"Foglio1!H164","v":522},{"$f":"Foglio1!I164","v":2300},{"$f":"Foglio1!J164","v":406},{"$f":"Foglio1!K164","v":980},{"$f":"Foglio1!L164","v":1005},797,"F",null,162,null,null,369755427.14550668,369755427.14550668,369755427.14550668,369755427.14550668]
[294,{"$f":"Foglio1!H175","v":929},{"$f":"Foglio1!I175","v":1014},{"$f":"Foglio1!J175","v":1332},{"$f":"Foglio1!K175","v":1168},{"$f":"Foglio1!L175","v":924},1141.3333333333333,"F",null,294,null,null,778700692.08094537,778700692.08094537,778700692.08094537,778700692.08094537]
[351,{"$f":"Foglio1!H186","v":738},{"$f":"Foglio1!I186","v":1960},{"$f":"Foglio1!J186","v":1378},{"$f":"Foglio1!K186","v":1151},{"$f":"Foglio1!L186","v":1218},1249,"F",null,351,null,null,484188662.8783223,484188662.8783223,484188662.8783223,484188662.8783223]
[59,{"$f":"Foglio1!H340","v":88},{"$f":"Foglio1!I340","v":590},{"$f":"Foglio1!J340","v":335},{"$f":"Foglio1!K340","v":283},{"$f":"Foglio1!L340","v":327},315,null,null,59,null,null,65338846.097357318,65338846.097357318,65338846.097357318,65338846.097357318]
[61,{"$f":"Foglio1!H351","v":384},{"$f":"Foglio1!I351","v":875},{"$f":"Foglio1!J351","v":480},{"$f":"Foglio1!K351","v":499},{"$f":"Foglio1!L351","v":456},478.33333333333331,null,null,61,null,null,164378989.54209766,164378989.54209766,164378989.54209766,164378989.54209766]
[62,{"$f":"Foglio1!H362","v":169},{"$f":"Foglio1!I362","v":382},{"$f":"Foglio1!J362","v":523},{"$f":"Foglio1!K362","v":296},{"$f":"Foglio1!L362","v":336},385,null,null,62,null,null,191976319.28626198,191976319.28626198,191976319.28626198,191976319.28626198]
[212,{"$f":"Foglio1!H373","v":1014},{"$f":"Foglio1!I373","v":1864},{"$f":"Foglio1!J373","v":1674},{"$f":"Foglio1!K373","v":1308},{"$f":"Foglio1!L373","v":1291},1424.3333333333333,null,null,212,null,null,479500852.87391329,479500852.87391329,479500852.87391329,479500852.87391329]
[213,{"$f":"Foglio1!H384","v":682},{"$f":"Foglio1!I384","v":1492},{"$f":"Foglio1!J384","v":2089},{"$f":"Foglio1!K384","v":1456},{"$f":"Foglio1!L384","v":1360},1635,null,null,213,null,null,796722673.46593666,796722673.46593666,796722673.46593666,796722673.46593666]
[221,{"$f":"Foglio1!H395","v":488},{"$f":"Foglio1!I395","v":698},{"$f":"Foglio1!J395","v":854},{"$f":"Foglio1!K395","v":420},{"$f":"Foglio1!L395","v":517},597,null,null,221,null,null,414434834.75627196,414434834.75627196,414434834.75627196,414434834.75627196]
["BM10","OF","SHAM","T1","T2","T3","Total",null,null,"BM10",{"$nulls":5},"Total",null,"T1","T2","T3","Total"]
[63,{"$f":"Foglio1!H132","v":273},{"$f":"Foglio1!I132","v":9},{"$f":"Foglio1!J132","v":24},{"$f":"Foglio1!K132","v":165},{"$f":"Foglio1!L132","v":76},{"$f":"AVERAGE(D106:F106)","v":88.333333333333329},"F",null,63,null,null,392536142.27842671,392536142.27842671,392536142.27842671,392536142.27842671,null,{"$f":"CORREL(M106:M117,D106:D117)","v":-0.38586775879548085},{"$f":"CORREL(N106:N117,E106:E117)","v":-0.43973861000592013},-0.56463707850220424,{"$f":"CORREL(P106:P117,G106:G117)","v":-0.52554718061796424}]
[64,{"$f":"Foglio1!H143","v":445},{"$f":"Foglio1!I143","v":67},{"$f":"Foglio1!J143","v":145},{"$f":"Foglio1!K143","v":170},{"$f":"Foglio1!L143","v":177},164,"F",null,64,null,null,864109598.80300808,864109598.80300808,864109598.80300808,864109598.80300808]
[909,{"$f":"Foglio1!H154","v":223},{"$f":"Foglio1!I154","v":46},{"$f":"Foglio1!J154","v":77},{"$f":"Foglio1!K154","v":208},{"$f":"Foglio1!L154","v":79},121.33333333333333,"F",null,909,null,null,686814280.02155399,686814280.02155399,686814280.02155399,686814280.02155399]
[162,{"$nulls":6},"F",null,162,null,null,369755427.14550668,369755427.14550668,369755427.14550668,369755427.14550668]
[294,{"$f":"Foglio1!H176","v":414},{"$f":"Foglio1!I176","v":388},{"$f":"Foglio1!J176","v":155},{"$f":"Foglio1!K176","v":326},{"$f":"Foglio1!L176","v":174},218.33333333333334,"F",null,294,null,null,778700692.08094537,778700692.08094537,778700692.08094537,778700692.08094537]
[351,{"$f":"Foglio1!H187","v":267},{"$f":"Foglio1!I187","v":43},{"$f":"Foglio1!J187","v":27},{"$f":"Foglio1!K187","v":164},{"$f":"Foglio1!L187","v":137},109.33333333333333,"F",null,351,null,null,484188662.8783223,484188662.8783223,484188662.8783223,484188662.8783223]
[59,{"$f":"Foglio1!H341","v":445},{"$f":"Foglio1!I341","v":249},{"$f":"Foglio1!J341","v":199},{"$f":"Foglio1!K341","v":347},{"$f":"Foglio1!L341","v":267},271,"M",null,59,null,null,65338846.097357318,65338846.097357318,65338846.097357318,65338846.097357318]
[61,{"$f":"Foglio1!H352","v":304},{"$f":"Foglio1!I352","v":388},{"$f":"Foglio1!J352","v":261},{"$f":"Foglio1!K352","v":497},{"$f":"Foglio1!L352","v":722},493.33333333333331,"M",null,61,null,null,164378989.54209766,164378989.54209766,164378989.54209766,164378989.54209766]
[62,{"$f":"Foglio1!H363","v":450},{"$f":"Foglio1!I363","v":20},{"$f":"Foglio1!J363","v":86},{"$f":"Foglio1!K363","v":163},{"$f":"Foglio1!L363","v":247},165.33333333333334,"M",null,62,null,null,191976319.28626198,191976319.28626198,191976319.28626198,191976319.28626198]
[212,{"$f":"Foglio1!H374","v":480},{"$f":"Foglio1!I374","v":52},{"$f":"Foglio1!J374","v":46},{"$f":"Foglio1!K374","v":56},{"$f":"Foglio1!L374","v":98},66.666666666666671,"M",null,212,null,null,479500852.87391329,479500852.87391329,479500852.87391329,479500852.87391329]
[213,{"$f":"Foglio1!H385","v":956},{"$f":"Foglio1!I385","v":118},{"$f":"Foglio1!J385","v":0},{"$f":"Foglio1!K385","v":9},{"$f":"Foglio1!L385","v":42},17,"M",null,213,null,null,796722673.46593666,796722673.46593666,796722673.46593666,796722673.46593666]
[221,{"$f":"Foglio1!H396","v":636},{"$f":"Foglio1!I396","v":266},{"$f":"Foglio1!J396","v":117},{"$f":"Foglio1!K396","v":501},{"$f":"Foglio1!L396","v":220},279.33333333333331,"M",null,221,null,null,414434834.75627196,414434834.75627196,414434834.75627196,414434834.75627196]